Uber Exif Photo
Make : Leica Camera AG
Camera Model Name : M9 Digital Camera
Software : 1.138
Modify Date : 2010:11:28 11:23:55
Exposure Time : 1/90
F Number : 3.4
Exposure Program : Aperture-priority AE
ISO : 500
Sensitivity Type : Unknown
Date/Time Original : 2010:11:10 08:04:38
Create Date : 2010:11:10 08:04:38
Shutter Speed Value : 1/90
Aperture Value : 3.4
Exposure Compensation : 0
Max Aperture Value : 1.4
Metering Mode : Center-weighted average
Light Source : Unknown
Focal Length : 35.0 mm
Contrast : Normal
Sharpening : Normal
Saturation : Normal
White Balance : Auto
JPEG Quality : Fine
WB RGB Levels : 0.5048842871 1 0.8706094904
User Profile : Antique 3
JPEG Size : 5216x3472
Firmware Version : 1.138
Base ISO : 160
Sensor Width : 5270
Sensor Height : 3516
Sensor Bit Depth : 14
Camera Temperature : 26 C
Lens Type : Summilux-M 35mm f/1.4 ASPH.
Approximate F Number : 3.5
Measured LV : 2.59
External Sensor Brightness Value : 1.78
Scene Type : Directly photographed
Exposure Mode : Manual
Digital Zoom Ratio : 0
Focal Length In 35mm Format : 35 mm
Scene Capture Type : Standard
Serial Number : 3970368
Lens Model : Leica Summilux-M 35mm f/1.4 ASPH.
Maker Note Safety : Safe
Profile Description : sRGB IEC61966-2.1
Date/Time Digitized : 2010:11:10 08:04:38+02:00
Exif Image Width : 4131
Exif Image Height : 3167
Creator Tool : Adobe Photoshop Lightroom
Label : Red
Rating : 5
Lens : Leica Summilux-M 35mm f/1.4 ASPH.
Version : 6.2
Process Version : 5.7
Color Temperature : 4400
Tint : 0
Exposure : 0.00
Shadows : 0
Brightness : 0
Sharpness : 84
Luminance Smoothing : 43
Color Noise Reduction : 0
Chromatic Aberration R : 0
Chromatic Aberration B : 0
Vignette Amount : 0
Shadow Tint : 0
Red Hue : 0
Red Saturation : 0
Green Hue : 0
Green Saturation : 0
Blue Hue : 0
Blue Saturation : 0
Fill Light : 0
Vibrance : 0
Highlight Recovery : 0
Clarity : 0
Defringe : 0
Hue Adjustment Red : 0
Hue Adjustment Orange : 0
Hue Adjustment Yellow : 0
Hue Adjustment Green : 0
Hue Adjustment Aqua : 0
Hue Adjustment Blue : 0
Hue Adjustment Purple : 0
Hue Adjustment Magenta : 0
Saturation Adjustment Red : 0
Saturation Adjustment Orange : 0
Saturation Adjustment Yellow : 0
Saturation Adjustment Green : +9
Saturation Adjustment Aqua : +77
Saturation Adjustment Blue : +81
Saturation Adjustment Purple : +17
Saturation Adjustment Magenta : 0
Luminance Adjustment Red : 0
Luminance Adjustment Orange : 0
Luminance Adjustment Yellow : 0
Luminance Adjustment Green : 0
Luminance Adjustment Aqua : -17
Luminance Adjustment Blue : -32
Luminance Adjustment Purple : -9
Luminance Adjustment Magenta : 0
Split Toning Shadow Hue : 0
Split Toning Shadow Saturation : 0
Split Toning Highlight Hue : 0
Split Toning Highlight Saturation : 0
Split Toning Balance : 0
Parametric Shadows : 0
Parametric Darks : 0
Parametric Lights : 0
Parametric Highlights : 0
Parametric Shadow Split : 25
Parametric Midtone Split : 50
Parametric Highlight Split : 75
Sharpen Radius : +1.0
Sharpen Detail : 25
Sharpen Edge Masking : 0
Post Crop Vignette Amount : -98
Post Crop Vignette Midpoint : 50
Post Crop Vignette Feather : 50
Post Crop Vignette Roundness : 0
Post Crop Vignette Style : Highlight Priority
Post Crop Vignette Highlight Contrast : 0
Grain Amount : 0
Luminance Noise Reduction Detail : 60
Luminance Noise Reduction Contrast : 0
Lens Profile Enable : 0
Lens Manual Distortion Amount : 0
Perspective Vertical : 0
Perspective Horizontal : 0
Perspective Rotate : 0.0
Perspective Scale : 100
Convert To Grayscale : False
Tone Curve Name : Linear
Camera Profile : Embedded
Lens Profile Setup : LensDefaults
Has Settings : True
Crop Top : 0.011716
Crop Left : 0.184362
Crop Bottom : 1
Crop Right : 0.936008
Crop Angle : 3.70596
Crop Constrain To Warp : 0
Crop Width : 4131
Crop Height : 3167
Crop Unit : pixels
Has Crop : True
Already Applied : True
Flash Fired : False
Flash Return : No return detection
Flash Mode : Unknown
Flash Function : False
Flash Red Eye Mode : False
Tone Curve : 0, 0, 255, 255
Image Width : 300
Image Height : 230
Bits Per Sample : 8
Color Components : 3
Aperture : 3.4
Blue Balance : 0.870609
Image Size : 300x230
Lens ID : Leica Summilux-M 35mm f/1.4 ASPH.
Megapixels : 0.069
Red Balance : 0.504884
Scale Factor To 35 mm Equivalent : 1.0
Shutter Speed : 1/90
Flash : No Flash
Circle Of Confusion : 0.030 mm
Field Of View : 54.4 deg
Focal Length : 35.0 mm (35 mm equivalent: 35.0 mm)
Hyperfocal Distance : 11.99 m
Light Value : 7.7