Uber Exif Photo
Make : Leica Camera AG
Camera Model Name : M9 Digital Camera
Software : 1.138
Modify Date : 2010:11:26 14:48:19
Exposure Time : 1/15
F Number : 3.4
Exposure Program : Aperture-priority AE
ISO : 800
Sensitivity Type : Unknown
Date/Time Original : 2010:11:25 18:18:14
Create Date : 2010:11:25 18:18:14
Shutter Speed Value : 1/15
Aperture Value : 3.4
Exposure Compensation : 0
Max Aperture Value : 2.0
Metering Mode : Center-weighted average
Light Source : Unknown
Focal Length : 35.0 mm
Contrast : Normal
Sharpening : Normal
Saturation : Normal
White Balance : Auto
JPEG Quality : Fine
WB RGB Levels : 0.4841321435 1 0.6025523151
User Profile : Normal
JPEG Size : 5216x3472
Firmware Version : 1.138
Base ISO : 160
Sensor Width : 5270
Sensor Height : 3516
Sensor Bit Depth : 14
Camera Temperature : 21 C
Lens Type : Summicron-M 35mm f/2 ASPH.
Approximate F Number : 3.5
Measured LV : 0.73
External Sensor Brightness Value : -0.24
Scene Type : Directly photographed
Exposure Mode : Manual
Digital Zoom Ratio : 0
Focal Length In 35mm Format : 35 mm
Scene Capture Type : Standard
Serial Number : 3909980
Lens Model : Leica Summicron-M 35mm f/2 ASPH.
Maker Note Safety : Safe
Profile Description : sRGB IEC61966-2.1
Date/Time Digitized : 2010:11:25 18:18:14+09:00
Exif Image Width : 3468
Exif Image Height : 5212
Creator Tool : Adobe Photoshop Lightroom
Lens : Leica Summicron-M 35mm f/2 ASPH.
Version : 6.2
Process Version : 5.7
Color Temperature : 2000
Tint : -50
Exposure : +0.80
Shadows : 0
Brightness : +43
Sharpness : 25
Luminance Smoothing : 15
Color Noise Reduction : 25
Chromatic Aberration R : 0
Chromatic Aberration B : 0
Vignette Amount : -51
Vignette Midpoint : 50
Shadow Tint : +100
Red Hue : +100
Red Saturation : +29
Green Hue : -100
Green Saturation : 0
Blue Hue : -40
Blue Saturation : -7
Fill Light : 16
Highlight Recovery : 0
Clarity : +25
Defringe : 0
Gray Mixer Red : -10
Gray Mixer Orange : -17
Gray Mixer Yellow : -19
Gray Mixer Green : -24
Gray Mixer Aqua : -18
Gray Mixer Blue : +7
Gray Mixer Purple : +11
Gray Mixer Magenta : 0
Split Toning Shadow Hue : 231
Split Toning Shadow Saturation : 10
Split Toning Highlight Hue : 47
Split Toning Highlight Saturation : 10
Split Toning Balance : 0
Parametric Shadows : 0
Parametric Darks : +36
Parametric Lights : -40
Parametric Highlights : 0
Parametric Shadow Split : 25
Parametric Midtone Split : 50
Parametric Highlight Split : 75
Sharpen Radius : +1.0
Sharpen Detail : 25
Sharpen Edge Masking : 0
Post Crop Vignette Amount : 0
Grain Amount : 0
Luminance Noise Reduction Detail : 50
Color Noise Reduction Detail : 50
Luminance Noise Reduction Contrast : 0
Lens Profile Enable : 0
Lens Manual Distortion Amount : 0
Perspective Vertical : 0
Perspective Horizontal : 0
Perspective Rotate : 0.0
Perspective Scale : 100
Convert To Grayscale : True
Tone Curve Name : Medium Contrast
Camera Profile : ACR 3.4
Lens Profile Setup : LensDefaults
Has Settings : True
Has Crop : False
Already Applied : True
Flash Fired : False
Flash Return : No return detection
Flash Mode : Unknown
Flash Function : False
Flash Red Eye Mode : False
Tone Curve : 0, 0, 32, 22, 64, 56, 128, 128, 192, 196, 255, 255
Gradient Based Corr What : Correction
Gradient Based Corr Amount : 1.000000
Gradient Based Corr Active : true
Gradient Based Corr Exposure : 0.050000
Gradient Based Corr Saturation : -1.000000
Gradient Based Corr Contrast : 0.475000
Gradient Based Corr Clarity : 0.775000
Gradient Based Corr Sharpness : 0.000000
Gradient Based Corr Brightness : 0.000000
Gradient Based Corr Toning Hue : 34.000000
Gradient Based Corr Toning Saturation : 0.038000
Gradient Based Corr Mask What : Mask/Gradient
Gradient Based Corr Mask Value : 1.000000
Gradient Based Corr Mask Zero X : 0.382271
Gradient Based Corr Mask Zero Y : 0.449355
Gradient Based Corr Mask Full X : -0.085873
Gradient Based Corr Mask Full Y : 0.467772
Image Width : 200
Image Height : 300
Bits Per Sample : 8
Color Components : 3
Aperture : 3.4
Blue Balance : 0.602552
Image Size : 200x300
Lens ID : Leica Summicron-M 35mm f/2 ASPH.
Megapixels : 0.060
Red Balance : 0.484132
Scale Factor To 35 mm Equivalent : 1.0
Shutter Speed : 1/15
Flash : No Flash
Circle Of Confusion : 0.030 mm
Field Of View : 54.4 deg
Focal Length : 35.0 mm (35 mm equivalent: 35.0 mm)
Hyperfocal Distance : 11.99 m
Light Value : 4.4