Uber Exif Photo
Make : Leica Camera AG
Camera Model Name : M8 Digital Camera
Software : 1.102
Modify Date : 2007:08:31 23:45:19
Exposure Time : 1/180
Exposure Program : Aperture-priority AE
ISO : 160
Date/Time Original : 2007:06:22 01:58:41
Create Date : 2007:06:22 01:58:41
Shutter Speed Value : 1/180
Exposure Compensation : 0
Max Aperture Value : 2.0
Metering Mode : Center-weighted average
Light Source : Unknown
Focal Length : 90.0 mm
Scene Type : Directly photographed
White Balance : Auto
Digital Zoom Ratio : 0
Focal Length In 35mm Format : 121 mm
Scene Capture Type : Standard
Time Zone Offset : -7 -7
Profile Description : Adobe RGB (1998)
Orientation : Horizontal (normal)
Date/Time Digitized : 2007:06:22 01:58:41-07:00
Creator Tool : Adobe Photoshop Lightroom
Serial Number : 3107553
Version : 1.0
Color Temperature : 4986
Tint : -19
Exposure : +0.30
Shadows : 58
Brightness : +98
Contrast : +100
Saturation : -54
Sharpness : 10
Luminance Smoothing : 0
Color Noise Reduction : 25
Chromatic Aberration R : 0
Chromatic Aberration B : 0
Vignette Amount : 0
Shadow Tint : 0
Red Hue : 0
Red Saturation : 0
Green Hue : 0
Green Saturation : 0
Blue Hue : 0
Blue Saturation : 0
Fill Light : 6
Vibrance : -26
Highlight Recovery : 100
Clarity : 0
Defringe : 0
Hue Adjustment Red : 0
Hue Adjustment Orange : -1
Hue Adjustment Yellow : 0
Hue Adjustment Green : 0
Hue Adjustment Aqua : 0
Hue Adjustment Blue : 0
Hue Adjustment Purple : 0
Hue Adjustment Magenta : 0
Saturation Adjustment Red : -7
Saturation Adjustment Orange : -10
Saturation Adjustment Yellow : 0
Saturation Adjustment Green : 0
Saturation Adjustment Aqua : 0
Saturation Adjustment Blue : 0
Saturation Adjustment Purple : 0
Saturation Adjustment Magenta : 0
Luminance Adjustment Red : -100
Luminance Adjustment Orange : +79
Luminance Adjustment Yellow : -100
Luminance Adjustment Green : -10
Luminance Adjustment Aqua : -1
Luminance Adjustment Blue : 0
Luminance Adjustment Purple : 0
Luminance Adjustment Magenta : 0
Split Toning Shadow Hue : 0
Split Toning Shadow Saturation : 0
Split Toning Highlight Hue : 0
Split Toning Highlight Saturation : 0
Split Toning Balance : 0
Parametric Shadows : -64
Parametric Darks : +40
Parametric Lights : -13
Parametric Highlights : +80
Parametric Shadow Split : 25
Parametric Midtone Split : 50
Parametric Highlight Split : 75
Sharpen Radius : +1.0
Sharpen Detail : 25
Sharpen Edge Masking : 0
Convert To Grayscale : False
Tone Curve Name : Medium Contrast
Camera Profile : ACR 3.3
Has Settings : True
Crop Top : 0
Crop Left : 0.166082
Crop Bottom : 1
Crop Right : 0.847953
Crop Angle : 0
Crop Width : 2670
Crop Height : 2634
Crop Unit : pixels
Has Crop : True
Already Applied : True
Flash Fired : False
Flash Return : No return detection
Flash Mode : Auto
Flash Function : False
Flash Red Eye Mode : False
Tone Curve : 0, 0, 32, 22, 64, 56, 128, 128, 192, 196, 255, 255
Saved Settings Name : Import
Saved Settings Type : Snapshot
Saved Settings Parameters White Balance : As Shot
Saved Settings Parameters Incremental Temperature:
0
Saved Settings Parameters Incremental Tint : 0
Saved Settings Parameters Exposure : 0.00
Saved Settings Parameters Shadows : 0
Saved Settings Parameters Brightness : 0
Saved Settings Parameters Contrast : 0
Saved Settings Parameters Saturation : 0
Saved Settings Parameters Sharpness : 0
Saved Settings Parameters Luminance Smoothing : 0
Saved Settings Parameters Color Noise Reduction:
Saved Settings Parameters Chromatic Aberration R:
Saved Settings Parameters Chromatic Aberration B:
Saved Settings Parameters Vignette Amount : 0
Saved Settings Parameters Shadow Tint : 0
Saved Settings Parameters Red Hue : 0
Saved Settings Parameters Red Saturation : 0
Saved Settings Parameters Green Hue : 0
Saved Settings Parameters Green Saturation : 0
Saved Settings Parameters Blue Hue : 0
Saved Settings Parameters Blue Saturation : 0
Saved Settings Parameters Fill Light : 0
Saved Settings Parameters Vibrance : 0
Saved Settings Parameters Highlight Recovery : 0
Saved Settings Parameters Clarity : 0
Saved Settings Parameters Defringe : 0
Saved Settings Parameters Hue Adjustment Red : 0
Saved Settings Parameters Hue Adjustment Orange:
Saved Settings Parameters Hue Adjustment Yellow:
Saved Settings Parameters Hue Adjustment Green:
Saved Settings Parameters Hue Adjustment Aqua : 0
Saved Settings Parameters Hue Adjustment Blue : 0
Saved Settings Parameters Hue Adjustment Purple:
Saved Settings Parameters Hue Adjustment Magenta:
Saved Settings Parameters Saturation Adjustment Red:
Saved Settings Parameters Saturation Adjustment Orange:
Saved Settings Parameters Saturation Adjustment Yellow:
Saved Settings Parameters Saturation Adjustment Green:
Saved Settings Parameters Saturation Adjustment Aqua:
Saved Settings Parameters Saturation Adjustment Blue:
Saved Settings Parameters Saturation Adjustment Purple:
Saved Settings Parameters Saturation Adjustment Magenta:
Saved Settings Parameters Luminance Adjustment Red:
Saved Settings Parameters Luminance Adjustment Orange:
Saved Settings Parameters Luminance Adjustment Yellow:
Saved Settings Parameters Luminance Adjustment Green:
Saved Settings Parameters Luminance Adjustment Aqua:
Saved Settings Parameters Luminance Adjustment Blue:
Saved Settings Parameters Luminance Adjustment Purple:
Saved Settings Parameters Luminance Adjustment Magenta:
Saved Settings Parameters Split Toning Shadow Hue:
Saved Settings Parameters Split Toning Shadow Saturation:
Saved Settings Parameters Split Toning Highlight Hue:
Saved Settings Parameters Split Toning Highlight Saturation:
Saved Settings Parameters Split Toning Balance:
Saved Settings Parameters Parametric Shadows : 0
Saved Settings Parameters Parametric Darks : 0
Saved Settings Parameters Parametric Lights : 0
Saved Settings Parameters Parametric Highlights:
Saved Settings Parameters Parametric Shadow Split:
25
Saved Settings Parameters Parametric Midtone Split:
50
Saved Settings Parameters Parametric Highlight Split:
75
Saved Settings Parameters Sharpen Radius : +1.0
Saved Settings Parameters Sharpen Detail : 25
Saved Settings Parameters Sharpen Edge Masking:
Saved Settings Parameters Convert To Grayscale:
False
Saved Settings Parameters Tone Curve Name : Linear
Saved Settings Parameters Camera Profile : Embedded
Saved Settings Parameters Tone Curve : 0, 0, 255, 255
Image Width : 296
Image Height : 300
Bits Per Sample : 8
Color Components : 3
Image Size : 296x300
Megapixels : 0.089
Scale Factor To 35 mm Equivalent : 1.3
Shutter Speed : 1/180
Flash : Auto, Did not fire
Circle Of Confusion : 0.022 mm
Field Of View : 16.9 deg
Focal Length : 90.0 mm (35 mm equivalent: 121.0 mm)