Uber Exif Photo
Photometric Interpretation : RGB
Make : Leica Camera AG
Camera Model Name : M9 Digital Camera
Orientation : Horizontal (normal)
Software : Adobe Photoshop CS5 Macintosh
Modify Date : 2010:11:21 14:07:03
Exposure Time : 1/1414
F Number : 3.4
Exposure Program : Aperture-priority AE
ISO : 160
Date/Time Original : 2010:03:31 20:46:10
Create Date : 2010:03:31 20:46:10
Shutter Speed Value : 1/1448
Aperture Value : 3.4
Exposure Compensation : +0.332
Max Aperture Value : 1.0
Metering Mode : Center-weighted average
Light Source : Daylight
Flash : No Flash
Focal Length : 0.0 mm
Color Space : sRGB
Exif Image Width : 3472
Exif Image Height : 5216
Scene Type : Directly photographed
Custom Rendered : Normal
Exposure Mode : Manual
White Balance : Manual
Digital Zoom Ratio : 0
Focal Length In 35mm Format : 0 mm
Scene Capture Type : Standard
Contrast : Normal
Saturation : Normal
Sharpness : Normal
Profile Description : sRGB IEC61966-2.1
Creator Tool : Adobe Photoshop CS5 Macintosh
Rating : 0
Raw File Name : L1003520.JPG
Version : 6.0
Process Version : 5.7
Incremental Temperature : +10
Incremental Tint : +46
Exposure : -0.15
Shadows : 35
Brightness : 0
Luminance Smoothing : 0
Color Noise Reduction : 0
Chromatic Aberration R : 0
Chromatic Aberration B : 0
Vignette Amount : 0
Shadow Tint : 0
Red Hue : 0
Red Saturation : 0
Green Hue : 0
Green Saturation : 0
Blue Hue : 0
Blue Saturation : 0
Fill Light : 44
Vibrance : 0
Highlight Recovery : 0
Clarity : +11
Defringe : 0
Hue Adjustment Red : 0
Hue Adjustment Orange : 0
Hue Adjustment Yellow : 0
Hue Adjustment Green : 0
Hue Adjustment Aqua : 0
Hue Adjustment Blue : 0
Hue Adjustment Purple : 0
Hue Adjustment Magenta : 0
Saturation Adjustment Red : 0
Saturation Adjustment Orange : 0
Saturation Adjustment Yellow : 0
Saturation Adjustment Green : 0
Saturation Adjustment Aqua : 0
Saturation Adjustment Blue : 0
Saturation Adjustment Purple : 0
Saturation Adjustment Magenta : 0
Luminance Adjustment Red : 0
Luminance Adjustment Orange : 0
Luminance Adjustment Yellow : 0
Luminance Adjustment Green : 0
Luminance Adjustment Aqua : 0
Luminance Adjustment Blue : 0
Luminance Adjustment Purple : 0
Luminance Adjustment Magenta : 0
Split Toning Shadow Hue : 0
Split Toning Shadow Saturation : 0
Split Toning Highlight Hue : 0
Split Toning Highlight Saturation : 0
Split Toning Balance : 0
Parametric Shadows : 0
Parametric Darks : 0
Parametric Lights : 0
Parametric Highlights : 0
Parametric Shadow Split : 25
Parametric Midtone Split : 50
Parametric Highlight Split : 75
Sharpen Radius : +1.0
Sharpen Detail : 25
Sharpen Edge Masking : 0
Post Crop Vignette Amount : 0
Grain Amount : 0
Convert To Grayscale : False
Tone Curve Name : Linear
Camera Profile : Embedded
Has Settings : True
Has Crop : False
Already Applied : False
Color Mode : RGB
ICC Profile Name : sRGB IEC61966-2.1
Date Created : 2010:03:31 20:46:10
Format : image/jpeg
Tone Curve : 0, 0, 255, 255
Image Width : 200
Image Height : 300
Bits Per Sample : 8
Color Components : 3
Aperture : 3.4
Image Size : 200x300
Megapixels : 0.060
Scale Factor To 35 mm Equivalent : 1.0
Shutter Speed : 1/1414
Circle Of Confusion : 0.030 mm
Focal Length : 0.0 mm (35 mm equivalent: 0.0 mm)
Hyperfocal Distance : 0.00 m
Light Value : 13.3