Uber Exif Photo
Make : Leica Camera AG
Camera Model Name : M8 Digital Camera
Software : Adobe Photoshop Lightroom
Modify Date : 2010:11:17 20:36:46
Exposure Time : 1/45
Exposure Program : Aperture-priority AE
ISO : 640
Sensitivity Type : Unknown
Date/Time Original : 2008:10:04 11:19:48
Create Date : 2008:10:04 11:19:48
Shutter Speed Value : 1/45
Exposure Compensation : 0
Max Aperture Value : 2.8
Metering Mode : Center-weighted average
Light Source : Unknown
Focal Length : 24.0 mm
Scene Type : Directly photographed
White Balance : Auto
Digital Zoom Ratio : 0
Focal Length In 35mm Format : 32 mm
Scene Capture Type : Standard
Serial Number : 3195494
Profile Description : sRGB IEC61966-2.1
Date/Time Digitized : 2008:10:04 11:19:48-07:00
Exif Image Width : 3750
Exif Image Height : 2522
Creator Tool : Adobe Photoshop Lightroom
Rating : 5
Version : 6.3
Process Version : 5.7
Incremental Temperature : 0
Incremental Tint : 0
Exposure : 0.00
Shadows : 0
Brightness : +5
Contrast : 0
Saturation : 0
Sharpness : 0
Luminance Smoothing : 0
Color Noise Reduction : 0
Chromatic Aberration R : 0
Chromatic Aberration B : 0
Vignette Amount : 0
Shadow Tint : 0
Red Hue : 0
Red Saturation : 0
Green Hue : 0
Green Saturation : 0
Blue Hue : 0
Blue Saturation : 0
Fill Light : 0
Vibrance : +18
Highlight Recovery : 0
Clarity : +30
Defringe : 0
Hue Adjustment Red : 0
Hue Adjustment Orange : 0
Hue Adjustment Yellow : 0
Hue Adjustment Green : 0
Hue Adjustment Aqua : 0
Hue Adjustment Blue : 0
Hue Adjustment Purple : 0
Hue Adjustment Magenta : 0
Saturation Adjustment Red : 0
Saturation Adjustment Orange : 0
Saturation Adjustment Yellow : 0
Saturation Adjustment Green : 0
Saturation Adjustment Aqua : 0
Saturation Adjustment Blue : 0
Saturation Adjustment Purple : 0
Saturation Adjustment Magenta : 0
Luminance Adjustment Red : 0
Luminance Adjustment Orange : 0
Luminance Adjustment Yellow : 0
Luminance Adjustment Green : 0
Luminance Adjustment Aqua : 0
Luminance Adjustment Blue : 0
Luminance Adjustment Purple : 0
Luminance Adjustment Magenta : 0
Split Toning Shadow Hue : 0
Split Toning Shadow Saturation : 0
Split Toning Highlight Hue : 0
Split Toning Highlight Saturation : 0
Split Toning Balance : 0
Parametric Shadows : 0
Parametric Darks : 0
Parametric Lights : 0
Parametric Highlights : 0
Parametric Shadow Split : 25
Parametric Midtone Split : 50
Parametric Highlight Split : 75
Sharpen Radius : +1.0
Sharpen Detail : 25
Sharpen Edge Masking : 0
Post Crop Vignette Amount : -14
Post Crop Vignette Midpoint : 19
Post Crop Vignette Feather : 82
Post Crop Vignette Roundness : -16
Post Crop Vignette Style : Highlight Priority
Post Crop Vignette Highlight Contrast : 0
Grain Amount : 5
Grain Size : 25
Grain Frequency : 50
Lens Profile Enable : 0
Lens Manual Distortion Amount : 0
Perspective Vertical : 0
Perspective Horizontal : 0
Perspective Rotate : 0.0
Perspective Scale : 100
Convert To Grayscale : False
Tone Curve Name : Custom
Camera Profile : Embedded
Lens Profile Setup : LensDefaults
Has Settings : True
Has Crop : False
Already Applied : True
Flash Fired : False
Flash Return : No return detection
Flash Mode : Auto
Flash Function : False
Flash Red Eye Mode : False
Tone Curve : 0, 0, 42, 38, 178, 188, 218, 229, 234, 242, 255, 255
Paint Correction What : Correction
Paint Correction Amount : 1.000000
Paint Correction Active : true
Paint Correction Exposure : 0.000000
Paint Correction Saturation : 0.000000
Paint Correction Contrast : 0.000000
Paint Correction Clarity : 0.105882
Paint Correction Sharpness : 0.000000
Paint Correction Brightness : 0.000000
Paint Correction Toning Hue : 230.000000
Paint Correction Toning Saturation : 0.000000
Paint Correction Mask What : Mask/Paint
Paint Correction Mask Value : 1.000000
Paint Correction Mask Radius : 0.053260
Paint Correction Mask Flow : 1.000000
Paint Correction Mask Center Weight : 0.173904
Image Width : 300
Image Height : 202
Bits Per Sample : 8
Color Components : 3
Image Size : 300x202
Megapixels : 0.061
Scale Factor To 35 mm Equivalent : 1.3
Shutter Speed : 1/45
Flash : Auto, Did not fire
Circle Of Confusion : 0.023 mm
Field Of View : 58.7 deg
Focal Length : 24.0 mm (35 mm equivalent: 32.0 mm)