Uber Exif Photo
Make : LEICA
Camera Model Name : V-LUX 1
Orientation : Horizontal (normal)
Software : Adobe Photoshop CS3 Macintosh
Modify Date : 2010:11:11 18:35:13
Exposure Time : 1/80
F Number : 3.6
Exposure Program : Program AE
ISO : 100
Date/Time Original : 2009:05:23 08:55:08
Create Date : 2009:05:23 08:55:08
Shutter Speed Value : 1/80
Aperture Value : 3.6
Exposure Compensation : -0.33
Max Aperture Value : 2.8
Metering Mode : Multi-segment
Light Source : Unknown
Focal Length : 25.7 mm
Color Space : Uncalibrated
Exif Image Width : 1356
Exif Image Height : 1800
Sensing Method : One-chip color area
Scene Type : Directly photographed
Custom Rendered : Custom
Exposure Mode : Auto
White Balance : Auto
Digital Zoom Ratio : 0
Focal Length In 35mm Format : 174 mm
Scene Capture Type : Standard
Gain Control : None
Contrast : Normal
Saturation : Normal
Sharpness : Soft
Profile Description : Adobe RGB (1998)
Photometric Interpretation : RGB
Samples Per Pixel : 3
Date/Time Digitized : 2009:05:23 08:55:08-07:00
Creator Tool : Adobe Photoshop CS3 Macintosh
Already Applied : True
Has Crop : True
Crop Angle : 0
Crop Right : 0.553341
Crop Bottom : 0.759375
Crop Left : 0.162954
Crop Top : 0.06875
Has Settings : True
Camera Profile : Embedded
Tone Curve Name : Linear
Convert To Grayscale : False
Post Crop Vignette Amount : 0
Sharpen Edge Masking : 0
Sharpen Detail : 25
Sharpen Radius : +1.0
Parametric Highlight Split : 75
Parametric Midtone Split : 50
Parametric Shadow Split : 25
Parametric Highlights : 0
Parametric Lights : 0
Parametric Darks : 0
Parametric Shadows : 0
Split Toning Balance : 0
Split Toning Highlight Saturation : 0
Split Toning Highlight Hue : 0
Split Toning Shadow Saturation : 0
Split Toning Shadow Hue : 0
Luminance Adjustment Magenta : -9
Luminance Adjustment Purple : -16
Luminance Adjustment Blue : 0
Luminance Adjustment Aqua : 0
Luminance Adjustment Green : 0
Luminance Adjustment Yellow : 0
Luminance Adjustment Orange : +13
Luminance Adjustment Red : 0
Saturation Adjustment Magenta : 0
Saturation Adjustment Purple : 0
Saturation Adjustment Blue : 0
Saturation Adjustment Aqua : 0
Saturation Adjustment Green : 0
Saturation Adjustment Yellow : 0
Saturation Adjustment Orange : 0
Saturation Adjustment Red : 0
Hue Adjustment Magenta : 0
Hue Adjustment Purple : 0
Hue Adjustment Blue : 0
Hue Adjustment Aqua : 0
Hue Adjustment Green : 0
Hue Adjustment Yellow : 0
Hue Adjustment Orange : 0
Hue Adjustment Red : 0
Defringe : 0
Clarity : +39
Highlight Recovery : 0
Vibrance : +15
Fill Light : 13
Blue Saturation : 0
Blue Hue : 0
Green Saturation : 0
Green Hue : 0
Red Saturation : 0
Red Hue : 0
Shadow Tint : 0
Vignette Amount : 0
Chromatic Aberration B : 0
Chromatic Aberration R : 0
Color Noise Reduction : 0
Luminance Smoothing : 0
Brightness : 0
Shadows : 0
Exposure : +0.35
Incremental Tint : 0
Incremental Temperature : 0
Version : 4.6
Raw File Name : L1040069.JPG
Format : image/jpeg
Color Mode : RGB
ICC Profile Name : Adobe RGB (1998)
Flash Fired : False
Flash Return : No return detection
Flash Mode : Off
Flash Function : False
Flash Red Eye Mode : False
Tone Curve : 0, 0, 255, 255
Image Width : 226
Image Height : 300
Bits Per Sample : 8
Color Components : 3
Aperture : 3.6
Image Size : 226x300
Megapixels : 0.068
Scale Factor To 35 mm Equivalent : 6.8
Shutter Speed : 1/80
Flash : Off, Did not fire
Circle Of Confusion : 0.004 mm
Field Of View : 11.8 deg
Focal Length : 25.7 mm (35 mm equivalent: 174.0 mm)
Hyperfocal Distance : 41.34 m
Light Value : 10.0