Uber Exif Photo
By-line : Louis DiBacco
Copyright Notice : © 2008 LouisDiBacco
Copyright Flag : True
Make : Minolta
Camera Model Name : DSE 54005400
Orientation : Horizontal (normal)
Software : Adobe Photoshop CS3 Macintosh
Modify Date : 2010:11:04 06:01:06
Artist : Louis DiBacco
Copyright : © 2008 LouisDiBacco
Color Space : Uncalibrated
Exif Image Width : 1707
Exif Image Height : 1139
Creator Tool : Adobe Photoshop CS3 Macintosh
Create Date : 2008:11:19 23:45:17-05:00
Format : image/jpeg
Color Mode : RGB
ICC Profile Name : Adobe RGB (1998)
Marked : True
Version : 5.6
White Balance : As Shot
Incremental Temperature : 0
Incremental Tint : 0
Exposure : 0.00
Shadows : 0
Brightness : 0
Contrast : 0
Sharpness : 0
Luminance Smoothing : 0
Color Noise Reduction : 0
Chromatic Aberration R : 0
Chromatic Aberration B : 0
Vignette Amount : 0
Shadow Tint : 0
Red Hue : 0
Red Saturation : 0
Green Hue : 0
Green Saturation : 0
Blue Hue : 0
Blue Saturation : 0
Fill Light : 27
Highlight Recovery : 79
Clarity : 0
Defringe : 0
Gray Mixer Red : -6
Gray Mixer Orange : -14
Gray Mixer Yellow : -17
Gray Mixer Green : -23
Gray Mixer Aqua : -19
Gray Mixer Blue : +5
Gray Mixer Purple : +12
Gray Mixer Magenta : +4
Split Toning Shadow Hue : 0
Split Toning Shadow Saturation : 0
Split Toning Highlight Hue : 0
Split Toning Highlight Saturation : 0
Split Toning Balance : 0
Parametric Shadows : 0
Parametric Darks : 0
Parametric Lights : 0
Parametric Highlights : 0
Parametric Shadow Split : 25
Parametric Midtone Split : 50
Parametric Highlight Split : 75
Sharpen Radius : +1.0
Sharpen Detail : 25
Sharpen Edge Masking : 0
Post Crop Vignette Amount : 0
Convert To Grayscale : True
Tone Curve Name : Linear
Camera Profile : Embedded
Has Settings : True
Has Crop : False
Already Applied : True
Creator : Louis DiBacco
Rights : © 2008 LouisDiBacco
Derived From :
Tone Curve : 0, 0, 255, 255
Creator City : Avon
Creator Region : CT
Creator Postal Code : 06001
Creator Country : U.S.A.
Image Width : 300
Image Height : 200
Bits Per Sample : 8
Color Components : 1
Image Size : 300x200
Megapixels : 0.060