Uber Exif Photo
Keywords : m9
Sub-location : La Palma
Copyright Notice : Dierk Topp
Copyright Flag : True
URL : www.lapalmagaleria.info
Make : Leica Camera AG
Camera Model Name : M9 Digital Camera
Software : 1.002
Modify Date : 2010:11:01 21:25:38
Copyright : Dierk Topp
Exposure Time : 1/125
F Number : 6.7
Exposure Program : Aperture-priority AE
ISO : 250
Date/Time Original : 2010:02:20 16:07:21
Create Date : 2010:02:20 16:07:21
Shutter Speed Value : 1/125
Aperture Value : 6.7
Exposure Compensation : +0.664
Max Aperture Value : 1.4
Metering Mode : Center-weighted average
Light Source : Unknown
Focal Length : 35.0 mm
Contrast : Normal
Sharpening : Normal
Saturation : Normal
JPEG Quality : Fine
White Balance : Auto
WB RGB Levels : 0.4250505889 1 0.8430585572
User Profile : CV35
Serial Number : *******
Firmware Version : 1.002
Base ISO : 160
Sensor Width : 5270
Sensor Height : 3516
Sensor Bit Depth : 14
Camera Temperature : 18 C
Lens Type : Summilux-M 35mm f/1.4 ASPH.
Approximate F Number : 5.5
Measured LV : 3.67
External Sensor Brightness Value : 4.00
Color Space : Uncalibrated
Scene Type : Directly photographed
Exposure Mode : Auto bracket
Digital Zoom Ratio : 0
Focal Length In 35mm Format : 35 mm
Scene Capture Type : Standard
Maker Note Safety : Safe
Location : La Palma
Lens : Leica Summilux-M 35mm f/1.4 ASPH.
Rights : Dierk Topp
Subject : m9
Date/Time Digitized : 2010:02:20 16:07:21Z
Flash Fired : False
Flash Function : False
Flash Mode : Unknown
Flash Red Eye Mode : False
Flash Return : No return detection
Exif Image Width : 1500
Exif Image Height : 998
Sharpness : Hard
Creator Tool : Adobe Photoshop Lightroom
Rating : 5
Marked : True
Web Statement : www.lapalmagaleria.info
Already Applied : True
Blue Hue : 0
Blue Saturation : 0
Brightness : +25
Camera Profile : Adobe Standard
Chromatic Aberration B : 0
Chromatic Aberration R : 0
Clarity : +7
Color Noise Reduction : 25
Convert To Grayscale : True
Crop Angle : -2.71345
Crop Bottom : 0.933508
Crop Height : 998
Crop Left : 0.018526
Crop Right : 0.981474
Crop Top : 0.066492
Crop Unit : pixels
Crop Width : 1500
Defringe : 0
Exposure : +0.25
Fill Light : 0
Gray Mixer Aqua : -46
Gray Mixer Blue : -18
Gray Mixer Green : +60
Gray Mixer Magenta : 0
Gray Mixer Orange : +33
Gray Mixer Purple : 0
Gray Mixer Red : +10
Gray Mixer Yellow : +93
Green Hue : 0
Green Saturation : 0
Has Crop : True
Has Settings : True
Highlight Recovery : 0
Luminance Smoothing : 0
Parametric Darks : +14
Parametric Highlight Split : 75
Parametric Highlights : 0
Parametric Lights : +40
Parametric Midtone Split : 50
Parametric Shadow Split : 25
Parametric Shadows : +48
Post Crop Vignette Amount : -48
Post Crop Vignette Feather : 79
Post Crop Vignette Midpoint : 50
Post Crop Vignette Roundness : 0
Red Hue : 0
Red Saturation : 0
Shadow Tint : 0
Shadows : 15
Sharpen Detail : 49
Sharpen Edge Masking : 62
Sharpen Radius : +1.0
Split Toning Balance : 0
Split Toning Highlight Hue : 0
Split Toning Highlight Saturation : 0
Split Toning Shadow Hue : 0
Split Toning Shadow Saturation : 0
Color Temperature : 5750
Tint : +4
Tone Curve : 0, 0, 32, 22, 64, 56, 128, 128, 192, 196, 255, 255
Tone Curve Name : Medium Contrast
Version : 6.1
Vignette Amount : 0
Image Width : 300
Image Height : 205
Bits Per Sample : 8
Color Components : 1
Aperture : 6.7
Blue Balance : 0.843059
Image Size : 300x205
Lens ID : Summilux-M 35mm f/1.4 ASPH.
Megapixels : 0.061
Red Balance : 0.425051
Scale Factor To 35 mm Equivalent : 1.0
Shutter Speed : 1/125
Flash : No Flash
Circle Of Confusion : 0.030 mm
Field Of View : 54.4 deg
Focal Length : 35.0 mm (35 mm equivalent: 35.0 mm)
Hyperfocal Distance : 6.09 m
Light Value : 11.1