Uber Exif Photo
Sub-location : La Palma
Copyright Notice : Dierk Topp
Copyright Flag : True
URL : www.lapalmagaleria.info
Make : Leica Camera AG
Camera Model Name : M9 Digital Camera
Software : 1.002
Modify Date : 2010:11:01 21:18:32
Copyright : Dierk Topp
Exposure Time : 1/180
F Number : 3.4
Exposure Program : Aperture-priority AE
ISO : 160
Date/Time Original : 2010:03:06 15:45:53
Create Date : 2010:03:06 15:45:53
Shutter Speed Value : 1/180
Aperture Value : 3.4
Exposure Compensation : 0
Max Aperture Value : 1.4
Metering Mode : Center-weighted average
Light Source : Unknown
Focal Length : 35.0 mm
Contrast : Normal
Sharpening : Normal
Saturation : Normal
JPEG Quality : Fine
White Balance : Auto
WB RGB Levels : 0.4572832063 1 0.7832114346
User Profile : CV35
Serial Number : *******
Firmware Version : 1.002
Base ISO : 160
Sensor Width : 5270
Sensor Height : 3516
Sensor Bit Depth : 14
Camera Temperature : 24 C
Lens Type : Summilux-M 35mm f/1.4 ASPH.
Approximate F Number : 3.5
Measured LV : 4.43
External Sensor Brightness Value : 3.41
Color Space : Uncalibrated
Scene Type : Directly photographed
Exposure Mode : Manual
Digital Zoom Ratio : 0
Focal Length In 35mm Format : 35 mm
Scene Capture Type : Standard
Maker Note Safety : Safe
Location : La Palma
Lens : Leica Summilux-M 35mm f/1.4 ASPH.
Rights : Dierk Topp
Date/Time Digitized : 2010:03:06 15:45:53Z
Flash Fired : False
Flash Function : False
Flash Mode : Unknown
Flash Red Eye Mode : False
Flash Return : No return detection
Exif Image Width : 1321
Exif Image Height : 1000
Sharpness : Hard
Creator Tool : Adobe Photoshop Lightroom
Marked : True
Web Statement : www.lapalmagaleria.info
Already Applied : True
Blue Hue : 0
Blue Saturation : 0
Brightness : +65
Camera Profile : Adobe Standard
Chromatic Aberration B : 0
Chromatic Aberration R : 0
Clarity : +17
Color Noise Reduction : 25
Convert To Grayscale : True
Crop Angle : 0
Crop Bottom : 1
Crop Height : 1000
Crop Left : 0.050007
Crop Right : 0.9291
Crop Top : 0
Crop Unit : pixels
Crop Width : 1321
Defringe : 0
Exposure : 0.00
Fill Light : 24
Gray Mixer Aqua : 0
Gray Mixer Blue : 0
Gray Mixer Green : 0
Gray Mixer Magenta : 0
Gray Mixer Orange : 0
Gray Mixer Purple : 0
Gray Mixer Red : 0
Gray Mixer Yellow : 0
Green Hue : 0
Green Saturation : 0
Has Crop : True
Has Settings : True
Highlight Recovery : 3
Luminance Smoothing : 0
Parametric Darks : 0
Parametric Highlight Split : 75
Parametric Highlights : 0
Parametric Lights : 0
Parametric Midtone Split : 50
Parametric Shadow Split : 25
Parametric Shadows : 0
Post Crop Vignette Amount : -74
Post Crop Vignette Feather : 50
Post Crop Vignette Midpoint : 50
Post Crop Vignette Roundness : 0
Red Hue : 0
Red Saturation : 0
Shadow Tint : 0
Shadows : 15
Sharpen Detail : 48
Sharpen Edge Masking : 70
Sharpen Radius : +1.2
Split Toning Balance : 0
Split Toning Highlight Hue : 0
Split Toning Highlight Saturation : 0
Split Toning Shadow Hue : 0
Split Toning Shadow Saturation : 0
Color Temperature : 4950
Tint : 0
Tone Curve : 0, 0, 32, 22, 64, 56, 128, 128, 192, 196, 255, 255
Tone Curve Name : Medium Contrast
Version : 6.1
Vignette Amount : 0
Image Width : 300
Image Height : 231
Bits Per Sample : 8
Color Components : 1
Aperture : 3.4
Blue Balance : 0.783211
Image Size : 300x231
Lens ID : Summilux-M 35mm f/1.4 ASPH.
Megapixels : 0.069
Red Balance : 0.457283
Scale Factor To 35 mm Equivalent : 1.0
Shutter Speed : 1/180
Flash : No Flash
Circle Of Confusion : 0.030 mm
Field Of View : 54.4 deg
Focal Length : 35.0 mm (35 mm equivalent: 35.0 mm)
Hyperfocal Distance : 11.99 m
Light Value : 10.3