Uber Exif Photo
Copyright Notice : Jim Vehe
Make : Leica Camera AG
Camera Model Name : M8 Digital Camera
Software : 2.005
Modify Date : 2010:10:28 17:14:24
Copyright : Jim Vehe
Exposure Time : 1/1000
F Number : 4.8
Exposure Program : Manual
ISO : 160
Date/Time Original : 2010:10:27 18:02:08
Create Date : 2010:10:27 18:02:08
Shutter Speed Value : 1/1000
Aperture Value : 4.8
Exposure Compensation : 0
Max Aperture Value : 1.0
Metering Mode : Center-weighted average
Light Source : Unknown
Scene Type : Directly photographed
White Balance : Manual
Digital Zoom Ratio : 0
Scene Capture Type : Standard
Date/Time Digitized : 2010:10:27 18:02:08-05:00
Exif Image Width : 1220
Exif Image Height : 819
Creator Tool : Adobe Photoshop Lightroom
Serial Number : 3109646
Version : 6.1
Process Version : 5.7
Color Temperature : 5600
Tint : +2
Exposure : 0.00
Shadows : 13
Brightness : +43
Contrast : +25
Sharpness : 94
Luminance Smoothing : 0
Color Noise Reduction : 25
Chromatic Aberration R : 0
Chromatic Aberration B : 0
Vignette Amount : 0
Shadow Tint : 0
Red Hue : 0
Red Saturation : 0
Green Hue : 0
Green Saturation : 0
Blue Hue : 0
Blue Saturation : 0
Fill Light : 0
Highlight Recovery : 64
Clarity : +36
Defringe : 0
Gray Mixer Red : -4
Gray Mixer Orange : -21
Gray Mixer Yellow : -29
Gray Mixer Green : -24
Gray Mixer Aqua : -18
Gray Mixer Blue : -41
Gray Mixer Purple : +17
Gray Mixer Magenta : +7
Split Toning Shadow Hue : 0
Split Toning Shadow Saturation : 0
Split Toning Highlight Hue : 0
Split Toning Highlight Saturation : 0
Split Toning Balance : 0
Parametric Shadows : 0
Parametric Darks : 0
Parametric Lights : 0
Parametric Highlights : 0
Parametric Shadow Split : 25
Parametric Midtone Split : 50
Parametric Highlight Split : 75
Sharpen Radius : +0.6
Sharpen Detail : 48
Sharpen Edge Masking : 45
Post Crop Vignette Amount : 0
Grain Amount : 0
Color Noise Reduction Detail : 50
Lens Profile Enable : 0
Lens Manual Distortion Amount : 0
Perspective Vertical : 0
Perspective Horizontal : 0
Perspective Rotate : 0.0
Perspective Scale : 100
Convert To Grayscale : True
Tone Curve Name : Custom
Camera Profile : ACR 3.6
Lens Profile Setup : LensDefaults
Has Settings : True
Crop Top : 0.038388
Crop Left : 0.061935
Crop Bottom : 0.915547
Crop Right : 0.940645
Crop Angle : 0
Crop Constrain To Warp : 0
Crop Width : 1220
Crop Height : 819
Crop Unit : pixels
Has Crop : True
Already Applied : True
Flash Fired : False
Flash Return : No return detection
Flash Mode : Off
Flash Function : False
Flash Red Eye Mode : False
Rights : Jim Vehe
Tone Curve : 0, 0, 48, 36, 200, 213, 255, 255
Image Width : 300
Image Height : 201
Bits Per Sample : 8
Color Components : 1
Aperture : 4.8
Image Size : 300x201
Megapixels : 0.060
Scale Factor To 35 mm Equivalent : 4.3
Shutter Speed : 1/1000
Flash : Off, Did not fire
Circle Of Confusion : 0.007 mm
Light Value : 13.8