Uber Exif Photo
Make : Leica Camera AG
Camera Model Name : M8 Digital Camera
Software : QuickTime 7.6.6
Modify Date : 2010:06:13 17:42:45
Exposure Time : 1/250
Exposure Program : Aperture-priority AE
ISO : 160
Date/Time Original : 2010:06:12 16:31:32
Create Date : 2010:06:12 16:31:32
Shutter Speed Value : 1/250
Exposure Compensation : 0
Max Aperture Value : 1.0
Metering Mode : Center-weighted average
Light Source : Unknown
Custom Rendered : Normal
White Balance : Auto
Scene Capture Type : Standard
Contrast : Normal
Saturation : Normal
Sharpness : Normal
Profile Description : sRGB IEC61966-2.1
Date/Time Digitized : 2010:06:12 16:31:32+02:00
Exif Image Width : 3827
Exif Image Height : 2551
Creator Tool : Adobe Photoshop Lightroom
Version : 5.7
Incremental Temperature : 0
Incremental Tint : 0
Exposure : 0.00
Shadows : 4
Brightness : 0
Luminance Smoothing : 0
Color Noise Reduction : 0
Chromatic Aberration R : 0
Chromatic Aberration B : 0
Vignette Amount : -51
Vignette Midpoint : 50
Shadow Tint : 0
Red Hue : 0
Red Saturation : 0
Green Hue : 0
Green Saturation : 0
Blue Hue : 0
Blue Saturation : 0
Fill Light : 27
Highlight Recovery : 0
Clarity : -60
Defringe : 0
Gray Mixer Red : -7
Gray Mixer Orange : -15
Gray Mixer Yellow : -18
Gray Mixer Green : -23
Gray Mixer Aqua : -19
Gray Mixer Blue : +6
Gray Mixer Purple : +12
Gray Mixer Magenta : +4
Split Toning Shadow Hue : 215
Split Toning Shadow Saturation : 12
Split Toning Highlight Hue : 57
Split Toning Highlight Saturation : 20
Split Toning Balance : 0
Parametric Shadows : -52
Parametric Darks : -7
Parametric Lights : +17
Parametric Highlights : 0
Parametric Shadow Split : 25
Parametric Midtone Split : 50
Parametric Highlight Split : 75
Sharpen Radius : +1.0
Sharpen Detail : 25
Sharpen Edge Masking : 0
Post Crop Vignette Amount : 0
Convert To Grayscale : True
Tone Curve Name : Linear
Camera Profile : Embedded
Has Settings : True
Has Crop : False
Already Applied : True
Flash Fired : False
Flash Return : No return detection
Flash Mode : Auto
Flash Function : False
Flash Red Eye Mode : False
Tone Curve : 0, 0, 255, 255
Gradient Based Corr What : Correction
Gradient Based Corr Amount : 1.000000
Gradient Based Corr Active : true
Gradient Based Corr Exposure : 0.000000
Gradient Based Corr Saturation : 0.000000
Gradient Based Corr Contrast : 0.000000
Gradient Based Corr Clarity : 0.000000
Gradient Based Corr Sharpness : 0.000000
Gradient Based Corr Brightness : 0.000000
Gradient Based Corr Toning Hue : 201.000000
Gradient Based Corr Toning Saturation : 0.035000
Gradient Based Corr Mask What : Mask/Gradient
Gradient Based Corr Mask Value : 1.000000
Gradient Based Corr Mask Zero X : -0.577320
Gradient Based Corr Mask Zero Y : 0.534070
Gradient Based Corr Mask Full X : 1.005160
Gradient Based Corr Mask Full Y : 0.176796
Image Width : 300
Image Height : 200
Bits Per Sample : 8
Color Components : 3
Image Size : 300x200
Megapixels : 0.060
Shutter Speed : 1/250
Flash : Auto, Did not fire