Uber Exif Photo
Copyright Notice : dierk topp
Copyright Flag : True
Make : Leica Camera AG
Camera Model Name : M9 Digital Camera
Software : 1.116
Modify Date : 2010:10:20 15:07:13
Copyright : dierk topp
Exposure Time : 1/350
F Number : 6.7
Exposure Program : Manual
ISO : 800
Date/Time Original : 2010:10:03 14:41:12
Create Date : 2010:10:03 14:41:12
Shutter Speed Value : 1/350
Aperture Value : 6.7
Exposure Compensation : 0
Max Aperture Value : 4.0
Metering Mode : Center-weighted average
Light Source : Unknown
Focal Length : 90.0 mm
Contrast : Normal
Sharpening : Normal
Saturation : Normal
JPEG Quality : Fine
White Balance : Auto
WB RGB Levels : 0.4050332501 1 0.8549809529
User Profile : Auto
JPEG Size : 5216x3472
Serial Number : 3834236
Firmware Version : 1.116
Base ISO : 160
Sensor Width : 5270
Sensor Height : 3516
Sensor Bit Depth : 14
Camera Temperature : 24 C
Lens Type : Macro-Elmar-M 90mm f/4
Approximate F Number : 5.5
Measured LV : 3.35
External Sensor Brightness Value : 3.84
Color Space : Uncalibrated
Scene Type : Directly photographed
Exposure Mode : Manual
Digital Zoom Ratio : 0
Focal Length In 35mm Format : 90 mm
Scene Capture Type : Standard
Maker Note Safety : Safe
Lens : Leica Macro-Elmar-M 90mm f/4
Rights : dierk topp
Date/Time Digitized : 2010:10:03 14:41:12+01:00
Flash Fired : False
Flash Function : False
Flash Mode : Unknown
Flash Red Eye Mode : False
Flash Return : No return detection
Exif Image Width : 792
Exif Image Height : 800
Sharpness : Hard
Property Release Status : Unknown (nil)
PLUS Version : 1.2.0
Creator Tool : Adobe Photoshop Lightroom
Rating : 5
Marked : True
Already Applied : True
Blue Hue : 0
Blue Saturation : 0
Brightness : +63
Camera Profile : Adobe Standard
Chromatic Aberration B : 0
Chromatic Aberration R : 0
Clarity : +36
Color Noise Reduction : 25
Convert To Grayscale : True
Crop Angle : 0
Crop Bottom : 1
Crop Height : 800
Crop Left : 0.263099
Crop Right : 0.921962
Crop Top : 0
Crop Unit : pixels
Crop Width : 792
Defringe : 0
Exposure : 0.00
Fill Light : 13
Gray Mixer Aqua : -17
Gray Mixer Blue : +51
Gray Mixer Green : -62
Gray Mixer Magenta : -25
Gray Mixer Orange : -9
Gray Mixer Purple : +40
Gray Mixer Red : -5
Gray Mixer Yellow : -11
Green Hue : 0
Green Saturation : 0
Has Crop : True
Has Settings : True
Highlight Recovery : 29
Luminance Smoothing : 0
Parametric Darks : -16
Parametric Highlight Split : 75
Parametric Highlights : +3
Parametric Lights : +10
Parametric Midtone Split : 50
Parametric Shadow Split : 25
Parametric Shadows : +13
Post Crop Vignette Amount : -61
Post Crop Vignette Feather : 50
Post Crop Vignette Midpoint : 50
Post Crop Vignette Roundness : 0
Red Hue : 0
Red Saturation : 0
Shadow Tint : 0
Shadows : 10
Sharpen Detail : 42
Sharpen Edge Masking : 0
Sharpen Radius : +1.0
Split Toning Balance : 0
Split Toning Highlight Hue : 0
Split Toning Highlight Saturation : 0
Split Toning Shadow Hue : 0
Split Toning Shadow Saturation : 0
Color Temperature : 4815
Tint : +13
Tone Curve : 0, 0, 32, 22, 64, 56, 128, 128, 192, 196, 255, 255
Tone Curve Name : Medium Contrast
Version : 6.1
Vignette Amount : 0
Image Width : 297
Image Height : 300
Bits Per Sample : 8
Color Components : 1
Aperture : 6.7
Blue Balance : 0.854981
Image Size : 297x300
Lens ID : Macro-Elmar-M 90mm f/4
Megapixels : 0.089
Red Balance : 0.405033
Scale Factor To 35 mm Equivalent : 1.0
Shutter Speed : 1/350
Flash : No Flash
Circle Of Confusion : 0.030 mm
Field Of View : 22.6 deg
Focal Length : 90.0 mm (35 mm equivalent: 90.0 mm)
Hyperfocal Distance : 40.24 m
Light Value : 10.9