Uber Exif Photo
By-line : Miklos Szorenyi
By-line Title : Owner
Copyright Notice : Copyright © miklos szorenyi photography 2009
Copyright Flag : True
URL : http://www.miklosphoto.com/copyright
Make : Leica Camera AG
Camera Model Name : M8 Digital Camera
Software : 2.004
Modify Date : 2009:07:19 08:55:03
Copyright : Copyright (C) miklos szorenyi photography 2009
Exposure Time : 1/500
Exposure Program : Aperture-priority AE
ISO : 160
Date/Time Original : 2009:07:04 08:16:08
Create Date : 2009:07:04 08:16:08
Shutter Speed Value : 1/500
Exposure Compensation : 0
Max Aperture Value : 2.5
Metering Mode : Center-weighted average
Light Source : Unknown
Focal Length : 90.0 mm
Scene Type : Directly photographed
White Balance : Manual
Digital Zoom Ratio : 0
Focal Length In 35mm Format : 121 mm
Scene Capture Type : Standard
Profile Description : sRGB IEC61966-2.1
Date/Time Digitized : 2009:07:04 08:16:08-07:00
Exif Image Width : 1200
Exif Image Height : 807
Creator Tool : Adobe Photoshop Lightroom
Serial Number : 3331304
Marked : True
Web Statement : http://www.miklosphoto.com/copyright
Authors Position : Owner
Version : 5.2
Color Temperature : 6714
Tint : -2
Exposure : +1.10
Shadows : 69
Brightness : +31
Contrast : +100
Saturation : -68
Sharpness : 25
Luminance Smoothing : 0
Color Noise Reduction : 25
Chromatic Aberration R : 0
Chromatic Aberration B : 0
Vignette Amount : 0
Shadow Tint : 0
Red Hue : 0
Red Saturation : 0
Green Hue : 0
Green Saturation : 0
Blue Hue : 0
Blue Saturation : 0
Fill Light : 44
Vibrance : +14
Highlight Recovery : 35
Clarity : 0
Defringe : 0
Hue Adjustment Red : 0
Hue Adjustment Orange : 0
Hue Adjustment Yellow : 0
Hue Adjustment Green : 0
Hue Adjustment Aqua : 0
Hue Adjustment Blue : 0
Hue Adjustment Purple : 0
Hue Adjustment Magenta : 0
Saturation Adjustment Red : +19
Saturation Adjustment Orange : 0
Saturation Adjustment Yellow : 0
Saturation Adjustment Green : 0
Saturation Adjustment Aqua : 0
Saturation Adjustment Blue : 0
Saturation Adjustment Purple : 0
Saturation Adjustment Magenta : 0
Luminance Adjustment Red : -100
Luminance Adjustment Orange : 0
Luminance Adjustment Yellow : 0
Luminance Adjustment Green : 0
Luminance Adjustment Aqua : 0
Luminance Adjustment Blue : 0
Luminance Adjustment Purple : 0
Luminance Adjustment Magenta : 0
Split Toning Shadow Hue : 166
Split Toning Shadow Saturation : 19
Split Toning Highlight Hue : 32
Split Toning Highlight Saturation : 5
Split Toning Balance : +32
Parametric Shadows : 0
Parametric Darks : 0
Parametric Lights : 0
Parametric Highlights : 0
Parametric Shadow Split : 25
Parametric Midtone Split : 50
Parametric Highlight Split : 75
Sharpen Radius : +1.0
Sharpen Detail : 25
Sharpen Edge Masking : 0
Post Crop Vignette Amount : 0
Convert To Grayscale : False
Tone Curve Name : Medium Contrast
Camera Profile : ACR 3.3
Has Settings : True
Has Crop : False
Already Applied : True
Flash Fired : False
Flash Return : No return detection
Flash Mode : Auto
Flash Function : False
Flash Red Eye Mode : False
Creator Postal Code : 95054
Creator Work Telephone : 650-430-0124
Creator Region : CA
Creator City : Santa Clara
Creator Country : USA
Creator Work Email : miklos@miklosphoto.com
Creator Address : 2315 Villa Place
Creator Work URL : http://www.miklosphoto.com
Usage Terms : No usage authorized without prior written permission
Creator : Miklos Szorenyi
Rights : Copyright © miklos szorenyi photography 2009
Tone Curve : 0, 0, 32, 22, 64, 56, 128, 128, 192, 196, 255, 255
Image Width : 300
Image Height : 202
Bits Per Sample : 8
Color Components : 3
Image Size : 300x202
Megapixels : 0.061
Scale Factor To 35 mm Equivalent : 1.3
Shutter Speed : 1/500
Flash : Auto, Did not fire
Circle Of Confusion : 0.022 mm
Field Of View : 16.9 deg
Focal Length : 90.0 mm (35 mm equivalent: 121.0 mm)