Uber Exif Photo
Make : Leica Camera AG
Camera Model Name : M8 Digital Camera
Software : 2.004
Modify Date : 2010:09:28 20:14:13
Exposure Time : 1/350
F Number : 9.5
Exposure Program : Aperture-priority AE
ISO : 1250
Date/Time Original : 2010:09:28 09:06:38
Create Date : 2010:09:28 09:06:38
Shutter Speed Value : 1/350
Aperture Value : 9.5
Exposure Compensation : 0
Max Aperture Value : 1.0
Metering Mode : Center-weighted average
Light Source : Unknown
Scene Type : Directly photographed
White Balance : Auto
Digital Zoom Ratio : 0
Scene Capture Type : Standard
Profile Description : sRGB IEC61966-2.1
Date/Time Digitized : 2010:09:28 09:06:38+03:00
Exif Image Width : 800
Exif Image Height : 538
Creator Tool : Adobe Photoshop Lightroom
Serial Number : 3331913
Version : 6.1
Process Version : 5.7
Color Temperature : 6050
Tint : +4
Exposure : +0.87
Shadows : 5
Brightness : +40
Contrast : +76
Saturation : +1
Sharpness : 45
Luminance Smoothing : 29
Color Noise Reduction : 76
Chromatic Aberration R : 0
Chromatic Aberration B : 0
Vignette Amount : 0
Shadow Tint : 0
Red Hue : 0
Red Saturation : 0
Green Hue : 0
Green Saturation : 0
Blue Hue : 0
Blue Saturation : 0
Fill Light : 7
Vibrance : -40
Highlight Recovery : 13
Clarity : 0
Defringe : 0
Hue Adjustment Red : 0
Hue Adjustment Orange : 0
Hue Adjustment Yellow : 0
Hue Adjustment Green : 0
Hue Adjustment Aqua : 0
Hue Adjustment Blue : 0
Hue Adjustment Purple : 0
Hue Adjustment Magenta : 0
Saturation Adjustment Red : 0
Saturation Adjustment Orange : 0
Saturation Adjustment Yellow : 0
Saturation Adjustment Green : 0
Saturation Adjustment Aqua : 0
Saturation Adjustment Blue : 0
Saturation Adjustment Purple : 0
Saturation Adjustment Magenta : 0
Luminance Adjustment Red : 0
Luminance Adjustment Orange : 0
Luminance Adjustment Yellow : 0
Luminance Adjustment Green : 0
Luminance Adjustment Aqua : 0
Luminance Adjustment Blue : 0
Luminance Adjustment Purple : 0
Luminance Adjustment Magenta : 0
Split Toning Shadow Hue : 0
Split Toning Shadow Saturation : 0
Split Toning Highlight Hue : 0
Split Toning Highlight Saturation : 0
Split Toning Balance : 0
Parametric Shadows : 0
Parametric Darks : 0
Parametric Lights : 0
Parametric Highlights : 0
Parametric Shadow Split : 25
Parametric Midtone Split : 50
Parametric Highlight Split : 75
Sharpen Radius : +1.6
Sharpen Detail : 24
Sharpen Edge Masking : 30
Post Crop Vignette Amount : -35
Post Crop Vignette Midpoint : 37
Post Crop Vignette Feather : 50
Post Crop Vignette Roundness : 0
Post Crop Vignette Style : Highlight Priority
Post Crop Vignette Highlight Contrast : 0
Grain Amount : 17
Grain Size : 74
Grain Frequency : 39
Luminance Noise Reduction Detail : 39
Color Noise Reduction Detail : 54
Luminance Noise Reduction Contrast : 0
Lens Profile Enable : 0
Lens Manual Distortion Amount : 0
Perspective Vertical : 0
Perspective Horizontal : 0
Perspective Rotate : 0.0
Perspective Scale : 100
Convert To Grayscale : False
Tone Curve Name : Custom
Camera Profile : ACR 4.4
Lens Profile Setup : LensDefaults
Has Settings : True
Crop Top : 0.278261
Crop Left : 0.225145
Crop Bottom : 0.997102
Crop Right : 0.94347
Crop Angle : 0
Crop Constrain To Warp : 0
Crop Width : 800
Crop Height : 538
Crop Unit : pixels
Has Crop : True
Already Applied : True
Flash Fired : False
Flash Return : No return detection
Flash Mode : Auto
Flash Function : False
Flash Red Eye Mode : False
Tone Curve : 0, 0, 34, 11, 68, 44, 119, 137, 187, 213, 255, 255
Paint Correction What : Correction
Paint Correction Amount : 1.000000
Paint Correction Active : true
Paint Correction Exposure : 0.000000
Paint Correction Saturation : 0.000000
Paint Correction Contrast : 0.823333
Paint Correction Clarity : 0.000000
Paint Correction Sharpness : 0.000000
Paint Correction Brightness : 0.000000
Paint Correction Toning Hue : 0.000000
Paint Correction Toning Saturation : 0.000000
Paint Correction Mask What : Mask/Paint
Paint Correction Mask Value : 0.429000
Paint Correction Mask Radius : 0.117040
Paint Correction Mask Flow : 1.000000
Paint Correction Mask Center Weight : 1.000000
Image Width : 300
Image Height : 202
Bits Per Sample : 8
Color Components : 3
Aperture : 9.5
Image Size : 300x202
Megapixels : 0.061
Scale Factor To 35 mm Equivalent : 6.6
Shutter Speed : 1/350
Flash : Auto, Did not fire
Circle Of Confusion : 0.005 mm
Light Value : 11.3