Uber Exif Photo
Make : Leica Camera AG
Camera Model Name : M8 Digital Camera
Software : 2.004
Modify Date : 2010:05:31 08:24:49
Exposure Time : 1/45
F Number : 8.0
Exposure Program : Aperture-priority AE
ISO : 640
Date/Time Original : 2010:05:01 18:35:09
Create Date : 2010:05:01 18:35:09
Shutter Speed Value : 1/45
Aperture Value : 8.0
Exposure Compensation : 0
Max Aperture Value : 1.0
Metering Mode : Center-weighted average
Light Source : Unknown
Scene Type : Directly photographed
White Balance : Auto
Digital Zoom Ratio : 0
Scene Capture Type : Standard
Date/Time Digitized : 2010:05:01 18:35:09+03:00
Exif Image Width : 800
Exif Image Height : 527
Creator Tool : 2.004
Serial Number : 3331913
Version : 6.0
Process Version : 5.7
Color Temperature : 5050
Tint : 0
Exposure : 0.00
Shadows : 23
Brightness : +29
Contrast : +31
Sharpness : 25
Luminance Smoothing : 0
Color Noise Reduction : 25
Chromatic Aberration R : 0
Chromatic Aberration B : 0
Vignette Amount : 0
Shadow Tint : 0
Red Hue : 0
Red Saturation : 0
Green Hue : 0
Green Saturation : 0
Blue Hue : 0
Blue Saturation : 0
Fill Light : 0
Highlight Recovery : 19
Clarity : 0
Defringe : 0
Gray Mixer Red : -45
Gray Mixer Orange : -18
Gray Mixer Yellow : -22
Gray Mixer Green : -26
Gray Mixer Aqua : -18
Gray Mixer Blue : +11
Gray Mixer Purple : +16
Gray Mixer Magenta : +5
Split Toning Shadow Hue : 0
Split Toning Shadow Saturation : 0
Split Toning Highlight Hue : 0
Split Toning Highlight Saturation : 0
Split Toning Balance : 0
Parametric Shadows : 0
Parametric Darks : 0
Parametric Lights : 0
Parametric Highlights : 0
Parametric Shadow Split : 25
Parametric Midtone Split : 50
Parametric Highlight Split : 75
Sharpen Radius : +1.0
Sharpen Detail : 50
Sharpen Edge Masking : 0
Post Crop Vignette Amount : -40
Post Crop Vignette Midpoint : 50
Post Crop Vignette Feather : 50
Post Crop Vignette Roundness : 0
Post Crop Vignette Style : Highlight Priority
Post Crop Vignette Highlight Contrast : 0
Grain Amount : 10
Grain Size : 63
Grain Frequency : 50
Color Noise Reduction Detail : 50
Convert To Grayscale : True
Tone Curve Name : Linear
Camera Profile : Adobe Standard
Has Settings : True
Crop Top : 0
Crop Left : 0.083821
Crop Bottom : 0.814493
Crop Right : 0.916179
Crop Angle : 0
Crop Width : 800
Crop Height : 527
Crop Unit : pixels
Has Crop : True
Already Applied : True
Flash Fired : False
Flash Return : No return detection
Flash Mode : Auto
Flash Function : False
Flash Red Eye Mode : False
Tone Curve : 0, 0, 255, 255
Paint Correction What : Correction
Paint Correction Amount : 1.000000
Paint Correction Active : true
Paint Correction Exposure : 0.062000
Paint Correction Saturation : 0.000000
Paint Correction Contrast : 1.000000
Paint Correction Clarity : 0.000000
Paint Correction Sharpness : 0.000000
Paint Correction Brightness : 0.000000
Paint Correction Toning Hue : 0.000000
Paint Correction Toning Saturation : 0.000000
Paint Correction Mask What : Mask/Paint
Paint Correction Mask Value : 1.000000
Paint Correction Mask Radius : 0.394598
Paint Correction Mask Flow : 1.000000
Paint Correction Mask Center Weight : 0.000000
Image Width : 300
Image Height : 198
Bits Per Sample : 8
Color Components : 1
Aperture : 8.0
Image Size : 300x198
Megapixels : 0.059
Scale Factor To 35 mm Equivalent : 6.6
Shutter Speed : 1/45
Flash : Auto, Did not fire
Circle Of Confusion : 0.005 mm
Light Value : 8.8