Uber Exif Photo
Make : Leica Camera AG
Camera Model Name : M9 Digital Camera
Software : Adobe Photoshop Lightroom 4.4 (Macintosh)
Modify Date : 2013:06:10 13:56:45
Exposure Time : 1/30
Exposure Program : Aperture-priority AE
ISO : 640
Date/Time Original : 2013:06:09 15:21:42
Create Date : 2013:06:09 15:21:42
Shutter Speed Value : 1/30
Exposure Compensation : 0
Max Aperture Value : 1.4
Metering Mode : Center-weighted average
Light Source : Unknown
Flash : No Flash
Focal Length : 35.0 mm
Exposure Mode : Manual
White Balance : Auto
Digital Zoom Ratio : 0
Focal Length In 35mm Format : 35 mm
Scene Capture Type : Standard
Serial Number : 3839582
Profile Description : sRGB IEC61966-2.1
Creator Tool : Adobe Photoshop Lightroom 4.4 (Macintosh)
Date Created : 2013:06:09 15:21:42
Format : image/jpeg
Version : 7.4
Process Version : 6.7
Incremental Temperature : 0
Incremental Tint : 0
Saturation : 0
Sharpness : 0
Luminance Smoothing : 0
Color Noise Reduction : 0
Vignette Amount : 0
Shadow Tint : 0
Red Hue : 0
Red Saturation : +24
Green Hue : -26
Green Saturation : +11
Blue Hue : 0
Blue Saturation : +29
Vibrance : +28
Hue Adjustment Red : 0
Hue Adjustment Orange : +22
Hue Adjustment Yellow : 0
Hue Adjustment Green : +7
Hue Adjustment Aqua : 0
Hue Adjustment Blue : -2
Hue Adjustment Purple : -36
Hue Adjustment Magenta : 0
Saturation Adjustment Red : -18
Saturation Adjustment Orange : -25
Saturation Adjustment Yellow : -46
Saturation Adjustment Green : 0
Saturation Adjustment Aqua : -23
Saturation Adjustment Blue : +40
Saturation Adjustment Purple : 0
Saturation Adjustment Magenta : 0
Luminance Adjustment Red : -16
Luminance Adjustment Orange : +34
Luminance Adjustment Yellow : -31
Luminance Adjustment Green : +58
Luminance Adjustment Aqua : +40
Luminance Adjustment Blue : -10
Luminance Adjustment Purple : +35
Luminance Adjustment Magenta : 0
Split Toning Shadow Hue : 0
Split Toning Shadow Saturation : 0
Split Toning Highlight Hue : 0
Split Toning Highlight Saturation : 0
Split Toning Balance : 0
Parametric Shadows : +27
Parametric Darks : -5
Parametric Lights : -40
Parametric Highlights : +60
Parametric Shadow Split : 25
Parametric Midtone Split : 50
Parametric Highlight Split : 75
Sharpen Radius : +0.5
Sharpen Detail : 0
Sharpen Edge Masking : 0
Post Crop Vignette Amount : 0
Grain Amount : 0
Lens Profile Enable : 0
Lens Manual Distortion Amount : 0
Perspective Vertical : 0
Perspective Horizontal : 0
Perspective Rotate : 0.0
Perspective Scale : 100
Auto Lateral CA : 0
Exposure 2012 : +1.85
Contrast 2012 : -23
Highlights 2012 : -79
Shadows 2012 : +8
Whites 2012 : -36
Blacks 2012 : +44
Clarity 2012 : -9
Defringe Purple Amount : 0
Defringe Purple Hue Lo : 30
Defringe Purple Hue Hi : 70
Defringe Green Amount : 0
Defringe Green Hue Lo : 40
Defringe Green Hue Hi : 60
Convert To Grayscale : False
Tone Curve Name 2012 : Linear
Camera Profile : Embedded
Lens Profile Setup : LensDefaults
Has Settings : True
Crop Top : 0
Crop Left : 0.16565
Crop Bottom : 1
Crop Right : 1
Crop Angle : 0
Crop Constrain To Warp : 0
Crop Width : 4349
Crop Height : 3468
Crop Unit : pixels
Has Crop : True
Already Applied : True
Tone Curve PV2012 : 0, 0, 255, 255
Tone Curve PV2012 Red : 0, 0, 255, 255
Tone Curve PV2012 Green : 0, 0, 255, 255
Tone Curve PV2012 Blue : 0, 0, 255, 255
Image Width : 300
Image Height : 239
Bits Per Sample : 8
Color Components : 3
Image Size : 300x239
Megapixels : 0.072
Scale Factor To 35 mm Equivalent : 1.0
Shutter Speed : 1/30
Circle Of Confusion : 0.030 mm
Field Of View : 54.4 deg
Focal Length : 35.0 mm (35 mm equivalent: 35.0 mm)