Uber Exif Photo
Copyright Notice : Chris Malikoff
Copyright Flag : True
Make : SONY
Camera Model Name : DSC-RX1
Software : Adobe Photoshop Lightroom 4.3 (Macintosh)
Modify Date : 2013:02:09 23:48:16
Copyright : Chris Malikoff
Exposure Time : 1/80
F Number : 3.5
Exposure Program : Program AE
ISO : 6400
Sensitivity Type : Recommended Exposure Index
Recommended Exposure Index : 6400
Date/Time Original : 2013:02:09 20:08:03
Create Date : 2013:02:09 20:08:03
Shutter Speed Value : 1/80
Aperture Value : 3.5
Brightness Value : -0.83046875
Exposure Compensation : 0
Max Aperture Value : 2.0
Metering Mode : Multi-segment
Light Source : Unknown
Flash : Off, Did not fire
Focal Length : 35.0 mm
Scene Type : Directly photographed
Custom Rendered : Normal
Exposure Mode : Auto
White Balance : Auto
Digital Zoom Ratio : 1
Focal Length In 35mm Format : 35 mm
Scene Capture Type : Standard
Contrast : Normal
Saturation : Normal
Sharpness : Normal
Lens Info : 35mm f/2
Lens Model : 35.0 mm f/2.0
Creator Tool : Adobe Photoshop Lightroom 4.3 (Macintosh)
Lens : 35.0 mm f/2.0
Date Created : 2013:02:09 20:08:03
Format : image/jpeg
Marked : True
Version : 7.3
Process Version : 6.7
Incremental Temperature : 0
Incremental Tint : 0
Luminance Smoothing : 0
Color Noise Reduction : 0
Vignette Amount : 0
Shadow Tint : 0
Red Hue : 0
Red Saturation : 0
Green Hue : 0
Green Saturation : 0
Blue Hue : 0
Blue Saturation : 0
Vibrance : 0
Hue Adjustment Red : 0
Hue Adjustment Orange : 0
Hue Adjustment Yellow : 0
Hue Adjustment Green : 0
Hue Adjustment Aqua : 0
Hue Adjustment Blue : 0
Hue Adjustment Purple : 0
Hue Adjustment Magenta : 0
Saturation Adjustment Red : 0
Saturation Adjustment Orange : 0
Saturation Adjustment Yellow : 0
Saturation Adjustment Green : 0
Saturation Adjustment Aqua : 0
Saturation Adjustment Blue : 0
Saturation Adjustment Purple : 0
Saturation Adjustment Magenta : 0
Luminance Adjustment Red : 0
Luminance Adjustment Orange : 0
Luminance Adjustment Yellow : 0
Luminance Adjustment Green : 0
Luminance Adjustment Aqua : 0
Luminance Adjustment Blue : 0
Luminance Adjustment Purple : 0
Luminance Adjustment Magenta : 0
Split Toning Shadow Hue : 0
Split Toning Shadow Saturation : 0
Split Toning Highlight Hue : 0
Split Toning Highlight Saturation : 0
Split Toning Balance : 0
Parametric Shadows : 0
Parametric Darks : 0
Parametric Lights : 0
Parametric Highlights : 0
Parametric Shadow Split : 25
Parametric Midtone Split : 50
Parametric Highlight Split : 75
Sharpen Radius : +1.0
Sharpen Detail : 25
Sharpen Edge Masking : 0
Post Crop Vignette Amount : 0
Grain Amount : 0
Lens Profile Enable : 0
Lens Manual Distortion Amount : 0
Perspective Vertical : 0
Perspective Horizontal : 0
Perspective Rotate : 0.0
Perspective Scale : 100
Auto Lateral CA : 0
Exposure 2012 : +1.40
Contrast 2012 : -12
Highlights 2012 : -50
Shadows 2012 : +75
Whites 2012 : +27
Blacks 2012 : +1
Clarity 2012 : 0
Defringe Purple Amount : 0
Defringe Purple Hue Lo : 30
Defringe Purple Hue Hi : 70
Defringe Green Amount : 0
Defringe Green Hue Lo : 40
Defringe Green Hue Hi : 60
Convert To Grayscale : False
Tone Curve Name 2012 : Linear
Camera Profile : Embedded
Lens Profile Setup : LensDefaults
Has Settings : True
Crop Top : 0
Crop Left : 0.122362
Crop Bottom : 0.877638
Crop Right : 1
Crop Angle : 0
Crop Constrain To Warp : 0
Crop Width : 1500
Crop Height : 1000
Crop Unit : pixels
Has Crop : True
Already Applied : True
Rights : Chris Malikoff
Tone Curve PV2012 : 0, 0, 255, 255
Tone Curve PV2012 Red : 0, 0, 255, 255
Tone Curve PV2012 Green : 0, 0, 255, 255
Tone Curve PV2012 Blue : 0, 0, 255, 255
Image Width : 300
Image Height : 200
Bits Per Sample : 8
Color Components : 1
Aperture : 3.5
Image Size : 300x200
Megapixels : 0.060
Scale Factor To 35 mm Equivalent : 1.0
Shutter Speed : 1/80
Circle Of Confusion : 0.030 mm
Field Of View : 54.4 deg
Focal Length : 35.0 mm (35 mm equivalent: 35.0 mm)
Hyperfocal Distance : 11.65 m
Light Value : 3.9
Lens ID : 35.0mm f/2.0