Uber Exif Photo
Make : Leica Camera AG
Camera Model Name : M9 Digital Camera
Software : Adobe Photoshop Lightroom 4.2 (Macintosh)
Modify Date : 2012:11:01 14:33:30
Exposure Time : 1/2000
Exposure Program : Aperture-priority AE
ISO : 160
Create Date : 2012:09:16 16:37:45
Shutter Speed Value : 1/2000
Exposure Compensation : 0
Max Aperture Value : 1.4
Metering Mode : Center-weighted average
Light Source : Unknown
Flash : No Flash
Focal Length : 35.0 mm
Profile Description : sRGB IEC61966-2.1
Creator Tool : Adobe Photoshop Lightroom 4.2 (Macintosh)
Format : image/jpeg
Version : 7.2
Process Version : 6.7
White Balance : Custom
Incremental Temperature : 0
Incremental Tint : +9
Saturation : 0
Sharpness : 76
Luminance Smoothing : 0
Color Noise Reduction : 0
Vignette Amount : 0
Shadow Tint : -3
Red Hue : -10
Red Saturation : -5
Green Hue : -15
Green Saturation : -9
Blue Hue : -4
Blue Saturation : +18
Vibrance : -19
Hue Adjustment Red : 0
Hue Adjustment Orange : +8
Hue Adjustment Yellow : 0
Hue Adjustment Green : 0
Hue Adjustment Aqua : 0
Hue Adjustment Blue : +5
Hue Adjustment Purple : -3
Hue Adjustment Magenta : -64
Saturation Adjustment Red : 0
Saturation Adjustment Orange : +7
Saturation Adjustment Yellow : 0
Saturation Adjustment Green : 0
Saturation Adjustment Aqua : 0
Saturation Adjustment Blue : +42
Saturation Adjustment Purple : +6
Saturation Adjustment Magenta : +48
Luminance Adjustment Red : 0
Luminance Adjustment Orange : -8
Luminance Adjustment Yellow : 0
Luminance Adjustment Green : 0
Luminance Adjustment Aqua : 0
Luminance Adjustment Blue : +65
Luminance Adjustment Purple : +9
Luminance Adjustment Magenta : +14
Split Toning Shadow Hue : 302
Split Toning Shadow Saturation : 0
Split Toning Highlight Hue : 152
Split Toning Highlight Saturation : 0
Split Toning Balance : 0
Parametric Shadows : -51
Parametric Darks : +19
Parametric Lights : +8
Parametric Highlights : +67
Parametric Shadow Split : 20
Parametric Midtone Split : 56
Parametric Highlight Split : 85
Sharpen Radius : +1.0
Sharpen Detail : 25
Sharpen Edge Masking : 0
Post Crop Vignette Amount : 0
Grain Amount : 0
Lens Profile Enable : 0
Lens Manual Distortion Amount : 0
Perspective Vertical : 0
Perspective Horizontal : 0
Perspective Rotate : 0.0
Perspective Scale : 100
Auto Lateral CA : 0
Exposure 2012 : -1.65
Contrast 2012 : +13
Highlights 2012 : +23
Shadows 2012 : -77
Whites 2012 : -9
Blacks 2012 : -33
Clarity 2012 : +77
Defringe Purple Amount : 0
Defringe Purple Hue Lo : 30
Defringe Purple Hue Hi : 70
Defringe Green Amount : 0
Defringe Green Hue Lo : 40
Defringe Green Hue Hi : 60
Convert To Grayscale : False
Tone Curve Name 2012 : Linear
Camera Profile : Embedded
Lens Profile Setup : LensDefaults
Has Settings : True
Crop Top : 0.248005
Crop Left : 0.356031
Crop Bottom : 0.571881
Crop Right : 0.52974
Crop Angle : 0
Crop Constrain To Warp : 0
Crop Width : 905
Crop Height : 1123
Crop Unit : pixels
Has Crop : True
Already Applied : True
Tone Curve PV2012 : 0, 0, 255, 255
Tone Curve PV2012 Red : 0, 0, 255, 255
Tone Curve PV2012 Green : 0, 0, 255, 255
Tone Curve PV2012 Blue : 0, 0, 255, 255
Image Width : 242
Image Height : 300
Bits Per Sample : 8
Color Components : 3
Image Size : 242x300
Megapixels : 0.073
Shutter Speed : 1/2000