Uber Exif Photo
Copyright Flag : False
Make : Nikon
Camera Model Name : Nikon SUPER COOLSCAN 5000 ED
Orientation : Horizontal (normal)
Software : Adobe Photoshop CS3 Macintosh
Modify Date : 2008:01:09 09:35:01
Color Space : sRGB
Exif Image Width : 769
Exif Image Height : 469
Profile Description : sRGB IEC61966-2.1
Rating : 0
Create Date : 2008:01:09 09:35:01-05:00
Creator Tool : Adobe Photoshop CS3 Macintosh
Version : 4.3.1
Raw File Name : 39.tif
White Balance : As Shot
Incremental Temperature : 0
Incremental Tint : 0
Exposure : +0.40
Shadows : 0
Brightness : +1
Contrast : 0
Sharpness : 101
Luminance Smoothing : 50
Chromatic Aberration R : 0
Chromatic Aberration B : 0
Vignette Amount : 0
Shadow Tint : 0
Red Hue : 0
Red Saturation : 0
Green Hue : 0
Green Saturation : 0
Blue Hue : 0
Blue Saturation : 0
Fill Light : 41
Highlight Recovery : 38
Clarity : 0
Defringe : 0
Gray Mixer Red : -7
Gray Mixer Orange : -16
Gray Mixer Yellow : -19
Gray Mixer Green : -25
Gray Mixer Aqua : -19
Gray Mixer Blue : +7
Gray Mixer Purple : +14
Gray Mixer Magenta : +5
Split Toning Shadow Hue : 0
Split Toning Shadow Saturation : 0
Split Toning Highlight Hue : 0
Split Toning Highlight Saturation : 0
Split Toning Balance : 0
Parametric Shadows : +9
Parametric Darks : +19
Parametric Lights : 0
Parametric Highlights : -2
Parametric Shadow Split : 25
Parametric Midtone Split : 50
Parametric Highlight Split : 75
Sharpen Radius : +0.5
Sharpen Detail : 51
Sharpen Edge Masking : 100
Convert To Grayscale : True
Tone Curve Name : Linear
Camera Profile : Embedded
Has Settings : True
Has Crop : False
Already Applied : True
Format : image/jpeg
Color Mode : RGB
ICC Profile Name : sRGB IEC61966-2.1
Tone Curve : 0, 0, 255, 255
Image Width : 300
Image Height : 183
Bits Per Sample : 8
Color Components : 3
Image Size : 300x183
Megapixels : 0.055