Uber Exif Photo
Photometric Interpretation : BlackIsZero
Make : Leica Camera AG
Camera Model Name : LEICA M11
Orientation : Horizontal (normal)
Samples Per Pixel : 1
Software : Adobe Photoshop 25.9 (Macintosh)
Modify Date : 2026:04:16 16:53:52
Exposure Time : 1/500
F Number : 8.0
Exposure Program : Manual
ISO : 4000
Sensitivity Type : Standard Output Sensitivity
Standard Output Sensitivity : 4000
ISO Speed : 4000
Date/Time Original : 2026:04:16 14:05:06
Create Date : 2026:04:16 14:05:06
Shutter Speed Value : 1/500
Aperture Value : 8.0
Exposure Compensation : -1.33
Max Aperture Value : 1.4
Metering Mode : Multi-segment
Light Source : Unknown
Flash : No Flash
Focal Length : 50.0 mm
Color Space : Uncalibrated
Exif Image Width : 3200
Exif Image Height : 3200
Scene Type : Directly photographed
Custom Rendered : Normal
Exposure Mode : Manual
White Balance : Auto
Digital Zoom Ratio : 0
Scene Capture Type : Standard
Contrast : Normal
Saturation : Normal
Sharpness : Normal
Serial Number : 5672124
Lens Info : 50mm f/1.4
Lens Make : Leica Camera AG
Lens Model : Summilux-M 1:1.4/50
Version ID : 02.00
Rating : 0
Creator Tool : 2.5.1
Format : image/jpeg
Correction Already Applied : False
Pitch Angle : 8.9720001220
Roll Angle : 0.3639984130
Focal Length 35mm : 50.0000000000
Target Aspect Ratio : 1.5000000000
Scaling Factor Height : 0.9460334181
Valid Crop Corners : True
Apply Automatically : False
Lens : Summilux-M 1:1.4/50
Approximate Focus Distance : 12.4
Lateral Chromatic Aberration Correction Already Applied:
True
Date Created : 2026:04:16 14:05:06
Color Mode : Grayscale
ICC Profile Name : Gray Gamma 2.2
Version : 18.2.2
Process Version : 15.4
Color Temperature : 5000
Tint : +12
Exposure 2012 : 0.00
Contrast 2012 : +9
Highlights 2012 : -61
Shadows 2012 : +37
Whites 2012 : +50
Blacks 2012 : -26
Texture : 0
Clarity 2012 : 0
Dehaze : 0
Vibrance : +20
Parametric Shadows : 0
Parametric Darks : 0
Parametric Lights : 0
Parametric Highlights : 0
Parametric Shadow Split : 25
Parametric Midtone Split : 50
Parametric Highlight Split : 75
Sharpen Radius : +1.0
Sharpen Detail : 25
Sharpen Edge Masking : 0
Luminance Smoothing : 20
Luminance Noise Reduction Detail : 50
Luminance Noise Reduction Contrast : 0
Color Noise Reduction : 25
Color Noise Reduction Detail : 50
Color Noise Reduction Smoothness : 50
Gray Mixer Red : 0
Gray Mixer Orange : +8
Gray Mixer Yellow : +27
Gray Mixer Green : 0
Gray Mixer Aqua : 0
Gray Mixer Blue : +81
Gray Mixer Purple : +1
Gray Mixer Magenta : 0
Split Toning Shadow Hue : 0
Split Toning Shadow Saturation : 0
Split Toning Highlight Hue : 0
Split Toning Highlight Saturation : 0
Split Toning Balance : 0
Color Grade Midtone Hue : 0
Color Grade Midtone Sat : 0
Color Grade Shadow Lum : 0
Color Grade Midtone Lum : 0
Color Grade Highlight Lum : 0
Color Grade Blending : 50
Color Grade Global Hue : 0
Color Grade Global Sat : 0
Color Grade Global Lum : 0
Auto Lateral CA : 1
Lens Profile Enable : 1
Lens Manual Distortion Amount : 0
Vignette Amount : 0
Perspective Upright : Off
Perspective Vertical : 0
Perspective Horizontal : 0
Perspective Rotate : 0.0
Perspective Aspect : 0
Perspective Scale : 100
Perspective X : 0.00
Perspective Y : 0.00
Grain Amount : 0
Post Crop Vignette Amount : 0
Shadow Tint : 0
Red Hue : 0
Red Saturation : 0
Green Hue : 0
Green Saturation : 0
Blue Hue : 0
Blue Saturation : 0
HDR Edit Mode : 0
Override Look Vignette : False
Tone Curve Name 2012 : Linear
Camera Profile : Adobe Standard
Lens Profile Setup : LensDefaults
Has Settings : True
Has Crop : False
Already Applied : True
Derived From Version ID : 02.00
Normalized Crop Corners : 0.0714743286, 0.0081273103, 0.9959722161, 0.0490188337, 0.9997522234, 0.9414923191, 0.0756752789, 1.0000000000
Tone Curve PV2012 : 0, 0, 255, 255
Tone Curve PV2012 Red : 0, 0, 255, 255
Tone Curve PV2012 Green : 0, 0, 255, 255
Tone Curve PV2012 Blue : 0, 0, 255, 255
Point Colors : -1.000000, -1.000000, -1.000000, -1.000000, -1.000000, -1.000000, -1.000000, -1.000000, -1.000000, -1.000000, -1.000000, -1.000000, -1.000000, -1.000000, -1.000000, -1.000000, -1.000000, -1.000000, -1.000000
Color Variance : -50.000000
Look Name : Adobe Monochrome
Look Amount : 1
Look Supports Amount : false
Look Supports Monochrome : false
Look Supports Output Referred : false
Look Copyright : © 2018 Adobe Systems, Inc.
Look Group : Profiles
Look Parameters Version : 18.2.2
Look Parameters Process Version : 15.4
Look Parameters Clarity 2012 : +8
Look Parameters Convert To Grayscale : True
Look Parameters Camera Profile : Adobe Standard
Look Parameters Look Table : 73ED6C18DDE909DD7EA2D771F5AC282D
Look Parameters Tone Curve PV2012 : 0, 0, 64, 56, 128, 128, 192, 197, 255, 255
Look Parameters Tone Curve PV2012 Red : 0, 0, 255, 255
Look Parameters Tone Curve PV2012 Green : 0, 0, 255, 255
Look Parameters Tone Curve PV2012 Blue : 0, 0, 255, 255
Profile Description : Gray Gamma 2.2
Image Width : 400
Image Height : 400
Bits Per Sample : 8
Color Components : 1
Aperture : 8.0
Image Size : 400x400
Megapixels : 0.160
Scale Factor To 35 mm Equivalent : 2.5
Shutter Speed : 1/500
Circle Of Confusion : 0.012 mm
Depth Of Field : 14.95 m (8.44 - 23.39 m)
Field Of View : 16.2 deg
Focal Length : 50.0 mm (35 mm equivalent: 126.4 mm)
Hyperfocal Distance : 26.29 m
Light Value : 9.6
Lens ID : Summilux-M 1:1.4/50