Uber Exif Photo
Photometric Interpretation : RGB
Make : LEICA CAMERA AG
Camera Model Name : LEICA SL (Typ 601)
Orientation : Horizontal (normal)
Samples Per Pixel : 3
Software : Adobe Photoshop 27.5 (Windows)
Modify Date : 2026:04:27 20:47:41
Artist : Artist
Copyright : Infor
Exposure Time : 1/320
F Number : 4.0
Exposure Program : Aperture-priority AE
ISO : 200
Sensitivity Type : Standard Output Sensitivity
Date/Time Original : 2026:04:27 16:26:19
Create Date : 2026:04:27 16:26:19
Shutter Speed Value : 1/320
Aperture Value : 4.0
Exposure Compensation : 0
Max Aperture Value : 2.8
Metering Mode : Multi-segment
Light Source : Unknown
Flash : Off, Did not fire
Focal Length : 90.0 mm
Color Space : sRGB
Exif Image Width : 2400
Exif Image Height : 1600
Sensing Method : One-chip color area
Custom Rendered : Normal
White Balance : Auto
Focal Length In 35mm Format : 90 mm
Scene Capture Type : Standard
Contrast : High
Saturation : High
Sharpness : Soft
Serial Number : 4967109
Lens Info : 90mm f/3
Lens Make : Sigma
Lens Model : 90mm F2.8 DG | Contemporary 021
Lens Serial Number : 8675873
GPS Version ID : 2.3.0.0
GPS Latitude Ref : North
GPS Longitude Ref : West
GPS Altitude Ref : Above Sea Level
GPS Time Stamp : 20:26:17
GPS Status : Measurement Active
GPS Measure Mode : 3-Dimensional Measurement
GPS Map Datum : WGS-84
GPS Date Stamp : 2026:04:27
By-line : Artist
Copyright Notice : Infor
Creator Tool : Adobe Photoshop Lightroom Classic 15.3 (Windows)
Format : image/jpeg
Lens : 90mm F2.8 DG | Contemporary 021
Distortion Correction Already Applied : True
Lateral Chromatic Aberration Correction Already Applied:
True
Vignette Correction Already Applied : True
Date Created : 2026:04:27 16:26:19
Color Mode : RGB
ICC Profile Name : sRGB IEC61966-2.1
Preserved File Name : L1070298.DNG
Pick : 0
Raw File Name : L1070298.DNG
Version : 18.3
Compatible Version : 251854848
Process Version : 15.4
Auto White Version : 134348800
Color Temperature : 7500
Tint : +29
Exposure 2012 : 0.00
Contrast 2012 : 0
Highlights 2012 : 0
Shadows 2012 : 0
Whites 2012 : 0
Blacks 2012 : 0
Texture : 0
Clarity 2012 : -8
Dehaze : 0
Vibrance : 0
Parametric Shadows : 0
Parametric Darks : 0
Parametric Lights : 0
Parametric Highlights : 0
Parametric Shadow Split : 25
Parametric Midtone Split : 50
Parametric Highlight Split : 75
Sharpen Radius : +3.0
Sharpen Detail : 100
Sharpen Edge Masking : 25
Luminance Smoothing : 24
Luminance Noise Reduction Detail : 50
Luminance Noise Reduction Contrast : 0
Color Noise Reduction : 25
Color Noise Reduction Detail : 50
Color Noise Reduction Smoothness : 50
Hue Adjustment Red : +2
Hue Adjustment Orange : +8
Hue Adjustment Yellow : +15
Hue Adjustment Green : +18
Hue Adjustment Aqua : +12
Hue Adjustment Blue : +5
Hue Adjustment Purple : +4
Hue Adjustment Magenta : +36
Saturation Adjustment Red : +31
Saturation Adjustment Orange : +24
Saturation Adjustment Yellow : +21
Saturation Adjustment Green : 0
Saturation Adjustment Aqua : +92
Saturation Adjustment Blue : -19
Saturation Adjustment Purple : +30
Saturation Adjustment Magenta : +18
Luminance Adjustment Red : +8
Luminance Adjustment Orange : -3
Luminance Adjustment Yellow : -2
Luminance Adjustment Green : +2
Luminance Adjustment Aqua : +7
Luminance Adjustment Blue : -6
Luminance Adjustment Purple : +4
Luminance Adjustment Magenta : +9
Split Toning Shadow Hue : 0
Split Toning Shadow Saturation : 0
Split Toning Highlight Hue : 0
Split Toning Highlight Saturation : 0
Split Toning Balance : 0
Color Grade Midtone Hue : 0
Color Grade Midtone Sat : 0
Color Grade Shadow Lum : 0
Color Grade Midtone Lum : 0
Color Grade Highlight Lum : 0
Color Grade Blending : 50
Color Grade Global Hue : 0
Color Grade Global Sat : 0
Color Grade Global Lum : 0
Auto Lateral CA : 1
Lens Profile Enable : 1
Lens Manual Distortion Amount : 0
Vignette Amount : 0
Defringe Purple Amount : 0
Defringe Purple Hue Lo : 30
Defringe Purple Hue Hi : 70
Defringe Green Amount : 0
Defringe Green Hue Lo : 40
Defringe Green Hue Hi : 60
Perspective Upright : Off
Perspective Vertical : 0
Perspective Horizontal : 0
Perspective Rotate : 0.0
Perspective Aspect : 0
Perspective Scale : 100
Perspective X : 0.00
Perspective Y : 0.00
Grain Amount : 0
Post Crop Vignette Amount : 0
Shadow Tint : 0
Red Hue : 0
Red Saturation : 0
Green Hue : 0
Green Saturation : 0
Blue Hue : 0
Blue Saturation : 0
HDR Edit Mode : 0
Curve Refine Saturation : 100
Convert To Grayscale : False
Override Look Vignette : False
Tone Curve Name 2012 : Custom
Camera Profile : Adobe Standard
Lens Profile Setup : LensDefaults
Lens Profile Name : Adobe (SIGMA 90mm F2.8 DG DN C021, SIGMA L)
Lens Profile Filename : SIGMA (SIGMA 90mm F2.8 DG DN C021 L Mount) - RAW.lcp
Lens Profile Is Embedded : False
Lens Profile Distortion Scale : 100
Lens Profile Vignetting Scale : 100
Has Settings : True
Crop Top : 0
Crop Left : 0
Crop Bottom : 1
Crop Right : 1
Crop Angle : 0
Crop Constrain To Warp : 0
Crop Constrain To Unit Square : 1
Has Crop : False
Already Applied : True
Creator : Artist
Rights : Infor
Tone Curve PV2012 : 0, 0, 46, 25, 104, 87, 161, 146, 208, 198, 230, 226, 241, 239, 255, 255
Tone Curve PV2012 Red : 0, 0, 255, 255
Tone Curve PV2012 Green : 0, 0, 255, 255
Tone Curve PV2012 Blue : 0, 0, 255, 255
Point Colors : -1.000000, -1.000000, -1.000000, -1.000000, -1.000000, -1.000000, -1.000000, -1.000000, -1.000000, -1.000000, -1.000000, -1.000000, -1.000000, -1.000000, -1.000000, -1.000000, -1.000000, -1.000000, -1.000000
Color Variance : -50.000000
100
50006
2
1
0
false
0.021471
Profile Description : sRGB IEC61966-2.1
Image Width : 400
Image Height : 267
Bits Per Sample : 8
Color Components : 3
Aperture : 4.0
Image Size : 400x267
Megapixels : 0.107
Scale Factor To 35 mm Equivalent : 1.0
Shutter Speed : 1/320
Modify Date : 2026:04:27 20:47:41-04:00
GPS Altitude : 0 m Above Sea Level
GPS Date/Time : 2026:04:27 20:26:17Z
GPS Latitude : 41 deg 7' 27.21" N
GPS Longitude : 73 deg 54' 32.64" W
Circle Of Confusion : 0.030 mm
Field Of View : 22.6 deg
Focal Length : 90.0 mm (35 mm equivalent: 90.0 mm)
GPS Position : 41 deg 7' 27.21" N, 73 deg 54' 32.64" W
Hyperfocal Distance : 67.40 m
Light Value : 11.3
Lens ID : 90mm F2.8 DG | Contemporary 021