Uber Exif Photo
Make : LEICA CAMERA AG
Camera Model Name : LEICA X VARIO (Typ 107)
Software : Adobe Photoshop Lightroom Classic 15.2.1 (Windows)
Modify Date : 2026:04:09 22:11:14
Exposure Time : 1/500
F Number : 8.0
Exposure Program : Aperture-priority AE
ISO : 100
Date/Time Original : 2026:04:09 14:29:34
Create Date : 2026:04:09 14:29:34
Shutter Speed Value : 1/500
Aperture Value : 8.0
Exposure Compensation : -0.3
Max Aperture Value : 3.5
Metering Mode : Multi-segment
Light Source : Unknown
Flash : Off, Did not fire
Focal Length : 46.0 mm
Original File Name : L9612740.DNG
Original Directory : 961LEICA
Focus Distance : 9.624 m
Exposure Mode : Aperture-priority AE
File Index : 2740
Film Mode : Standard *
WB RGB Levels : 0.4970873786 1 0.5739910314
Internal Serial Number : 000000000000
Color Space : sRGB
Sensing Method : One-chip color area
Custom Rendered : Normal
White Balance : Auto
Digital Zoom Ratio : 1
Focal Length In 35mm Format : 70 mm
Scene Capture Type : Landscape
Contrast : High
Saturation : High
Sharpness : Soft
Serial Number : 000004704722
Lens Info : 18-46mm f/3.5-6.4
Lens Model : 18.0-46.0 mm f/3.5-6.4
Maker Note Safety : Safe
Profile Description : sRGB IEC61966-2.1
Creator Tool : Adobe Photoshop Lightroom Classic 15.2.1 (Windows)
Lens : 18.0-46.0 mm f/3.5-6.4
Distortion Correction Already Applied : True
Lateral Chromatic Aberration Correction Already Applied:
True
Date Created : 2026:04:09 14:29:34
Preserved File Name : L9612740.DNG
Format : image/jpeg
Pick : 0
Raw File Name : L9612740.DNG
Version : 18.2.2
Process Version : 15.4
Color Temperature : 5100
Tint : +20
Exposure 2012 : +0.20
Contrast 2012 : -18
Highlights 2012 : -11
Shadows 2012 : +28
Whites 2012 : -22
Blacks 2012 : +16
Texture : 0
Clarity 2012 : +4
Dehaze : 0
Parametric Shadows : 0
Parametric Darks : 0
Parametric Lights : 0
Parametric Highlights : 0
Parametric Shadow Split : 25
Parametric Midtone Split : 50
Parametric Highlight Split : 75
Sharpen Radius : +3.0
Sharpen Detail : 100
Sharpen Edge Masking : 50
Luminance Smoothing : 24
Luminance Noise Reduction Detail : 50
Luminance Noise Reduction Contrast : 0
Color Noise Reduction : 25
Color Noise Reduction Detail : 50
Color Noise Reduction Smoothness : 50
Gray Mixer Red : -6
Gray Mixer Orange : -16
Gray Mixer Yellow : -20
Gray Mixer Green : -25
Gray Mixer Aqua : -19
Gray Mixer Blue : +8
Gray Mixer Purple : +15
Gray Mixer Magenta : +6
Hue Adjustment Orange : +18
Hue Adjustment Yellow : -6
Hue Adjustment Aqua : +37
Hue Adjustment Purple : -19
Hue Adjustment Magenta : -32
Saturation Adjustment Orange : +28
Saturation Adjustment Yellow : +43
Saturation Adjustment Aqua : +53
Saturation Adjustment Purple : -4
Saturation Adjustment Magenta : -15
Luminance Adjustment Orange : +8
Luminance Adjustment Yellow : +16
Luminance Adjustment Aqua : +12
Luminance Adjustment Purple : +12
Luminance Adjustment Magenta : +2
Split Toning Shadow Hue : 0
Split Toning Shadow Saturation : 0
Split Toning Highlight Hue : 0
Split Toning Highlight Saturation : 0
Split Toning Balance : 0
Color Grade Midtone Hue : 0
Color Grade Midtone Sat : 0
Color Grade Shadow Lum : 0
Color Grade Midtone Lum : 0
Color Grade Highlight Lum : 0
Color Grade Blending : 50
Color Grade Global Hue : 0
Color Grade Global Sat : 0
Color Grade Global Lum : 0
Auto Lateral CA : 1
Lens Profile Enable : 1
Lens Manual Distortion Amount : 0
Vignette Amount : 0
Perspective Upright : Off
Perspective Vertical : 0
Perspective Horizontal : 0
Perspective Rotate : 0.0
Perspective Aspect : 0
Perspective Scale : 100
Perspective X : 0.00
Perspective Y : 0.00
Grain Amount : 0
Post Crop Vignette Amount : 0
Shadow Tint : 0
Red Hue : 0
Red Saturation : 0
Green Hue : 0
Green Saturation : 0
Blue Hue : 0
Blue Saturation : 0
HDR Edit Mode : 0
Convert To Grayscale : True
Override Look Vignette : False
Tone Curve Name 2012 : Custom
Camera Profile : Adobe Standard
Lens Profile Setup : LensDefaults
Has Settings : True
Crop Top : 0.149756
Crop Left : 0.184783
Crop Bottom : 0.86517
Crop Right : 0.900197
Crop Angle : 0
Crop Constrain To Warp : 0
Crop Constrain To Unit Square : 1
Has Crop : True
Already Applied : True
Tone Curve PV2012 : 0, 0, 50, 28, 74, 54, 86, 67, 106, 90, 122, 109, 133, 123, 143, 137, 154, 155, 162, 163, 170, 175, 179, 183, 186, 193, 194, 202, 219, 230, 255, 255
Tone Curve PV2012 Red : 0, 0, 255, 255
Tone Curve PV2012 Green : 0, 0, 255, 255
Tone Curve PV2012 Blue : 0, 0, 255, 255
Point Colors : -1.000000, -1.000000, -1.000000, -1.000000, -1.000000, -1.000000, -1.000000, -1.000000, -1.000000, -1.000000, -1.000000, -1.000000, -1.000000, -1.000000, -1.000000, -1.000000, -1.000000, -1.000000, -1.000000
Color Variance : -50.000000
Image Width : 400
Image Height : 265
Bits Per Sample : 8
Color Components : 3
Aperture : 8.0
Blue Balance : 0.573991
Image Size : 400x265
Megapixels : 0.106
Red Balance : 0.497087
Scale Factor To 35 mm Equivalent : 1.5
Shutter Speed : 1/500
Modify Date : 2026:04:09 22:11:14-04:00
Circle Of Confusion : 0.020 mm
Depth Of Field : 28.16 m (5.61 - 33.77 m)
Field Of View : 28.7 deg (4.93 m)
Focal Length : 46.0 mm (35 mm equivalent: 70.0 mm)
Hyperfocal Distance : 13.40 m
Light Value : 15.0
Lens ID : 18.0-46.0mm f/3.5-6.4