Uber Exif Photo
Photometric Interpretation : RGB
Make : LEICA CAMERA AG
Camera Model Name : LEICA SL (Typ 601)
Orientation : Horizontal (normal)
Samples Per Pixel : 3
Software : Adobe Photoshop 27.4 (Windows)
Modify Date : 2026:03:17 20:07:31
Exposure Time : 1/800
F Number : 2.8
Exposure Program : Aperture-priority AE
ISO : 200
Sensitivity Type : Standard Output Sensitivity
Date/Time Original : 2026:03:08 17:01:15
Create Date : 2026:03:08 17:01:15
Shutter Speed Value : 1/800
Aperture Value : 2.8
Exposure Compensation : 0
Max Aperture Value : 2.8
Metering Mode : Multi-segment
Light Source : Unknown
Flash : Off, Did not fire
Focal Length : 90.0 mm
Color Space : sRGB
Exif Image Width : 2000
Exif Image Height : 3000
Sensing Method : One-chip color area
Custom Rendered : Normal
White Balance : Auto
Focal Length In 35mm Format : 90 mm
Scene Capture Type : Standard
Contrast : High
Saturation : Normal
Sharpness : Soft
Serial Number : 4967109
Lens Info : 90mm f/3
Lens Make : Sigma
Lens Model : 90mm F2.8 DG | Contemporary 021
Lens Serial Number : 8675873
GPS Version ID : 2.3.0.0
GPS Latitude Ref : North
GPS Longitude Ref : West
GPS Altitude Ref : Above Sea Level
GPS Time Stamp : 21:01:15
GPS Status : Measurement Active
GPS Measure Mode : 3-Dimensional Measurement
GPS Map Datum : WGS-84
GPS Date Stamp : 2026:03:08
Creator Tool : Adobe Photoshop Lightroom Classic 15.2 (Windows)
Lens : 90mm F2.8 DG | Contemporary 021
Distortion Correction Already Applied : True
Lateral Chromatic Aberration Correction Already Applied:
True
Date Created : 2026:03:08 17:01:15
Color Mode : RGB
ICC Profile Name : sRGB IEC61966-2.1
Preserved File Name : L1050727.DNG
Format : image/jpeg
Pick : 0
Raw File Name : L1050727.DNG
Version : 18.2
Process Version : 15.4
Color Temperature : 5100
Tint : +20
Exposure 2012 : 0.00
Contrast 2012 : 0
Highlights 2012 : 0
Shadows 2012 : 0
Whites 2012 : 0
Blacks 2012 : -23
Texture : 0
Clarity 2012 : +5
Dehaze : 0
Vibrance : 0
Parametric Shadows : 0
Parametric Darks : 0
Parametric Lights : 0
Parametric Highlights : 0
Parametric Shadow Split : 25
Parametric Midtone Split : 50
Parametric Highlight Split : 75
Sharpen Radius : +3.0
Sharpen Detail : 100
Sharpen Edge Masking : 50
Luminance Smoothing : 24
Luminance Noise Reduction Detail : 50
Luminance Noise Reduction Contrast : 0
Color Noise Reduction : 25
Color Noise Reduction Detail : 50
Color Noise Reduction Smoothness : 50
Hue Adjustment Red : +21
Hue Adjustment Orange : -8
Hue Adjustment Yellow : +6
Hue Adjustment Green : +1
Hue Adjustment Aqua : +17
Hue Adjustment Blue : -15
Hue Adjustment Purple : -2
Hue Adjustment Magenta : +59
Saturation Adjustment Red : +12
Saturation Adjustment Orange : -17
Saturation Adjustment Yellow : -20
Saturation Adjustment Green : -20
Saturation Adjustment Aqua : +11
Saturation Adjustment Blue : +9
Saturation Adjustment Purple : -14
Saturation Adjustment Magenta : -1
Luminance Adjustment Red : +6
Luminance Adjustment Orange : +7
Luminance Adjustment Yellow : -3
Luminance Adjustment Green : +6
Luminance Adjustment Aqua : -5
Luminance Adjustment Blue : -6
Luminance Adjustment Purple : -3
Luminance Adjustment Magenta : +11
Split Toning Shadow Hue : 0
Split Toning Shadow Saturation : 0
Split Toning Highlight Hue : 0
Split Toning Highlight Saturation : 0
Split Toning Balance : 0
Color Grade Midtone Hue : 0
Color Grade Midtone Sat : 0
Color Grade Shadow Lum : 0
Color Grade Midtone Lum : 0
Color Grade Highlight Lum : 0
Color Grade Blending : 50
Color Grade Global Hue : 0
Color Grade Global Sat : 0
Color Grade Global Lum : 0
Auto Lateral CA : 1
Lens Profile Enable : 0
Lens Manual Distortion Amount : 0
Vignette Amount : 0
Defringe Purple Amount : 0
Defringe Purple Hue Lo : 30
Defringe Purple Hue Hi : 70
Defringe Green Amount : 0
Defringe Green Hue Lo : 40
Defringe Green Hue Hi : 60
Perspective Upright : Off
Perspective Vertical : 0
Perspective Horizontal : 0
Perspective Rotate : 0.0
Perspective Aspect : 0
Perspective Scale : 100
Perspective X : 0.00
Perspective Y : 0.00
Grain Amount : 0
Post Crop Vignette Amount : 0
Shadow Tint : 0
Red Hue : 0
Red Saturation : 0
Green Hue : 0
Green Saturation : 0
Blue Hue : 0
Blue Saturation : 0
HDR Edit Mode : 0
Curve Refine Saturation : 100
Convert To Grayscale : False
Override Look Vignette : False
Tone Curve Name 2012 : Custom
Camera Profile : Adobe Standard
Has Settings : True
Crop Top : 0
Crop Left : 0
Crop Bottom : 1
Crop Right : 1
Crop Angle : 0
Crop Constrain To Warp : 0
Crop Constrain To Unit Square : 1
Has Crop : False
Already Applied : True
Tone Curve PV2012 : 0, 0, 50, 31, 106, 92, 133, 125, 154, 153, 162, 161, 170, 172, 179, 181, 186, 193, 194, 202, 213, 225, 222, 234, 238, 247, 255, 255
Tone Curve PV2012 Red : 0, 0, 105, 106, 154, 155, 193, 192, 221, 221, 255, 255
Tone Curve PV2012 Green : 0, 0, 106, 107, 154, 155, 194, 194, 255, 255
Tone Curve PV2012 Blue : 0, 0, 108, 108, 155, 156, 222, 221, 244, 245, 255, 255
Point Colors : -1.000000, -1.000000, -1.000000, -1.000000, -1.000000, -1.000000, -1.000000, -1.000000, -1.000000, -1.000000, -1.000000, -1.000000, -1.000000, -1.000000, -1.000000, -1.000000, -1.000000, -1.000000, -1.000000
Color Variance : -50.000000
Profile Description : sRGB IEC61966-2.1
Image Width : 267
Image Height : 400
Bits Per Sample : 8
Color Components : 3
Aperture : 2.8
Image Size : 267x400
Megapixels : 0.107
Scale Factor To 35 mm Equivalent : 1.0
Shutter Speed : 1/800
Modify Date : 2026:03:17 20:07:31-04:00
GPS Altitude : 0 m Above Sea Level
GPS Date/Time : 2026:03:08 21:01:15Z
GPS Latitude : 40 deg 58' 57.66" N
GPS Longitude : 74 deg 1' 15.30" W
Circle Of Confusion : 0.030 mm
Field Of View : 22.6 deg
Focal Length : 90.0 mm (35 mm equivalent: 90.0 mm)
GPS Position : 40 deg 58' 57.66" N, 74 deg 1' 15.30" W
Hyperfocal Distance : 96.28 m
Light Value : 11.6
Lens ID : 90mm F2.8 DG | Contemporary 021