Uber Exif Photo
Make : Leica Camera AG
Camera Model Name : LEICA M11
Orientation : Horizontal (normal)
Software : Adobe Photoshop Lightroom 6.0 (Windows)
Modify Date : 2025:09:11 15:25:10
Artist : KEN DAVIS
Copyright : Info
Exposure Time : 1/200
F Number : 6.8
Exposure Program : Aperture-priority AE
ISO : 250
Sensitivity Type : Standard Output Sensitivity
Standard Output Sensitivity : 250
ISO Speed : 250
Date/Time Original : 2025:09:06 10:12:54
Create Date : 2025:09:06 10:12:54
Shutter Speed Value : 1/200
Aperture Value : 6.8
Exposure Compensation : -0.333
Max Aperture Value : 4.0
Metering Mode : Multi-segment
Light Source : Unknown
Flash : No Flash
Focal Length : 50.0 mm
Color Space : sRGB
Scene Type : Directly photographed
Custom Rendered : Normal
Exposure Mode : Auto
White Balance : Auto
Digital Zoom Ratio : 0
Scene Capture Type : Standard
Contrast : Normal
Saturation : Normal
Sharpness : Normal
Serial Number : 5595027
Lens Info : 28-50mm f/4
Lens Make : Leica Camera AG
Lens Model : Tri-Elmar-M 1:4/28-35-50 ASPH.
Version ID : 02.00
Creator Tool : Adobe Photoshop Lightroom 6.0 (Windows)
Format : image/jpeg
Correction Already Applied : False
Pitch Angle : -13.4930000305
Roll Angle : -0.3779983520
Focal Length 35mm : 50.0000000000
Target Aspect Ratio : 1.5000000000
Scaling Factor Height : 0.9306380748
Valid Crop Corners : True
Apply Automatically : False
Lens : Tri-Elmar-M 1:4/28-35-50 ASPH.
Version : 9.0
Process Version : 6.7
Auto White Version : 134348800
Color Temperature : 5400
Tint : +13
Luminance Smoothing : 0
Color Noise Reduction : 25
Vignette Amount : 0
Shadow Tint : 0
Red Hue : 0
Red Saturation : 0
Green Hue : 0
Green Saturation : 0
Blue Hue : 0
Blue Saturation : 0
Vibrance : 0
Hue Adjustment Red : 0
Hue Adjustment Orange : 0
Hue Adjustment Yellow : 0
Hue Adjustment Green : 0
Hue Adjustment Aqua : 0
Hue Adjustment Blue : 0
Hue Adjustment Purple : 0
Hue Adjustment Magenta : 0
Saturation Adjustment Red : 0
Saturation Adjustment Orange : 0
Saturation Adjustment Yellow : 0
Saturation Adjustment Green : 0
Saturation Adjustment Aqua : 0
Saturation Adjustment Blue : 0
Saturation Adjustment Purple : 0
Saturation Adjustment Magenta : 0
Luminance Adjustment Red : 0
Luminance Adjustment Orange : 0
Luminance Adjustment Yellow : 0
Luminance Adjustment Green : 0
Luminance Adjustment Aqua : 0
Luminance Adjustment Blue : 0
Luminance Adjustment Purple : 0
Luminance Adjustment Magenta : 0
Split Toning Shadow Hue : 0
Split Toning Shadow Saturation : 0
Split Toning Highlight Hue : 0
Split Toning Highlight Saturation : 0
Split Toning Balance : 0
Parametric Shadows : 0
Parametric Darks : 0
Parametric Lights : 0
Parametric Highlights : 0
Parametric Shadow Split : 25
Parametric Midtone Split : 50
Parametric Highlight Split : 75
Sharpen Radius : +1.0
Sharpen Detail : 45
Sharpen Edge Masking : 0
Post Crop Vignette Amount : 0
Grain Amount : 0
Color Noise Reduction Detail : 50
Color Noise Reduction Smoothness : 50
Lens Profile Enable : 1
Lens Manual Distortion Amount : 0
Perspective Vertical : 0
Perspective Horizontal : 0
Perspective Rotate : 0.0
Perspective Scale : 100
Perspective Aspect : 0
Perspective Upright : Off
Auto Lateral CA : 1
Exposure 2012 : +0.24
Contrast 2012 : +12
Highlights 2012 : -13
Shadows 2012 : +26
Whites 2012 : +24
Blacks 2012 : 0
Clarity 2012 : 0
Defringe Purple Amount : 0
Defringe Purple Hue Lo : 30
Defringe Purple Hue Hi : 70
Defringe Green Amount : 0
Defringe Green Hue Lo : 40
Defringe Green Hue Hi : 60
Convert To Grayscale : False
Tone Curve Name : Linear
Tone Curve Name 2012 : Linear
Camera Profile : PROFILE M11
Lens Profile Setup : Custom
Lens Profile Name : Adobe (Leica ELMARIT-M 28 mm f/2.8 ASPH.)
Lens Profile Filename : Leica Camera AG (Leica ELMARIT-M 28 mm f2.8 ASPH.) - RAW.lcp
Lens Profile Distortion Scale : 100
Lens Profile Chromatic Aberration Scale : 100
Lens Profile Vignetting Scale : 100
Has Settings : True
Crop Top : 0.149635
Crop Left : 0.14303
Crop Bottom : 1
Crop Right : 0.907879
Crop Angle : 0
Crop Constrain To Warp : 0
Has Crop : True
Already Applied : True
Raw File Name : LF 202509 - 050 - Worksop Web.jpg
Derived From Version ID : 02.00
Creator : KEN DAVIS
Rights : Info
Subject : Ken Davis, Leica Fellowship, Leica Fellowship Autumn Meeting 2025, Leica M11, Worksop
Normalized Crop Corners : 0.1179484575, 0.0000000000, 0.9996497631, 0.0796337500, 0.9959086179, 0.9302183985, 0.1135836318, 0.9923951625
Tone Curve : 0, 0, 255, 255
Tone Curve Red : 0, 0, 255, 255
Tone Curve Green : 0, 0, 255, 255
Tone Curve Blue : 0, 0, 255, 255
Tone Curve PV2012 : 0, 0, 255, 255
Tone Curve PV2012 Red : 0, 0, 255, 255
Tone Curve PV2012 Green : 0, 0, 255, 255
Tone Curve PV2012 Blue : 0, 0, 255, 255
Paint Correction What : Correction
Paint Correction Amount : 1.000000
Paint Correction Active : true
Paint Correction Saturation : 0.000000
Paint Correction Sharpness : 0.000000
Paint Correction Brightness : 0.000000
Paint Correction Toning Hue : 0.000000
Paint Correction Toning Saturation : 0.000000
Paint Correction Exposure 2012 : -0.285750
Paint Correction Contrast 2012 : 0.000000
Paint Correction Highlights 2012 : -0.452380
Paint Correction Shadows 2012 : 0.000000
Paint Correction Clarity 2012 : 0.000000
Paint Correction Luminance Noise : 0.000000
Paint Correction Moire : 0.000000
Paint Correction Defringe : 0.000000
Paint Correction Temperature : 0.000000
Paint Correction Tint : 0.000000
Paint Correction Mask What : Mask/Paint
Paint Correction Mask Value : 0.372000
Paint Correction Mask Radius : 0.052300
Paint Correction Mask Flow : 1.000000
Paint Correction Mask Center Weight : 0.000000
Keywords : Ken Davis, Leica Fellowship, Leica Fellowship Autumn Meeting 2025, Leica M11, Worksop
Date Created : 2025:09:06
By-line : KEN DAVIS
Copyright Notice : Info
Profile Description : sRGB IEC61966-2.1
Image Width : 295
Image Height : 400
Bits Per Sample : 8
Color Components : 3
Aperture : 6.8
Image Size : 295x400
Megapixels : 0.118
Shutter Speed : 1/200
Light Value : 11.9