Uber Exif Photo
Photometric Interpretation : RGB
Make : LEICA CAMERA AG
Camera Model Name : LEICA SL (Typ 601)
Orientation : Horizontal (normal)
Samples Per Pixel : 3
Software : Adobe Photoshop 27.2 (Windows)
Modify Date : 2026:01:05 00:34:04
Exposure Time : 1/200
F Number : 9.0
Exposure Program : Aperture-priority AE
ISO : 400
Sensitivity Type : Standard Output Sensitivity
Date/Time Original : 2026:01:01 15:44:46
Create Date : 2026:01:01 15:44:46
Shutter Speed Value : 1/200
Aperture Value : 9.0
Exposure Compensation : -0.3
Max Aperture Value : 3.5
Metering Mode : Multi-segment
Light Source : Unknown
Flash : Off, Did not fire
Focal Length : 20.0 mm
Color Space : sRGB
Exif Image Width : 3000
Exif Image Height : 2000
Sensing Method : One-chip color area
Custom Rendered : Normal
White Balance : Auto
Focal Length In 35mm Format : 20 mm
Scene Capture Type : Standard
Contrast : Normal
Saturation : Normal
Sharpness : Soft
Serial Number : 4967109
Lens Info : 20-60mm f/3.65234375-4.99609375
Lens Make : Panasonic
Lens Model : LUMIX S 20-60/F3.5-5.6
Lens Serial Number : 1374
GPS Version ID : 2.3.0.0
GPS Latitude Ref : North
GPS Longitude Ref : West
GPS Altitude Ref : Above Sea Level
GPS Time Stamp : 20:44:45
GPS Status : Measurement Active
GPS Measure Mode : 3-Dimensional Measurement
GPS Map Datum : WGS-84
GPS Date Stamp : 2026:01:01
Creator Tool : Adobe Photoshop Lightroom Classic 15.1 (Windows)
Lens : LUMIX S 20-60/F3.5-5.6
Distortion Correction Already Applied : True
Lateral Chromatic Aberration Correction Already Applied:
True
Date Created : 2026:01:01 15:44:46
Color Mode : RGB
ICC Profile Name : sRGB IEC61966-2.1
Preserved File Name : L1050335.DNG
Format : image/jpeg
Pick : 0
Raw File Name : L1050335.DNG
Version : 18.1
Compatible Version : 251854848
Process Version : 15.4
Color Temperature : 4941
Tint : +4
Exposure 2012 : 0.00
Contrast 2012 : 0
Highlights 2012 : 0
Shadows 2012 : 0
Whites 2012 : +5
Blacks 2012 : -10
Texture : 0
Clarity 2012 : +29
Dehaze : 0
Vibrance : -100
Parametric Shadows : 0
Parametric Darks : 0
Parametric Lights : 0
Parametric Highlights : 0
Parametric Shadow Split : 25
Parametric Midtone Split : 50
Parametric Highlight Split : 75
Sharpen Radius : +3.0
Sharpen Detail : 100
Sharpen Edge Masking : 50
Luminance Smoothing : 24
Luminance Noise Reduction Detail : 50
Luminance Noise Reduction Contrast : 0
Color Noise Reduction : 25
Color Noise Reduction Detail : 50
Color Noise Reduction Smoothness : 50
Hue Adjustment Red : +3
Hue Adjustment Orange : 0
Hue Adjustment Yellow : 0
Hue Adjustment Green : -12
Hue Adjustment Aqua : 0
Hue Adjustment Blue : +11
Hue Adjustment Purple : 0
Hue Adjustment Magenta : 0
Saturation Adjustment Red : +2
Saturation Adjustment Orange : 0
Saturation Adjustment Yellow : 0
Saturation Adjustment Green : -1
Saturation Adjustment Aqua : 0
Saturation Adjustment Blue : -7
Saturation Adjustment Purple : 0
Saturation Adjustment Magenta : 0
Luminance Adjustment Red : -1
Luminance Adjustment Orange : 0
Luminance Adjustment Yellow : 0
Luminance Adjustment Green : -1
Luminance Adjustment Aqua : 0
Luminance Adjustment Blue : -21
Luminance Adjustment Purple : 0
Luminance Adjustment Magenta : 0
Split Toning Shadow Hue : 0
Split Toning Shadow Saturation : 0
Split Toning Highlight Hue : 0
Split Toning Highlight Saturation : 0
Split Toning Balance : 0
Color Grade Midtone Hue : 0
Color Grade Midtone Sat : 0
Color Grade Shadow Lum : 0
Color Grade Midtone Lum : 0
Color Grade Highlight Lum : 0
Color Grade Blending : 50
Color Grade Global Hue : 0
Color Grade Global Sat : 0
Color Grade Global Lum : 0
Auto Lateral CA : 1
Lens Profile Enable : 0
Lens Manual Distortion Amount : 0
Vignette Amount : 0
Defringe Purple Amount : 0
Defringe Purple Hue Lo : 30
Defringe Purple Hue Hi : 70
Defringe Green Amount : 0
Defringe Green Hue Lo : 40
Defringe Green Hue Hi : 60
Perspective Upright : Off
Perspective Vertical : 0
Perspective Horizontal : 0
Perspective Rotate : 0.0
Perspective Aspect : 0
Perspective Scale : 100
Perspective X : 0.00
Perspective Y : 0.00
Grain Amount : 0
Post Crop Vignette Amount : 0
Shadow Tint : 0
Red Hue : -11
Red Saturation : +6
Green Hue : +18
Green Saturation : -37
Blue Hue : 0
Blue Saturation : +28
HDR Edit Mode : 0
Convert To Grayscale : False
Override Look Vignette : False
Tone Curve Name 2012 : Custom
Camera Profile : Adobe Standard
Has Settings : True
Crop Top : 0
Crop Left : 0
Crop Bottom : 1
Crop Right : 1
Crop Angle : 0
Crop Constrain To Warp : 0
Crop Constrain To Unit Square : 1
Has Crop : False
Already Applied : True
Tone Curve PV2012 : 17, 0, 49, 35, 75, 59, 133, 123, 185, 186, 215, 222, 237, 253
Tone Curve PV2012 Red : 0, 0, 255, 255
Tone Curve PV2012 Green : 0, 0, 255, 255
Tone Curve PV2012 Blue : 0, 0, 255, 255
Point Colors : -1.000000, -1.000000, -1.000000, -1.000000, -1.000000, -1.000000, -1.000000, -1.000000, -1.000000, -1.000000, -1.000000, -1.000000, -1.000000, -1.000000, -1.000000, -1.000000, -1.000000, -1.000000, -1.000000
Color Variance : -50.000000
100
50005
2
1
Profile Description : sRGB IEC61966-2.1
Image Width : 400
Image Height : 267
Bits Per Sample : 8
Color Components : 3
Aperture : 9.0
Image Size : 400x267
Megapixels : 0.107
Scale Factor To 35 mm Equivalent : 1.0
Shutter Speed : 1/200
Modify Date : 2026:01:05 00:34:04-05:00
GPS Altitude : 0 m Above Sea Level
GPS Date/Time : 2026:01:01 20:44:45Z
GPS Latitude : 40 deg 58' 29.04" N
GPS Longitude : 73 deg 57' 4.46" W
Circle Of Confusion : 0.030 mm
Field Of View : 84.0 deg
Focal Length : 20.0 mm (35 mm equivalent: 20.0 mm)
GPS Position : 40 deg 58' 29.04" N, 73 deg 57' 4.46" W
Hyperfocal Distance : 1.48 m
Light Value : 12.0
Lens ID : LUMIX S 20-60mm F3.5-5.6