Uber Exif Photo
Photometric Interpretation : RGB
Make : LEICA CAMERA AG
Camera Model Name : LEICA X VARIO (Typ 107)
Orientation : Horizontal (normal)
Samples Per Pixel : 3
Software : Adobe Photoshop 27.2 (Windows)
Modify Date : 2025:12:29 18:16:17
Maker Note Safety : Safe
Exposure Time : 1/1250
F Number : 6.3
Exposure Program : Aperture-priority AE
ISO : 800
Date/Time Original : 2025:12:29 14:00:47
Create Date : 2025:12:29 14:00:47
Shutter Speed Value : 1/1250
Aperture Value : 6.3
Exposure Compensation : 0
Max Aperture Value : 3.5
Metering Mode : Multi-segment
Light Source : Unknown
Flash : Off, Did not fire
Focal Length : 33.0 mm
Color Space : sRGB
Exif Image Width : 1873
Exif Image Height : 2828
Sensing Method : One-chip color area
Custom Rendered : Normal
White Balance : Auto
Digital Zoom Ratio : 1
Focal Length In 35mm Format : 50 mm
Scene Capture Type : Landscape
Contrast : High
Saturation : High
Sharpness : Soft
Serial Number : 000004704722
Lens Info : 18-46mm f/3.5-6.4
Lens Model : 18.0-46.0 mm f/3.5-6.4
Creator Tool : Adobe Photoshop Lightroom Classic 15.1 (Windows)
Lens : 18.0-46.0 mm f/3.5-6.4
Distortion Correction Already Applied : True
Lateral Chromatic Aberration Correction Already Applied:
True
Date Created : 2025:12:29 14:00:47
Color Mode : RGB
ICC Profile Name : sRGB IEC61966-2.1
Preserved File Name : L9612725.DNG
Format : image/jpeg
Pick : 0
Raw File Name : L9612725.DNG
Version : 18.1
Process Version : 15.4
Color Temperature : 5100
Tint : +20
Exposure 2012 : 0.00
Contrast 2012 : +29
Highlights 2012 : -23
Shadows 2012 : +36
Whites 2012 : -48
Blacks 2012 : -16
Texture : 0
Clarity 2012 : +15
Dehaze : 0
Vibrance : +6
Parametric Shadows : 0
Parametric Darks : 0
Parametric Lights : 0
Parametric Highlights : 0
Parametric Shadow Split : 25
Parametric Midtone Split : 50
Parametric Highlight Split : 75
Sharpen Radius : +3.0
Sharpen Detail : 100
Sharpen Edge Masking : 50
Luminance Smoothing : 24
Luminance Noise Reduction Detail : 50
Luminance Noise Reduction Contrast : 0
Color Noise Reduction : 25
Color Noise Reduction Detail : 50
Color Noise Reduction Smoothness : 50
Hue Adjustment Red : +21
Hue Adjustment Orange : -8
Hue Adjustment Yellow : +6
Hue Adjustment Green : +1
Hue Adjustment Aqua : +17
Hue Adjustment Blue : -15
Hue Adjustment Purple : -2
Hue Adjustment Magenta : +59
Saturation Adjustment Red : +12
Saturation Adjustment Orange : -17
Saturation Adjustment Yellow : -20
Saturation Adjustment Green : -20
Saturation Adjustment Aqua : +11
Saturation Adjustment Blue : +9
Saturation Adjustment Purple : -14
Saturation Adjustment Magenta : -1
Luminance Adjustment Red : +6
Luminance Adjustment Orange : +7
Luminance Adjustment Yellow : -3
Luminance Adjustment Green : +6
Luminance Adjustment Aqua : -5
Luminance Adjustment Blue : -6
Luminance Adjustment Purple : -3
Luminance Adjustment Magenta : +11
Split Toning Shadow Hue : 0
Split Toning Shadow Saturation : 0
Split Toning Highlight Hue : 0
Split Toning Highlight Saturation : 0
Split Toning Balance : 0
Color Grade Midtone Hue : 0
Color Grade Midtone Sat : 0
Color Grade Shadow Lum : 0
Color Grade Midtone Lum : 0
Color Grade Highlight Lum : 0
Color Grade Blending : 50
Color Grade Global Hue : 0
Color Grade Global Sat : 0
Color Grade Global Lum : 0
Auto Lateral CA : 1
Lens Profile Enable : 0
Lens Manual Distortion Amount : 0
Vignette Amount : 0
Defringe Purple Amount : 0
Defringe Purple Hue Lo : 30
Defringe Purple Hue Hi : 70
Defringe Green Amount : 0
Defringe Green Hue Lo : 40
Defringe Green Hue Hi : 60
Perspective Upright : Off
Perspective Vertical : 0
Perspective Horizontal : 0
Perspective Rotate : 0.0
Perspective Aspect : 0
Perspective Scale : 100
Perspective X : 0.00
Perspective Y : 0.00
Grain Amount : 0
Post Crop Vignette Amount : 0
Shadow Tint : 0
Red Hue : 0
Red Saturation : 0
Green Hue : 0
Green Saturation : 0
Blue Hue : 0
Blue Saturation : 0
HDR Edit Mode : 0
Curve Refine Saturation : 100
Convert To Grayscale : False
Override Look Vignette : False
Tone Curve Name 2012 : Custom
Camera Profile : Adobe Standard
Has Settings : True
Crop Top : 0
Crop Left : 0
Crop Bottom : 1
Crop Right : 1
Crop Angle : 0
Crop Constrain To Warp : 0
Crop Constrain To Unit Square : 1
Has Crop : False
Already Applied : True
Tone Curve PV2012 : 0, 0, 50, 31, 106, 92, 133, 125, 154, 153, 162, 161, 170, 172, 179, 181, 186, 193, 194, 202, 213, 225, 222, 234, 238, 247, 255, 255
Tone Curve PV2012 Red : 0, 0, 105, 106, 154, 155, 193, 192, 221, 221, 255, 255
Tone Curve PV2012 Green : 0, 0, 106, 107, 154, 155, 194, 194, 255, 255
Tone Curve PV2012 Blue : 0, 0, 108, 108, 155, 156, 222, 221, 244, 245, 255, 255
Point Colors : -1.000000, -1.000000, -1.000000, -1.000000, -1.000000, -1.000000, -1.000000, -1.000000, -1.000000, -1.000000, -1.000000, -1.000000, -1.000000, -1.000000, -1.000000, -1.000000, -1.000000, -1.000000, -1.000000
Color Variance : -50.000000
Profile Description : sRGB IEC61966-2.1
Image Width : 265
Image Height : 400
Bits Per Sample : 8
Color Components : 3
Aperture : 6.3
Image Size : 265x400
Megapixels : 0.106
Scale Factor To 35 mm Equivalent : 1.5
Shutter Speed : 1/1250
Modify Date : 2025:12:29 18:16:17-05:00
Circle Of Confusion : 0.020 mm
Field Of View : 39.6 deg
Focal Length : 33.0 mm (35 mm equivalent: 50.0 mm)
Hyperfocal Distance : 8.72 m
Light Value : 12.6
Lens ID : 18.0-46.0mm f/3.5-6.4