Uber Exif Photo
Photometric Interpretation : RGB
Make : LEICA CAMERA AG
Camera Model Name : LEICA SL (Typ 601)
Orientation : Horizontal (normal)
Samples Per Pixel : 3
Software : Adobe Photoshop 27.0 (Windows)
Modify Date : 2025:11:03 18:32:35
Exposure Time : 1/100
F Number : 11.0
Exposure Program : Aperture-priority AE
ISO : 800
Sensitivity Type : Standard Output Sensitivity
Date/Time Original : 2025:11:03 14:40:45
Create Date : 2025:11:03 14:40:45
Shutter Speed Value : 1/100
Aperture Value : 11.0
Exposure Compensation : 0
Max Aperture Value : 3.5
Metering Mode : Center-weighted average
Light Source : Unknown
Flash : Off, Did not fire
Focal Length : 20.0 mm
Color Space : sRGB
Exif Image Width : 3000
Exif Image Height : 2000
Sensing Method : One-chip color area
Custom Rendered : Normal
White Balance : Auto
Focal Length In 35mm Format : 20 mm
Scene Capture Type : Standard
Contrast : Normal
Saturation : High
Sharpness : Soft
Serial Number : 4967109
Lens Info : 20-60mm f/3.65234375-4.99609375
Lens Make : Panasonic
Lens Model : LUMIX S 20-60/F3.5-5.6
Lens Serial Number : 1374
GPS Version ID : 2.3.0.0
GPS Latitude Ref : North
GPS Longitude Ref : West
GPS Altitude Ref : Above Sea Level
GPS Time Stamp : 19:40:44
GPS Status : Measurement Active
GPS Measure Mode : 3-Dimensional Measurement
GPS Map Datum : WGS-84
GPS Date Stamp : 2025:11:03
Creator Tool : Adobe Photoshop Lightroom Classic 15.0 (Windows)
Lens : LUMIX S 20-60/F3.5-5.6
Distortion Correction Already Applied : True
Lateral Chromatic Aberration Correction Already Applied:
True
Date Created : 2025:11:03 14:40:45
Color Mode : RGB
ICC Profile Name : sRGB IEC61966-2.1
Preserved File Name : L1020235.DNG
Format : image/jpeg
Pick : 0
Raw File Name : L1020235.DNG
Version : 18.0
Process Version : 15.4
Color Temperature : 5100
Tint : +20
Exposure 2012 : 0.00
Contrast 2012 : 0
Highlights 2012 : -28
Shadows 2012 : +39
Whites 2012 : -51
Blacks 2012 : -11
Texture : 0
Clarity 2012 : +5
Dehaze : 0
Vibrance : +19
Parametric Shadows : 0
Parametric Darks : 0
Parametric Lights : 0
Parametric Highlights : 0
Parametric Shadow Split : 25
Parametric Midtone Split : 50
Parametric Highlight Split : 75
Sharpen Radius : +3.0
Sharpen Detail : 100
Sharpen Edge Masking : 50
Luminance Smoothing : 24
Luminance Noise Reduction Detail : 50
Luminance Noise Reduction Contrast : 0
Color Noise Reduction : 25
Color Noise Reduction Detail : 50
Color Noise Reduction Smoothness : 50
Hue Adjustment Red : +21
Hue Adjustment Orange : -3
Hue Adjustment Yellow : -16
Hue Adjustment Green : +12
Hue Adjustment Aqua : +17
Hue Adjustment Blue : -15
Hue Adjustment Purple : -2
Hue Adjustment Magenta : +59
Saturation Adjustment Red : -2
Saturation Adjustment Orange : -12
Saturation Adjustment Yellow : -18
Saturation Adjustment Green : -18
Saturation Adjustment Aqua : +11
Saturation Adjustment Blue : +9
Saturation Adjustment Purple : -14
Saturation Adjustment Magenta : -2
Luminance Adjustment Red : +6
Luminance Adjustment Orange : +11
Luminance Adjustment Yellow : +9
Luminance Adjustment Green : +15
Luminance Adjustment Aqua : -5
Luminance Adjustment Blue : -6
Luminance Adjustment Purple : -3
Luminance Adjustment Magenta : +11
Split Toning Shadow Hue : 0
Split Toning Shadow Saturation : 0
Split Toning Highlight Hue : 0
Split Toning Highlight Saturation : 0
Split Toning Balance : 0
Color Grade Midtone Hue : 0
Color Grade Midtone Sat : 0
Color Grade Shadow Lum : 0
Color Grade Midtone Lum : 0
Color Grade Highlight Lum : 0
Color Grade Blending : 50
Color Grade Global Hue : 0
Color Grade Global Sat : 0
Color Grade Global Lum : 0
Auto Lateral CA : 1
Lens Profile Enable : 0
Lens Manual Distortion Amount : 0
Vignette Amount : 0
Defringe Purple Amount : 0
Defringe Purple Hue Lo : 30
Defringe Purple Hue Hi : 70
Defringe Green Amount : 0
Defringe Green Hue Lo : 40
Defringe Green Hue Hi : 60
Perspective Upright : Off
Perspective Vertical : 0
Perspective Horizontal : 0
Perspective Rotate : 0.0
Perspective Aspect : 0
Perspective Scale : 100
Perspective X : 0.00
Perspective Y : 0.00
Grain Amount : 0
Post Crop Vignette Amount : 0
Shadow Tint : 0
Red Hue : 0
Red Saturation : 0
Green Hue : 0
Green Saturation : 0
Blue Hue : 0
Blue Saturation : 0
HDR Edit Mode : 0
Curve Refine Saturation : 100
Convert To Grayscale : False
Override Look Vignette : False
Tone Curve Name 2012 : Custom
Camera Profile : Adobe Standard
Has Settings : True
Crop Top : 0
Crop Left : 0
Crop Bottom : 1
Crop Right : 1
Crop Angle : 0
Crop Constrain To Warp : 0
Crop Constrain To Unit Square : 1
Has Crop : False
Already Applied : True
Tone Curve PV2012 : 0, 0, 50, 31, 106, 92, 133, 125, 154, 153, 162, 161, 170, 172, 179, 181, 186, 193, 194, 202, 213, 225, 222, 234, 238, 247, 255, 255
Tone Curve PV2012 Red : 0, 0, 105, 106, 154, 155, 193, 192, 221, 221, 255, 255
Tone Curve PV2012 Green : 0, 0, 106, 107, 154, 155, 194, 194, 255, 255
Tone Curve PV2012 Blue : 0, 0, 108, 108, 155, 156, 222, 221, 244, 245, 255, 255
Point Colors : -1.000000, -1.000000, -1.000000, -1.000000, -1.000000, -1.000000, -1.000000, -1.000000, -1.000000, -1.000000, -1.000000, -1.000000, -1.000000, -1.000000, -1.000000, -1.000000, -1.000000, -1.000000, -1.000000
Color Variance : -50.000000
Profile Description : sRGB IEC61966-2.1
Image Width : 400
Image Height : 267
Bits Per Sample : 8
Color Components : 3
Aperture : 11.0
Image Size : 400x267
Megapixels : 0.107
Scale Factor To 35 mm Equivalent : 1.0
Shutter Speed : 1/100
Modify Date : 2025:11:03 18:32:35-05:00
GPS Altitude : 0 m Above Sea Level
GPS Date/Time : 2025:11:03 19:40:44Z
GPS Latitude : 40 deg 58' 29.59" N
GPS Longitude : 73 deg 57' 5.37" W
Circle Of Confusion : 0.030 mm
Field Of View : 84.0 deg
Focal Length : 20.0 mm (35 mm equivalent: 20.0 mm)
GPS Position : 40 deg 58' 29.59" N, 73 deg 57' 5.37" W
Hyperfocal Distance : 1.21 m
Light Value : 10.6
Lens ID : LUMIX S 20-60mm F3.5-5.6