Uber Exif Photo
Image Description : Lämmerfels - Dahn - Dahner Felsenland - Germany
Make : LEICA CAMERA AG
Camera Model Name : LEICA Q2
Orientation : Horizontal (normal)
Software : Adobe Photoshop 26.4 (Macintosh)
Modify Date : 2025:03:11 16:05:03
Artist : peterconzelmann@web.de
Copyright : Peter Conzelmann 2022
Exposure Time : 1/80
F Number : 5.6
Exposure Program : Aperture-priority AE
ISO : 320
Sensitivity Type : Standard Output Sensitivity
Standard Output Sensitivity : 320
Date/Time Original : 2022:10:08 12:59:35
Create Date : 2022:10:08 12:59:35
Shutter Speed Value : 1/80
Aperture Value : 5.6
Exposure Compensation : -2
Max Aperture Value : 1.7
Metering Mode : Multi-segment
Light Source : Unknown
Flash : Off, Did not fire
Focal Length : 28.0 mm
Color Space : sRGB
Exif Image Width : 1200
Exif Image Height : 902
Sensing Method : One-chip color area
Custom Rendered : Normal
White Balance : Auto
Digital Zoom Ratio : 1
Focal Length In 35mm Format : 28 mm
Scene Capture Type : Standard
Contrast : Normal
Saturation : Normal
Sharpness : Normal
Serial Number : 5355351
Lens Info : 28mm f/1.53125-2.97265625
Lens Model : SUMMILUX 1:1.7/28 ASPH.
Lens Serial Number : N/A
GPS Version ID : 2.3.0.0
GPS Latitude Ref : North
GPS Longitude Ref : East
GPS Altitude Ref : Above Sea Level
GPS Status : Measurement Active
GPS Measure Mode : Unknown (0)
GPS Map Datum : WGS-84
GPS Date Stamp : 2022:10:08
Caption-Abstract : Lämmerfels - Dahn - Dahner Felsenland - Germany
By-line : peterconzelmann@web.de
Object Name : Durchbruch
Sub-location : Lämmerfelsen
Province-State : Dahner Felsenland - Rheinland-Pf
Country-Primary Location Name : Germany
Keywords : Dahn, Dahner Felsenland, Lämmerfelsen, Pfälzerwald
Copyright Notice : Peter Conzelmann 2022
Copyright Flag : True
Preserved File Name : L1000408.DNG
Format : image/jpeg
Country : Germany
City : Dahn
State : Dahner Felsenland - Rheinland-Pfalz
Date Created : 2022:10:08 12:59:35+02:00
Color Mode : RGB
ICC Profile Name : sRGB IEC61966-2.1
Label : Lämmerfelsen
Creator Tool : Luminar 4
Rating : 0
Location : Lämmerfelsen
Lens : SUMMILUX 1:1.7/28 ASPH.
Lateral Chromatic Aberration Correction Already Applied:
True
Distortion Correction Already Applied : True
Marked : True
Pick : 0
Version : 17.2
Process Version : 11.0
Incremental Temperature : 0
Incremental Tint : 0
Exposure 2012 : +0.20
Contrast 2012 : +9
Highlights 2012 : 0
Shadows 2012 : +100
Whites 2012 : -12
Blacks 2012 : 0
Texture : 0
Clarity 2012 : +10
Dehaze : +7
Vibrance : +13
Parametric Shadows : 0
Parametric Darks : +20
Parametric Lights : -57
Parametric Highlights : -9
Parametric Shadow Split : 25
Parametric Midtone Split : 50
Parametric Highlight Split : 75
Luminance Smoothing : 47
Luminance Noise Reduction Detail : 50
Luminance Noise Reduction Contrast : 37
Color Noise Reduction : 0
Hue Adjustment Red : 0
Hue Adjustment Orange : 0
Hue Adjustment Yellow : 0
Hue Adjustment Green : 0
Hue Adjustment Aqua : 0
Hue Adjustment Blue : 0
Hue Adjustment Purple : 0
Hue Adjustment Magenta : 0
Saturation Adjustment Red : -72
Saturation Adjustment Orange : +16
Saturation Adjustment Yellow : 0
Saturation Adjustment Green : 0
Saturation Adjustment Aqua : 0
Saturation Adjustment Blue : 0
Saturation Adjustment Purple : 0
Saturation Adjustment Magenta : -100
Luminance Adjustment Red : -62
Luminance Adjustment Orange : +11
Luminance Adjustment Yellow : 0
Luminance Adjustment Green : 0
Luminance Adjustment Aqua : 0
Luminance Adjustment Blue : 0
Luminance Adjustment Purple : 0
Luminance Adjustment Magenta : -100
Split Toning Shadow Hue : 0
Split Toning Shadow Saturation : 0
Split Toning Highlight Hue : 0
Split Toning Highlight Saturation : 0
Split Toning Balance : 0
Color Grade Midtone Hue : 0
Color Grade Midtone Sat : 0
Color Grade Shadow Lum : 0
Color Grade Midtone Lum : 0
Color Grade Highlight Lum : 0
Color Grade Blending : 50
Color Grade Global Hue : 0
Color Grade Global Sat : 0
Color Grade Global Lum : 0
Auto Lateral CA : 0
Lens Profile Enable : 0
Lens Manual Distortion Amount : 0
Vignette Amount : 0
Defringe Purple Amount : 0
Defringe Purple Hue Lo : 30
Defringe Purple Hue Hi : 70
Defringe Green Amount : 0
Defringe Green Hue Lo : 40
Defringe Green Hue Hi : 60
Perspective Upright : Off
Perspective Vertical : 0
Perspective Horizontal : 0
Perspective Rotate : 0.0
Perspective Aspect : 0
Perspective Scale : 100
Perspective X : 0.00
Perspective Y : 0.00
Grain Amount : 0
Post Crop Vignette Amount : 0
Shadow Tint : 0
Red Hue : 0
Red Saturation : 0
Green Hue : 0
Green Saturation : 0
Blue Hue : 0
Blue Saturation : 0
HDR Edit Mode : 0
Convert To Grayscale : False
Override Look Vignette : False
Tone Curve Name 2012 : Linear
Camera Profile : Embedded
Has Settings : True
Has Crop : False
Already Applied : True
Creator : peterconzelmann@web.de
Title : Durchbruch
Rights : Peter Conzelmann 2022
Subject : Dahn, Dahner Felsenland, Lämmerfelsen, Pfälzerwald
Description : Lämmerfels - Dahn - Dahner Felsenland - Germany
Weighted Flat Subject : Dahn, Dahner Felsenland, Lämmerfelsen, Pfälzerwald
Hierarchical Subject : Dahn, Dahner Felsenland, Lämmerfelsen, Pfälzerwald
Tone Curve PV2012 : 0, 0, 255, 255
Tone Curve PV2012 Red : 0, 0, 255, 255
Tone Curve PV2012 Green : 0, 0, 255, 255
Tone Curve PV2012 Blue : 0, 0, 255, 255
Point Colors : -1.000000, -1.000000, -1.000000, -1.000000, -1.000000, -1.000000, -1.000000, -1.000000, -1.000000, -1.000000, -1.000000, -1.000000, -1.000000, -1.000000, -1.000000, -1.000000, -1.000000, -1.000000, -1.000000
Profile Description : sRGB IEC61966-2.1
Image Width : 400
Image Height : 301
Bits Per Sample : 8
Color Components : 3
Aperture : 5.6
Image Size : 400x301
Megapixels : 0.120
Scale Factor To 35 mm Equivalent : 1.0
Shutter Speed : 1/80
Create Date : 2022:10:08 12:59:35+02:00
Date/Time Original : 2022:10:08 12:59:35+02:00
Modify Date : 2025:03:11 16:05:03+01:00
GPS Altitude : 0 m Above Sea Level
GPS Latitude : 49 deg 8' 17.90" N
GPS Longitude : 7 deg 46' 35.13" E
Circle Of Confusion : 0.030 mm
Field Of View : 65.5 deg
Focal Length : 28.0 mm (35 mm equivalent: 28.0 mm)
GPS Position : 49 deg 8' 17.90" N, 7 deg 46' 35.13" E
Hyperfocal Distance : 4.66 m
Light Value : 9.6