Uber Exif Photo
Photometric Interpretation : RGB
Westpfalz Wiki
Make : LEICA CAMERA AG
Camera Model Name : LEICA Q2
Orientation : Horizontal (normal)
Samples Per Pixel : 3
Software : Adobe Photoshop 26.4 (Macintosh)
Modify Date : 2025:03:01 16:56:50
Artist : Peter Conzelmann 2023
Copyright : peterconzelmann@web.de
Exposure Time : 1/80
F Number : 5.6
Exposure Program : Aperture-priority AE
ISO : 200
Sensitivity Type : Standard Output Sensitivity
Standard Output Sensitivity : 200
Date/Time Original : 2023:01:07 15:51:37
Create Date : 2023:01:07 15:51:37
Shutter Speed Value : 1/80
Aperture Value : 5.6
Exposure Compensation : -0.6
Max Aperture Value : 1.7
Metering Mode : Multi-segment
Light Source : Unknown
Flash : Off, Did not fire
Focal Length : 28.0 mm
Color Space : sRGB
Exif Image Width : 752
Exif Image Height : 1200
Sensing Method : One-chip color area
Custom Rendered : Normal
White Balance : Auto
Digital Zoom Ratio : 1
Focal Length In 35mm Format : 28 mm
Scene Capture Type : Standard
Contrast : Normal
Saturation : Normal
Sharpness : Normal
Serial Number : 5355351
Lens Info : 28mm f/1.53125-2.97265625
Lens Model : SUMMILUX 1:1.7/28 ASPH.
Lens Serial Number : N/A
By-line : Peter Conzelmann 2023
Object Name : Heidenturm
Keywords : Busenberg, Dahner Felsenland, Heidenberg, Pfälzerwald
Copyright Notice : peterconzelmann@web.de
Copyright Flag : True
Creator Tool : Adobe Photoshop Lightroom Classic 12.1 (Macintosh)
Label : Heidenberg
Lens : SUMMILUX 1:1.7/28 ASPH.
Distortion Correction Already Applied : True
Lateral Chromatic Aberration Correction Already Applied:
True
Date Created : 2023:01:07 15:51:37+02:00
Color Mode : RGB
ICC Profile Name : sRGB IEC61966-2.1
Preserved File Name : L1000699.DNG
Format : image/jpeg
Marked : True
Raw File Name : L1000699-Bearbeitet.tif
Version : 15.1
Compatible Version : 234881024
Process Version : 11.0
Incremental Temperature : +23
Incremental Tint : +8
Exposure 2012 : -0.30
Contrast 2012 : +34
Highlights 2012 : -13
Shadows 2012 : 0
Whites 2012 : 0
Blacks 2012 : 0
Texture : +9
Clarity 2012 : +19
Dehaze : +22
Vibrance : +4
Parametric Shadows : 0
Parametric Darks : 0
Parametric Lights : 0
Parametric Highlights : 0
Parametric Shadow Split : 25
Parametric Midtone Split : 50
Parametric Highlight Split : 75
Sharpen Radius : +1.0
Sharpen Detail : 25
Sharpen Edge Masking : 0
Luminance Smoothing : 54
Luminance Noise Reduction Detail : 50
Luminance Noise Reduction Contrast : 0
Color Noise Reduction : 0
Hue Adjustment Red : 0
Hue Adjustment Orange : 0
Hue Adjustment Yellow : 0
Hue Adjustment Green : 0
Hue Adjustment Aqua : 0
Hue Adjustment Blue : 0
Hue Adjustment Purple : 0
Hue Adjustment Magenta : 0
Saturation Adjustment Red : 0
Saturation Adjustment Orange : 0
Saturation Adjustment Yellow : 0
Saturation Adjustment Green : 0
Saturation Adjustment Aqua : 0
Saturation Adjustment Blue : -1
Saturation Adjustment Purple : 0
Saturation Adjustment Magenta : 0
Luminance Adjustment Red : +24
Luminance Adjustment Orange : +27
Luminance Adjustment Yellow : 0
Luminance Adjustment Green : +19
Luminance Adjustment Aqua : -4
Luminance Adjustment Blue : +75
Luminance Adjustment Purple : 0
Luminance Adjustment Magenta : 0
Split Toning Shadow Hue : 0
Split Toning Shadow Saturation : 0
Split Toning Highlight Hue : 0
Split Toning Highlight Saturation : 0
Split Toning Balance : 0
Color Grade Midtone Hue : 0
Color Grade Midtone Sat : 0
Color Grade Shadow Lum : 0
Color Grade Midtone Lum : 0
Color Grade Highlight Lum : 0
Color Grade Blending : 50
Color Grade Global Hue : 0
Color Grade Global Sat : 0
Color Grade Global Lum : 0
Auto Lateral CA : 0
Lens Profile Enable : 0
Lens Manual Distortion Amount : 0
Vignette Amount : 0
Defringe Purple Amount : 0
Defringe Purple Hue Lo : 30
Defringe Purple Hue Hi : 70
Defringe Green Amount : 0
Defringe Green Hue Lo : 40
Defringe Green Hue Hi : 60
Perspective Upright : Off
Perspective Vertical : 0
Perspective Horizontal : 0
Perspective Rotate : 0.0
Perspective Aspect : 0
Perspective Scale : 100
Perspective X : 0.00
Perspective Y : 0.00
Grain Amount : 0
Post Crop Vignette Amount : 0
Shadow Tint : 0
Red Hue : 0
Red Saturation : 0
Green Hue : 0
Green Saturation : 0
Blue Hue : 0
Blue Saturation : 0
Convert To Grayscale : False
Override Look Vignette : False
Tone Curve Name 2012 : Linear
Camera Profile : Embedded
Has Settings : True
Crop Top : 0
Crop Left : 0
Crop Bottom : 0.971552
Crop Right : 1
Crop Angle : 0
Crop Constrain To Warp : 0
Has Crop : True
Already Applied : True
Creator : Peter Conzelmann 2023
Title : Heidenturm
Rights : peterconzelmann@web.de
Subject : Busenberg, Dahner Felsenland, Heidenberg, Pfälzerwald
Tone Curve PV2012 : 0, 0, 255, 255
Tone Curve PV2012 Red : 0, 0, 255, 255
Tone Curve PV2012 Green : 0, 0, 255, 255
Tone Curve PV2012 Blue : 0, 0, 255, 255
Creator Work Email : peterconzelmann@web.de
Weighted Flat Subject : Busenberg, Dahner Felsenland, Heidenberg, Pfälzerwald
Hierarchical Subject : Busenberg, Dahner Felsenland, Heidenberg, Pfälzerwald
Profile Description : sRGB IEC61966-2.1
Image Width : 251
Image Height : 400
Bits Per Sample : 8
Color Components : 3
Aperture : 5.6
Image Size : 251x400
Megapixels : 0.100
Scale Factor To 35 mm Equivalent : 1.0
Shutter Speed : 1/80
Create Date : 2023:01:07 15:51:37+02:00
Date/Time Original : 2023:01:07 15:51:37+02:00
Modify Date : 2025:03:01 16:56:50+01:00
Circle Of Confusion : 0.030 mm
Field Of View : 65.5 deg
Focal Length : 28.0 mm (35 mm equivalent: 28.0 mm)
Hyperfocal Distance : 4.66 m
Light Value : 10.3