Uber Exif Photo
Photometric Interpretation : RGB
Make : LEICA CAMERA AG
Camera Model Name : LEICA Q2
Orientation : Horizontal (normal)
Samples Per Pixel : 3
Software : Adobe Photoshop 26.1 (Macintosh)
Modify Date : 2024:12:15 13:31:00
Artist : peterconzelmann@web.de
Copyright : Peter Conzelmann 2024
Exposure Time : 1/2000
F Number : 5.6
Exposure Program : Aperture-priority AE
ISO : 800
Sensitivity Type : Standard Output Sensitivity
Standard Output Sensitivity : 800
Date/Time Original : 2024:10:21 13:42:02
Create Date : 2024:10:21 13:42:02
Shutter Speed Value : 1/2000
Aperture Value : 5.6
Exposure Compensation : 0
Max Aperture Value : 1.7
Metering Mode : Center-weighted average
Light Source : Other
Flash : Off, Did not fire
Focal Length : 28.0 mm
Color Space : sRGB
Exif Image Width : 2000
Exif Image Height : 1336
Sensing Method : One-chip color area
Custom Rendered : Normal
White Balance : Manual
Digital Zoom Ratio : 1
Focal Length In 35mm Format : 28 mm
Scene Capture Type : Standard
Contrast : Normal
Saturation : Normal
Sharpness : Normal
Serial Number : 5355351
Lens Info : 28mm f/1.53125-2.97265625
Lens Model : SUMMILUX 1:1.7/28 ASPH.
Lens Serial Number : N/A
By-line : peterconzelmann@web.de
Object Name : Rappenfels im Glastal bei Erfweiler
Keywords : Buntsandstein, Erfweiler, Glastal, Rappenfels, Rheinland-Pfalz, Sandstein, Südwestpfalz
Copyright Notice : Peter Conzelmann 2024
Copyright Flag : True
Creator Tool : Adobe Photoshop Lightroom Classic 14.0.1 (Macintosh)
Lens : SUMMILUX 1:1.7/28 ASPH.
Enhance Details Already Applied : True
Enhance Details Version : 218300416
Enhance Denoise Already Applied : True
Enhance Denoise Version : 251658240
Enhance Denoise Luma Amount : 100
Lateral Chromatic Aberration Correction Already Applied:
True
Date Created : 2024:10:21 13:42:02+02:00
Color Mode : RGB
ICC Profile Name : sRGB IEC61966-2.1
Preserved File Name : L1000763.DNG
Format : image/jpeg
Marked : True
Pick : 0
Raw File Name : L1000763-Verbessert-RR-Bearbeitet-Bearbeitet.tif
Version : 17.0
Process Version : 15.4
Incremental Temperature : 0
Incremental Tint : 0
Exposure 2012 : 0.00
Contrast 2012 : +56
Highlights 2012 : 0
Shadows 2012 : -1
Whites 2012 : 0
Blacks 2012 : 0
Texture : 0
Clarity 2012 : +16
Dehaze : -13
Vibrance : 0
Parametric Shadows : +25
Parametric Darks : 0
Parametric Lights : 0
Parametric Highlights : 0
Parametric Shadow Split : 25
Parametric Midtone Split : 50
Parametric Highlight Split : 75
Sharpen Radius : +1.0
Sharpen Detail : 25
Sharpen Edge Masking : 34
Luminance Smoothing : 0
Color Noise Reduction : 0
Hue Adjustment Red : 0
Hue Adjustment Orange : 0
Hue Adjustment Yellow : 0
Hue Adjustment Green : 0
Hue Adjustment Aqua : 0
Hue Adjustment Blue : 0
Hue Adjustment Purple : 0
Hue Adjustment Magenta : 0
Saturation Adjustment Red : 0
Saturation Adjustment Orange : 0
Saturation Adjustment Yellow : 0
Saturation Adjustment Green : 0
Saturation Adjustment Aqua : 0
Saturation Adjustment Blue : 0
Saturation Adjustment Purple : 0
Saturation Adjustment Magenta : 0
Luminance Adjustment Red : 0
Luminance Adjustment Orange : 0
Luminance Adjustment Yellow : 0
Luminance Adjustment Green : 0
Luminance Adjustment Aqua : 0
Luminance Adjustment Blue : 0
Luminance Adjustment Purple : 0
Luminance Adjustment Magenta : 0
Split Toning Shadow Hue : 0
Split Toning Shadow Saturation : 0
Split Toning Highlight Hue : 0
Split Toning Highlight Saturation : 0
Split Toning Balance : 0
Color Grade Midtone Hue : 0
Color Grade Midtone Sat : 0
Color Grade Shadow Lum : 0
Color Grade Midtone Lum : 0
Color Grade Highlight Lum : 0
Color Grade Blending : 50
Color Grade Global Hue : 0
Color Grade Global Sat : 0
Color Grade Global Lum : 0
Auto Lateral CA : 1
Lens Profile Enable : 0
Lens Manual Distortion Amount : 0
Vignette Amount : 0
Defringe Purple Amount : 0
Defringe Purple Hue Lo : 30
Defringe Purple Hue Hi : 70
Defringe Green Amount : 0
Defringe Green Hue Lo : 40
Defringe Green Hue Hi : 60
Perspective Upright : Off
Perspective Vertical : 0
Perspective Horizontal : 0
Perspective Rotate : 0.0
Perspective Aspect : 0
Perspective Scale : 100
Perspective X : 0.00
Perspective Y : 0.00
Grain Amount : 0
Post Crop Vignette Amount : 0
Shadow Tint : 0
Red Hue : 0
Red Saturation : 0
Green Hue : 0
Green Saturation : 0
Blue Hue : 0
Blue Saturation : 0
HDR Edit Mode : 0
Convert To Grayscale : False
Override Look Vignette : False
Tone Curve Name 2012 : Linear
Camera Profile : Embedded
Has Settings : True
Crop Top : 0.029948
Crop Left : 0
Crop Bottom : 1
Crop Right : 0.968864
Crop Angle : 0
Crop Constrain To Warp : 0
Has Crop : True
Already Applied : True
Title : Rappenfels im Glastal bei Erfweiler
Creator : peterconzelmann@web.de
Rights : Peter Conzelmann 2024
Subject : Buntsandstein, Erfweiler, Glastal, Rappenfels, Rheinland-Pfalz, Sandstein, Südwestpfalz
Tone Curve PV2012 : 0, 0, 255, 255
Tone Curve PV2012 Red : 0, 0, 255, 255
Tone Curve PV2012 Green : 0, 0, 255, 255
Tone Curve PV2012 Blue : 0, 0, 255, 255
Point Colors : -1.000000, -1.000000, -1.000000, -1.000000, -1.000000, -1.000000, -1.000000, -1.000000, -1.000000, -1.000000, -1.000000, -1.000000, -1.000000, -1.000000, -1.000000, -1.000000, -1.000000, -1.000000, -1.000000
Weighted Flat Subject : Buntsandstein, Erfweiler, Glastal, Rappenfels, Rheinland-Pfalz, Sandstein, Südwestpfalz
Hierarchical Subject : Buntsandstein, Erfweiler, Glastal, Rappenfels, Rheinland-Pfalz, Sandstein, Südwestpfalz
Profile Description : sRGB IEC61966-2.1
Image Width : 400
Image Height : 267
Bits Per Sample : 8
Color Components : 3
Aperture : 5.6
Image Size : 400x267
Megapixels : 0.107
Scale Factor To 35 mm Equivalent : 1.0
Shutter Speed : 1/2000
Create Date : 2024:10:21 13:42:02+02:00
Date/Time Original : 2024:10:21 13:42:02+02:00
Modify Date : 2024:12:15 13:31:00+01:00
Circle Of Confusion : 0.030 mm
Field Of View : 65.5 deg
Focal Length : 28.0 mm (35 mm equivalent: 28.0 mm)
Hyperfocal Distance : 4.66 m
Light Value : 12.9