Uber Exif Photo
Photometric Interpretation : RGB
Image Description : Lämmerfels - Dahn - Dahnerfelsenland - Germany
Make : LEICA CAMERA AG
Camera Model Name : LEICA Q2
Orientation : Horizontal (normal)
Samples Per Pixel : 3
Software : Adobe Photoshop 26.2 (Macintosh)
Modify Date : 2025:01:04 09:33:37
Artist : peterconzelmann@web.de
Copyright : Peter Conzelmann 2022
Exposure Time : 1/160
F Number : 4.0
Exposure Program : Aperture-priority AE
ISO : 100
Sensitivity Type : Standard Output Sensitivity
Standard Output Sensitivity : 100
Date/Time Original : 2022:10:08 13:44:54
Create Date : 2022:10:08 13:44:54
Shutter Speed Value : 1/160
Aperture Value : 4.0
Exposure Compensation : 0
Max Aperture Value : 1.7
Metering Mode : Multi-segment
Light Source : Unknown
Flash : Off, Did not fire
Focal Length : 28.0 mm
Color Space : sRGB
Exif Image Width : 1200
Exif Image Height : 1853
Sensing Method : One-chip color area
Custom Rendered : Normal
White Balance : Auto
Digital Zoom Ratio : 1
Focal Length In 35mm Format : 28 mm
Scene Capture Type : Standard
Contrast : Normal
Saturation : Normal
Sharpness : Normal
Serial Number : 5355351
Lens Info : 28mm f/1.53125-2.97265625
Lens Model : SUMMILUX 1:1.7/28 ASPH.
Lens Serial Number : N/A
Caption-Abstract : Lämmerfels - Dahn - Dahnerfelsenland - Germany
By-line : peterconzelmann@web.de
Object Name : Spitzentanz - dance on points
Keywords : Dahn, Dahner Felsenland, Lämmerfelsen, Pfälzerwald
Copyright Notice : Peter Conzelmann 2022
Copyright Flag : True
Preserved File Name : L1000456.DNG
Format : image/jpeg
Date Created : 2022:10:08 13:44:54+02:00
Color Mode : RGB
ICC Profile Name : sRGB IEC61966-2.1
Label : Lämmerfelsen
Creator Tool : Adobe Photoshop Lightroom Classic 12.0.1 (Macintosh)
Lens : SUMMILUX 1:1.7/28 ASPH.
Lateral Chromatic Aberration Correction Already Applied:
True
Distortion Correction Already Applied : True
Marked : True
Raw File Name : L1000456-Bearbeitet-Bearbeitet-2.tif
Version : 15.0
Process Version : 11.0
Incremental Temperature : 0
Incremental Tint : 0
Exposure 2012 : -0.10
Contrast 2012 : +99
Highlights 2012 : 0
Shadows 2012 : +68
Whites 2012 : -28
Blacks 2012 : -9
Texture : +41
Clarity 2012 : +21
Dehaze : +14
Parametric Shadows : 0
Parametric Darks : +37
Parametric Lights : -14
Parametric Highlights : -2
Parametric Shadow Split : 25
Parametric Midtone Split : 50
Parametric Highlight Split : 75
Sharpen Radius : +1.0
Sharpen Detail : 25
Sharpen Edge Masking : 0
Luminance Smoothing : 78
Luminance Noise Reduction Detail : 50
Luminance Noise Reduction Contrast : 22
Color Noise Reduction : 0
Gray Mixer Red : 0
Gray Mixer Orange : +41
Gray Mixer Yellow : 0
Gray Mixer Green : -19
Gray Mixer Aqua : 0
Gray Mixer Blue : 0
Gray Mixer Purple : 0
Gray Mixer Magenta : 0
Split Toning Shadow Hue : 0
Split Toning Shadow Saturation : 0
Split Toning Highlight Hue : 0
Split Toning Highlight Saturation : 0
Split Toning Balance : 0
Color Grade Midtone Hue : 0
Color Grade Midtone Sat : 0
Color Grade Shadow Lum : 0
Color Grade Midtone Lum : 0
Color Grade Highlight Lum : 0
Color Grade Blending : 50
Color Grade Global Hue : 0
Color Grade Global Sat : 0
Color Grade Global Lum : 0
Auto Lateral CA : 0
Lens Profile Enable : 0
Lens Manual Distortion Amount : 0
Vignette Amount : 0
Perspective Upright : Off
Perspective Vertical : +14
Perspective Horizontal : 0
Perspective Rotate : +1.3
Perspective Aspect : 0
Perspective Scale : 90
Perspective X : 0.00
Perspective Y : -2.50
Grain Amount : 0
Post Crop Vignette Amount : 0
Shadow Tint : 0
Red Hue : 0
Red Saturation : 0
Green Hue : 0
Green Saturation : 0
Blue Hue : 0
Blue Saturation : 0
Convert To Grayscale : True
Override Look Vignette : False
Tone Curve Name 2012 : Linear
Camera Profile : Embedded
Has Settings : True
Crop Top : 0.127398
Crop Left : 0.083895
Crop Bottom : 0.99167
Crop Right : 0.922897
Crop Angle : 0
Crop Constrain To Warp : 0
Has Crop : True
Already Applied : True
Creator : peterconzelmann@web.de
Title : Spitzentanz - dance on points
Rights : Peter Conzelmann 2022
Description : Lämmerfels - Dahn - Dahnerfelsenland - Germany
Subject : Dahn, Dahner Felsenland, Lämmerfelsen, Pfälzerwald
Tone Curve PV2012 : 0, 0, 255, 255
Tone Curve PV2012 Red : 0, 0, 255, 255
Tone Curve PV2012 Green : 0, 0, 255, 255
Tone Curve PV2012 Blue : 0, 0, 255, 255
Weighted Flat Subject : Dahn, Dahner Felsenland, Lämmerfelsen, Pfälzerwald
Hierarchical Subject : Dahn, Dahner Felsenland, Lämmerfelsen, Pfälzerwald
Profile Description : sRGB IEC61966-2.1
Image Width : 259
Image Height : 400
Bits Per Sample : 8
Color Components : 3
Aperture : 4.0
Image Size : 259x400
Megapixels : 0.104
Scale Factor To 35 mm Equivalent : 1.0
Shutter Speed : 1/160
Create Date : 2022:10:08 13:44:54+02:00
Date/Time Original : 2022:10:08 13:44:54+02:00
Modify Date : 2025:01:04 09:33:37+01:00
Circle Of Confusion : 0.030 mm
Field Of View : 65.5 deg
Focal Length : 28.0 mm (35 mm equivalent: 28.0 mm)
Hyperfocal Distance : 6.52 m
Light Value : 11.3