Uber Exif Photo
Photometric Interpretation : RGB
Image Description : Daniel Friedrich Ludwig Pistor - Anwalt und Redner der demokratischen Bewegung auf dem Hambacher Fest 1832 - errichtete das Landhaus und den zugehörigen Weinberg 1855/1862 auf dem Altenberg mit Blick über Bad Bergzabern und in die Rheinebene.
Make : LEICA CAMERA AG
Camera Model Name : LEICA Q2
Orientation : Horizontal (normal)
Samples Per Pixel : 3
Software : Adobe Photoshop 26.2 (Macintosh)
Modify Date : 2025:01:19 14:01:21
Artist : Peter Conzelmann
Copyright : Peter Conzelmann 2022
Exposure Time : 1/80
F Number : 8.0
Exposure Program : Aperture-priority AE
ISO : 160
Sensitivity Type : Standard Output Sensitivity
Standard Output Sensitivity : 160
Date/Time Original : 2022:02:23 16:17:19
Create Date : 2022:02:23 16:17:19
Shutter Speed Value : 1/80
Aperture Value : 8.0
Exposure Compensation : -0.6
Max Aperture Value : 1.7
Metering Mode : Multi-segment
Light Source : Unknown
Flash : Off, Did not fire
Focal Length : 28.0 mm
Color Space : sRGB
Exif Image Width : 1000
Exif Image Height : 683
Sensing Method : One-chip color area
Custom Rendered : Normal
White Balance : Auto
Digital Zoom Ratio : 1
Focal Length In 35mm Format : 28 mm
Scene Capture Type : Standard
Contrast : Normal
Saturation : Normal
Sharpness : Normal
Serial Number : 5355351
Lens Info : 28mm f/1.53125-2.97265625
Lens Model : SUMMILUX 1:1.7/28 ASPH.
Lens Serial Number : N/A
Caption-Abstract : Daniel Friedrich Ludwig Pistor - Anwalt und Redner der demokratischen Bewegung auf dem Hambacher Fest 1832 - errichtete das Landhaus und den zugehörigen Weinberg 1855/1862 auf dem Altenberg mit Blick über Bad Bergzabern und in die Rheinebene.
By-line : Peter Conzelmann
Object Name : Villa Pistoria-Paillet
Keywords : Bad Bergzabern
Copyright Notice : Peter Conzelmann 2022
Copyright Flag : True
Creator Tool : Adobe Photoshop Lightroom Classic 11.2 (Macintosh)
Lens : SUMMILUX 1:1.7/28 ASPH.
Distortion Correction Already Applied : True
Lateral Chromatic Aberration Correction Already Applied:
True
Date Created : 2022:02:23 16:17:19+02:00
Color Mode : RGB
ICC Profile Name : sRGB IEC61966-2.1
Preserved File Name : L1020343.DNG
Format : image/jpeg
Marked : True
Raw File Name :
Version : 14.2
Process Version : 11.0
Color Temperature : 4950
Tint : +30
Exposure 2012 : 0.00
Contrast 2012 : +4
Highlights 2012 : 0
Shadows 2012 : 0
Whites 2012 : 0
Blacks 2012 : 0
Texture : +10
Clarity 2012 : +9
Dehaze : +1
Vibrance : +4
Parametric Shadows : 0
Parametric Darks : 0
Parametric Lights : 0
Parametric Highlights : 0
Parametric Shadow Split : 25
Parametric Midtone Split : 50
Parametric Highlight Split : 75
Sharpen Radius : +1.0
Sharpen Detail : 25
Sharpen Edge Masking : 0
Luminance Smoothing : 0
Color Noise Reduction : 25
Color Noise Reduction Detail : 50
Color Noise Reduction Smoothness : 50
Hue Adjustment Red : 0
Hue Adjustment Orange : 0
Hue Adjustment Yellow : 0
Hue Adjustment Green : 0
Hue Adjustment Aqua : 0
Hue Adjustment Blue : 0
Hue Adjustment Purple : 0
Hue Adjustment Magenta : 0
Saturation Adjustment Red : 0
Saturation Adjustment Orange : 0
Saturation Adjustment Yellow : 0
Saturation Adjustment Green : +58
Saturation Adjustment Aqua : 0
Saturation Adjustment Blue : -20
Saturation Adjustment Purple : 0
Saturation Adjustment Magenta : 0
Luminance Adjustment Red : 0
Luminance Adjustment Orange : 0
Luminance Adjustment Yellow : 0
Luminance Adjustment Green : +19
Luminance Adjustment Aqua : 0
Luminance Adjustment Blue : 0
Luminance Adjustment Purple : 0
Luminance Adjustment Magenta : 0
Split Toning Shadow Hue : 0
Split Toning Shadow Saturation : 0
Split Toning Highlight Hue : 0
Split Toning Highlight Saturation : 0
Split Toning Balance : 0
Color Grade Midtone Hue : 0
Color Grade Midtone Sat : 0
Color Grade Shadow Lum : 0
Color Grade Midtone Lum : 0
Color Grade Highlight Lum : 0
Color Grade Blending : 50
Color Grade Global Hue : 0
Color Grade Global Sat : 0
Color Grade Global Lum : 0
Auto Lateral CA : 0
Lens Profile Enable : 0
Lens Manual Distortion Amount : 0
Vignette Amount : 0
Defringe Purple Amount : 0
Defringe Purple Hue Lo : 30
Defringe Purple Hue Hi : 70
Defringe Green Amount : 0
Defringe Green Hue Lo : 40
Defringe Green Hue Hi : 60
Perspective Upright : Auto
Perspective Vertical : 0
Perspective Horizontal : 0
Perspective Rotate : +0.4
Perspective Aspect : -3
Perspective Scale : 106
Perspective X : 0.00
Perspective Y : 0.00
Grain Amount : 0
Post Crop Vignette Amount : 0
Shadow Tint : 0
Red Hue : 0
Red Saturation : 0
Green Hue : 0
Green Saturation : +21
Blue Hue : 0
Blue Saturation : 0
Override Look Vignette : False
Tone Curve Name 2012 : Linear
Camera Profile : Adobe Standard
Has Settings : True
Crop Top : 0
Crop Left : 0
Crop Bottom : 1
Crop Right : 0.977589
Crop Angle : 0
Crop Constrain To Warp : 0
Has Crop : True
Already Applied : True
Creator : Peter Conzelmann
Title : Villa Pistoria-Paillet
Rights : Peter Conzelmann 2022
Description : Daniel Friedrich Ludwig Pistor - Anwalt und Redner der demokratischen Bewegung auf dem Hambacher Fest 1832 - errichtete das Landhaus und den zugehörigen Weinberg 1855/1862 auf dem Altenberg mit Blick über Bad Bergzabern und in die Rheinebene.
Subject : Bad Bergzabern
Tone Curve PV2012 : 0, 0, 255, 255
Tone Curve PV2012 Red : 0, 0, 255, 255
Tone Curve PV2012 Green : 0, 0, 255, 255
Tone Curve PV2012 Blue : 0, 0, 255, 255
Look Name : Adobe Color
Look Amount : 1
Look Supports Amount : false
Look Supports Monochrome : false
Look Supports Output Referred : false
Look Group : Profiles
Look Parameters Version : 14.2
Look Parameters Process Version : 11.0
Look Parameters Convert To Grayscale : False
Look Parameters Camera Profile : Adobe Standard
Look Parameters Look Table : E1095149FDB39D7A057BAB208837E2E1
Look Parameters Tone Curve PV2012 : 0, 0, 22, 16, 40, 35, 127, 127, 224, 230, 240, 246, 255, 255
Look Parameters Tone Curve PV2012 Red : 0, 0, 255, 255
Look Parameters Tone Curve PV2012 Green : 0, 0, 255, 255
Look Parameters Tone Curve PV2012 Blue : 0, 0, 255, 255
Creator Work Email : peterconzelmann@web.de
Weighted Flat Subject : Bad Bergzabern
Hierarchical Subject : Bad Bergzabern
Profile Description : sRGB IEC61966-2.1
Image Width : 400
Image Height : 273
Bits Per Sample : 8
Color Components : 3
Aperture : 8.0
Image Size : 400x273
Megapixels : 0.109
Scale Factor To 35 mm Equivalent : 1.0
Shutter Speed : 1/80
Create Date : 2022:02:23 16:17:19+02:00
Date/Time Original : 2022:02:23 16:17:19+02:00
Modify Date : 2025:01:19 14:01:21+01:00
Circle Of Confusion : 0.030 mm
Field Of View : 65.5 deg
Focal Length : 28.0 mm (35 mm equivalent: 28.0 mm)
Hyperfocal Distance : 3.26 m
Light Value : 11.6