Uber Exif Photo
Photometric Interpretation : RGB
Image Description : Busenberg - Dahner Felsenland
Make : Leica Camera AG
Camera Model Name : M9 Digital Camera
Orientation : Horizontal (normal)
Samples Per Pixel : 3
Software : Adobe Photoshop 26.3 (Macintosh)
Modify Date : 2025:02:14 12:57:11
Artist : Peter Conzelmann 2023
Copyright : peterconzelmann@web.de
Exposure Time : 1/45
F Number : 16.0
Exposure Program : Aperture-priority AE
ISO : 200
Date/Time Original : 2023:01:29 15:39:42
Create Date : 2023:01:29 15:39:42
Shutter Speed Value : 1/45
Aperture Value : 16.0
Exposure Compensation : +0.332
Max Aperture Value : 2.0
Metering Mode : Center-weighted average
Light Source : Unknown
Flash : No Flash
Focal Length : 90.0 mm
Color Space : sRGB
Exif Image Width : 1200
Exif Image Height : 939
Scene Type : Directly photographed
Exposure Mode : Manual
White Balance : Auto
Digital Zoom Ratio : 0
Focal Length In 35mm Format : 90 mm
Scene Capture Type : Standard
Serial Number : 4208006
Lens Model : Leica Summicron-M 90mm f/2 (II)
Caption-Abstract : Busenberg - Dahner Felsenland
By-line : Peter Conzelmann 2023
Object Name : Drachenfels
Copyright Notice : peterconzelmann@web.de
Copyright Flag : True
Creator Tool : Adobe Photoshop Lightroom Classic 12.1 (Macintosh)
Label : Heidenberg
Lens : Leica Summicron-M 90mm f/2 (II)
Date Created : 2023:01:29 15:39:42
Color Mode : RGB
ICC Profile Name : sRGB IEC61966-2.1
Preserved File Name : L1011205.DNG
Format : image/jpeg
Marked : True
Raw File Name : L1011205-Bearbeitet-Bearbeitet.tif
Version : 15.1
Process Version : 11.0
Incremental Temperature : +19
Incremental Tint : +4
Exposure 2012 : +0.15
Contrast 2012 : +42
Highlights 2012 : -52
Shadows 2012 : 0
Whites 2012 : 0
Blacks 2012 : 0
Texture : 0
Clarity 2012 : 0
Dehaze : +11
Vibrance : -12
Saturation : -12
Parametric Shadows : 0
Parametric Darks : 0
Parametric Lights : -18
Parametric Highlights : 0
Parametric Shadow Split : 25
Parametric Midtone Split : 50
Parametric Highlight Split : 75
Sharpness : 0
Luminance Smoothing : 100
Luminance Noise Reduction Detail : 50
Luminance Noise Reduction Contrast : 0
Color Noise Reduction : 0
Hue Adjustment Red : 0
Hue Adjustment Orange : 0
Hue Adjustment Yellow : 0
Hue Adjustment Green : 0
Hue Adjustment Aqua : 0
Hue Adjustment Blue : 0
Hue Adjustment Purple : 0
Hue Adjustment Magenta : 0
Saturation Adjustment Red : 0
Saturation Adjustment Orange : 0
Saturation Adjustment Yellow : 0
Saturation Adjustment Green : 0
Saturation Adjustment Aqua : +14
Saturation Adjustment Blue : +8
Saturation Adjustment Purple : 0
Saturation Adjustment Magenta : 0
Luminance Adjustment Red : 0
Luminance Adjustment Orange : 0
Luminance Adjustment Yellow : 0
Luminance Adjustment Green : 0
Luminance Adjustment Aqua : -70
Luminance Adjustment Blue : +43
Luminance Adjustment Purple : 0
Luminance Adjustment Magenta : 0
Split Toning Shadow Hue : 0
Split Toning Shadow Saturation : 0
Split Toning Highlight Hue : 0
Split Toning Highlight Saturation : 0
Split Toning Balance : 0
Color Grade Midtone Hue : 0
Color Grade Midtone Sat : 0
Color Grade Shadow Lum : 0
Color Grade Midtone Lum : 0
Color Grade Highlight Lum : 0
Color Grade Blending : 50
Color Grade Global Hue : 0
Color Grade Global Sat : 0
Color Grade Global Lum : 0
Auto Lateral CA : 0
Lens Profile Enable : 0
Lens Manual Distortion Amount : 0
Vignette Amount : 0
Defringe Purple Amount : 0
Defringe Purple Hue Lo : 30
Defringe Purple Hue Hi : 70
Defringe Green Amount : 0
Defringe Green Hue Lo : 40
Defringe Green Hue Hi : 60
Perspective Upright : Off
Perspective Vertical : 0
Perspective Horizontal : 0
Perspective Rotate : 0.0
Perspective Aspect : 0
Perspective Scale : 100
Perspective X : 0.00
Perspective Y : 0.00
Grain Amount : 0
Post Crop Vignette Amount : 0
Shadow Tint : 0
Red Hue : 0
Red Saturation : 0
Green Hue : 0
Green Saturation : 0
Blue Hue : 0
Blue Saturation : 0
Convert To Grayscale : False
Override Look Vignette : False
Tone Curve Name 2012 : Linear
Camera Profile : Embedded
Has Settings : True
Crop Top : 0
Crop Left : 0.005358
Crop Bottom : 1
Crop Right : 0.994642
Crop Angle : 0.3
Crop Constrain To Warp : 0
Has Crop : True
Already Applied : True
Creator : Peter Conzelmann 2023
Title : Drachenfels
Rights : peterconzelmann@web.de
Description : Busenberg - Dahner Felsenland
Tone Curve PV2012 : 0, 0, 255, 255
Tone Curve PV2012 Red : 0, 0, 255, 255
Tone Curve PV2012 Green : 0, 0, 255, 255
Tone Curve PV2012 Blue : 0, 0, 255, 255
Creator Work Email : peterconzelmann@web.de
Profile Description : sRGB IEC61966-2.1
Image Width : 400
Image Height : 313
Bits Per Sample : 8
Color Components : 3
Aperture : 16.0
Image Size : 400x313
Megapixels : 0.125
Scale Factor To 35 mm Equivalent : 1.0
Shutter Speed : 1/45
Modify Date : 2025:02:14 12:57:11+01:00
Circle Of Confusion : 0.030 mm
Field Of View : 22.6 deg
Focal Length : 90.0 mm (35 mm equivalent: 90.0 mm)
Hyperfocal Distance : 16.85 m
Light Value : 12.5
Lens ID : Summicron-M 90mm f/2 (II)