Uber Exif Photo
Make : Panasonic
Camera Model Name : DMC-LX2
Orientation : Horizontal (normal)
Software : Adobe Photoshop CS5 Windows
Modify Date : 2018:01:18 10:24:11
Exposure Time : 1/100
F Number : 4.9
Exposure Program : Aperture-priority AE
ISO : 400
Date/Time Original : 2018:01:18 12:17:50
Create Date : 2018:01:18 12:17:50
Shutter Speed Value : 1/100
Aperture Value : 4.9
Exposure Compensation : +0.33
Max Aperture Value : 2.8
Metering Mode : Multi-segment
Flash : Off, Did not fire
Focal Length : 6.3 mm
Color Space : Uncalibrated
Exif Image Width : 1240
Exif Image Height : 709
Rating : 0
Raw File Name : P1020906.RAW
Version : 6.0
Process Version : 5.7
White Balance : As Shot
Color Temperature : 7000
Tint : +26
Exposure : +1.00
Shadows : 0
Brightness : +50
Contrast : +25
Saturation : 0
Sharpness : 18
Luminance Smoothing : 90
Color Noise Reduction : 70
Chromatic Aberration R : 0
Chromatic Aberration B : 0
Vignette Amount : 0
Shadow Tint : 0
Red Hue : 0
Red Saturation : 0
Green Hue : 0
Green Saturation : 0
Blue Hue : 0
Blue Saturation : 0
Fill Light : 16
Vibrance : +10
Highlight Recovery : 0
Clarity : +20
Defringe : 0
Hue Adjustment Red : 0
Hue Adjustment Orange : 0
Hue Adjustment Yellow : 0
Hue Adjustment Green : 0
Hue Adjustment Aqua : 0
Hue Adjustment Blue : 0
Hue Adjustment Purple : 0
Hue Adjustment Magenta : 0
Saturation Adjustment Red : 0
Saturation Adjustment Orange : 0
Saturation Adjustment Yellow : 0
Saturation Adjustment Green : 0
Saturation Adjustment Aqua : 0
Saturation Adjustment Blue : 0
Saturation Adjustment Purple : 0
Saturation Adjustment Magenta : 0
Luminance Adjustment Red : 0
Luminance Adjustment Orange : 0
Luminance Adjustment Yellow : 0
Luminance Adjustment Green : 0
Luminance Adjustment Aqua : 0
Luminance Adjustment Blue : 0
Luminance Adjustment Purple : 0
Luminance Adjustment Magenta : 0
Split Toning Shadow Hue : 0
Split Toning Shadow Saturation : 0
Split Toning Highlight Hue : 0
Split Toning Highlight Saturation : 0
Split Toning Balance : 0
Parametric Shadows : 0
Parametric Darks : 0
Parametric Lights : 0
Parametric Highlights : 0
Parametric Shadow Split : 25
Parametric Midtone Split : 50
Parametric Highlight Split : 75
Sharpen Radius : +1.0
Sharpen Detail : 45
Sharpen Edge Masking : 0
Post Crop Vignette Amount : 0
Grain Amount : 0
Luminance Noise Reduction Detail : 50
Color Noise Reduction Detail : 50
Luminance Noise Reduction Contrast : 0
Convert To Grayscale : False
Tone Curve Name : Medium Contrast
Camera Profile : Adobe Standard
Has Settings : True
Has Crop : False
Already Applied : True
Sidecar For Extension : RAW
Color Mode : RGB
ICC Profile Name : Adobe RGB (1998)
Date Created : 2018:01:18 12:17:50
Format : image/jpeg
Tone Curve : 0, 0, 32, 22, 64, 56, 128, 128, 192, 196, 255, 255
Profile Description : Adobe RGB (1998)
Image Width : 400
Image Height : 229
Bits Per Sample : 8
Color Components : 3
Aperture : 4.9
Image Size : 400x229
Megapixels : 0.092
Shutter Speed : 1/100
Light Value : 9.2