Uber Exif Photo
Photometric Interpretation : RGB
Make : Panasonic
Camera Model Name : DC-S5
Orientation : Horizontal (normal)
Samples Per Pixel : 3
Software : Adobe Photoshop 26.10 (Windows)
Modify Date : 2025:08:27 22:04:21
Artist : JRA
Copyright : JOHN ANGARONI
Exposure Time : 1/640
F Number : 2.0
Exposure Program : Aperture-priority AE
ISO : 100
Date/Time Original : 2025:08:27 15:07:55
Create Date : 2025:08:27 15:07:55
Shutter Speed Value : 1/640
Aperture Value : 2.0
Exposure Compensation : -0.66
Max Aperture Value : 2.0
Metering Mode : Multi-segment
Light Source : Unknown
Flash : Off, Did not fire
Focal Length : 75.0 mm
Color Space : sRGB
Exif Image Width : 5100
Exif Image Height : 3400
Sensing Method : One-chip color area
Scene Type : Directly photographed
Custom Rendered : Custom
Exposure Mode : Auto
White Balance : Auto
Digital Zoom Ratio : 0
Focal Length In 35mm Format : 75 mm
Scene Capture Type : Standard
Gain Control : None
Contrast : High
Saturation : High
Sharpness : Soft
Serial Number : WJ3CB001079
Lens Model : TTARTISAN 75F2 L
Lens Serial Number : 4960157
By-line : JRA
Copyright Notice : JOHN ANGARONI
Creator Tool : Adobe Photoshop Lightroom Classic 14.5.1 (Windows)
Preserved File Name : P1004677.RW2
Format : image/jpeg
Lens : TTARTISAN 75F2 L
Lateral Chromatic Aberration Correction Already Applied:
True
Date Created : 2025:08:27 15:07:55.779-05:00
Color Mode : RGB
ICC Profile Name : sRGB IEC61966-2.1
Pick : 0
Raw File Name : P1004677.RW2
Version : 17.5
Compatible Version : 251854848
Process Version : 15.4
Color Temperature : 5750
Tint : +11
Exposure 2012 : +0.35
Contrast 2012 : +6
Highlights 2012 : -71
Shadows 2012 : +42
Whites 2012 : -56
Blacks 2012 : -33
Texture : 0
Clarity 2012 : +35
Dehaze : 0
Vibrance : +20
Parametric Shadows : 0
Parametric Darks : 0
Parametric Lights : 0
Parametric Highlights : 0
Parametric Shadow Split : 25
Parametric Midtone Split : 50
Parametric Highlight Split : 75
Sharpen Radius : +1.0
Sharpen Detail : 25
Sharpen Edge Masking : 0
Luminance Smoothing : 0
Color Noise Reduction : 25
Color Noise Reduction Detail : 50
Color Noise Reduction Smoothness : 50
Split Toning Shadow Hue : 0
Split Toning Shadow Saturation : 0
Split Toning Highlight Hue : 0
Split Toning Highlight Saturation : 0
Split Toning Balance : 0
Color Grade Midtone Hue : 0
Color Grade Midtone Sat : 0
Color Grade Shadow Lum : 0
Color Grade Midtone Lum : 0
Color Grade Highlight Lum : 0
Color Grade Blending : 50
Color Grade Global Hue : 0
Color Grade Global Sat : 0
Color Grade Global Lum : 0
Auto Lateral CA : 0
Lens Profile Enable : 0
Lens Manual Distortion Amount : 0
Vignette Amount : 0
Perspective Upright : Off
Perspective Vertical : 0
Perspective Horizontal : 0
Perspective Rotate : 0.0
Perspective Aspect : 0
Perspective Scale : 100
Perspective X : 0.00
Perspective Y : 0.00
Grain Amount : 0
Post Crop Vignette Amount : 0
Shadow Tint : 0
Red Hue : 0
Red Saturation : 0
Green Hue : 0
Green Saturation : 0
Blue Hue : 0
Blue Saturation : 0
HDR Edit Mode : 0
Convert To Grayscale : True
Override Look Vignette : False
Tone Curve Name 2012 : Linear
Camera Profile : Camera L Monochrome v2
Has Settings : True
Crop Top : 0
Crop Left : 0
Crop Bottom : 1
Crop Right : 1
Crop Angle : 0
Crop Constrain To Warp : 0
Crop Constrain To Unit Square : 1
Has Crop : False
Already Applied : True
Creator : JRA
Rights : JOHN ANGARONI
Camera Profiles Author : Adobe
Camera Profiles Make : Panasonic
Camera Profiles Model : DC-S5
Camera Profiles Unique Camera Model : Panasonic DC-S5
Camera Profiles Camera Raw Profile : True
Camera Profiles Auto Scale : False
Camera Profiles Lens : TTARTISAN 75F2 L
Camera Profiles Camera Pretty Name : Panasonic DC-S5
Camera Profiles Lens Pretty Name : TTARTISAN 75F2 L
Camera Profiles Profile Name : Camera Settings
Camera Profiles Sensor Format Factor : 1
Camera Profiles Focal Length : 75
Camera Profiles Focus Distance : 10000
Camera Profiles Aperture Value : 2
Camera Profiles Perspective Model Version : 2
Camera Profiles Perspective Model Image X Center:
0.499668
Camera Profiles Perspective Model Image Y Center:
0.5
Camera Profiles Perspective Model Scale Factor:
1
Camera Profiles Perspective Model Radial Distort Param 1:
-0
Camera Profiles Perspective Model Radial Distort Param 2:
0
Tone Curve PV2012 : 0, 0, 255, 255
Tone Curve PV2012 Red : 0, 0, 255, 255
Tone Curve PV2012 Green : 0, 0, 255, 255
Tone Curve PV2012 Blue : 0, 0, 255, 255
Point Colors : -1.000000, -1.000000, -1.000000, -1.000000, -1.000000, -1.000000, -1.000000, -1.000000, -1.000000, -1.000000, -1.000000, -1.000000, -1.000000, -1.000000, -1.000000, -1.000000, -1.000000, -1.000000, -1.000000
Color Variance : -50.000000
100
22
2
Profile Description : sRGB IEC61966-2.1
Image Width : 400
Image Height : 267
Bits Per Sample : 8
Color Components : 3
Aperture : 2.0
Image Size : 400x267
Megapixels : 0.107
Scale Factor To 35 mm Equivalent : 1.0
Shutter Speed : 1/640
Create Date : 2025:08:27 15:07:55.779-05:00
Date/Time Original : 2025:08:27 15:07:55.779-05:00
Modify Date : 2025:08:27 22:04:21-04:00
Circle Of Confusion : 0.030 mm
Field Of View : 27.0 deg
Focal Length : 75.0 mm (35 mm equivalent: 75.0 mm)
Hyperfocal Distance : 93.61 m
Light Value : 11.3