Uber Exif Photo
Photometric Interpretation : RGB
Make : LEICA CAMERA AG
Camera Model Name : LEICA Q (Typ 116)
Orientation : Horizontal (normal)
Samples Per Pixel : 3
Software : Adobe Photoshop 26.9 (20250709.m.3143 187b1ee) (Macintosh)
Modify Date : 2025:07:17 08:19:49
Exposure Time : 1/2500
F Number : 16.0
Exposure Program : Aperture-priority AE
ISO : 1600
Sensitivity Type : Standard Output Sensitivity
Date/Time Original : 2024:10:27 08:42:39
Create Date : 2024:10:27 08:42:39
Shutter Speed Value : 1/2500
Aperture Value : 16.0
Exposure Compensation : 0
Max Aperture Value : 1.7
Metering Mode : Spot
Light Source : Flash
Flash : Off, Did not fire
Focal Length : 28.0 mm
Color Space : Uncalibrated
Exif Image Width : 2500
Exif Image Height : 1745
Sensing Method : One-chip color area
Custom Rendered : Normal
White Balance : Manual
Digital Zoom Ratio : 1
Focal Length In 35mm Format : 28 mm
Scene Capture Type : Standard
Contrast : High
Saturation : Normal
Sharpness : Normal
Serial Number : 5214977
Lens Info : 28mm f/1.53125
Lens Make : LEICA CAMERA AG
Lens Model : 28.0 mm f/1.7
Lens Serial Number : N/A
Rating : 0
Creator Tool : 3.16
Lens : 28.0 mm f/1.7
Distortion Correction Already Applied : True
Lateral Chromatic Aberration Correction Already Applied:
True
Date Created : 2024:10:27 08:42:39
Color Mode : RGB
ICC Profile Name : Adobe RGB (1998)
Format : image/jpeg
Version : 17.0
Process Version : 15.4
Color Temperature : 5500
Tint : -1
Exposure 2012 : +0.11
Contrast 2012 : +7
Highlights 2012 : -71
Shadows 2012 : +46
Whites 2012 : +50
Blacks 2012 : -17
Texture : -28
Clarity 2012 : +16
Dehaze : 0
Vibrance : +15
Parametric Shadows : 0
Parametric Darks : 0
Parametric Lights : 0
Parametric Highlights : 0
Parametric Shadow Split : 25
Parametric Midtone Split : 50
Parametric Highlight Split : 75
Sharpen Radius : +1.0
Sharpen Detail : 25
Sharpen Edge Masking : 0
Luminance Smoothing : 28
Luminance Noise Reduction Detail : 50
Luminance Noise Reduction Contrast : 0
Color Noise Reduction : 25
Color Noise Reduction Detail : 50
Color Noise Reduction Smoothness : 50
Hue Adjustment Red : 0
Hue Adjustment Orange : 0
Hue Adjustment Yellow : 0
Hue Adjustment Green : 0
Hue Adjustment Aqua : 0
Hue Adjustment Blue : 0
Hue Adjustment Purple : 0
Hue Adjustment Magenta : 0
Saturation Adjustment Red : 0
Saturation Adjustment Orange : 0
Saturation Adjustment Yellow : 0
Saturation Adjustment Green : 0
Saturation Adjustment Aqua : 0
Saturation Adjustment Blue : 0
Saturation Adjustment Purple : 0
Saturation Adjustment Magenta : 0
Luminance Adjustment Red : 0
Luminance Adjustment Orange : 0
Luminance Adjustment Yellow : 0
Luminance Adjustment Green : 0
Luminance Adjustment Aqua : 0
Luminance Adjustment Blue : 0
Luminance Adjustment Purple : 0
Luminance Adjustment Magenta : 0
Split Toning Shadow Hue : 0
Split Toning Shadow Saturation : 0
Split Toning Highlight Hue : 0
Split Toning Highlight Saturation : 0
Split Toning Balance : 0
Color Grade Midtone Hue : 0
Color Grade Midtone Sat : 0
Color Grade Shadow Lum : -14
Color Grade Midtone Lum : +38
Color Grade Highlight Lum : +16
Color Grade Blending : 50
Color Grade Global Hue : 0
Color Grade Global Sat : 0
Color Grade Global Lum : 0
Auto Lateral CA : 1
Lens Profile Enable : 1
Lens Manual Distortion Amount : 0
Vignette Amount : 0
Defringe Purple Amount : 0
Defringe Purple Hue Lo : 30
Defringe Purple Hue Hi : 70
Defringe Green Amount : 0
Defringe Green Hue Lo : 40
Defringe Green Hue Hi : 60
Perspective Upright : Off
Perspective Vertical : 0
Perspective Horizontal : 0
Perspective Rotate : 0.0
Perspective Aspect : 0
Perspective Scale : 100
Perspective X : 0.00
Perspective Y : 0.00
Grain Amount : 0
Post Crop Vignette Amount : 0
Shadow Tint : 0
Red Hue : 0
Red Saturation : 0
Green Hue : 0
Green Saturation : 0
Blue Hue : 0
Blue Saturation : 0
HDR Edit Mode : 0
Override Look Vignette : False
Tone Curve Name 2012 : Linear
Camera Profile : Adobe Standard
Lens Profile Setup : LensDefaults
Lens Profile Name : Adobe (Leica SUMMILUX-M 28mm f/1.4 ASPH.)
Lens Profile Filename : Leica Camera AG (Leica SUMMILUX-M 28mm f1.4 ASPH.) - RAW.lcp
Lens Profile Is Embedded : False
Lens Profile Distortion Scale : 100
Lens Profile Vignetting Scale : 100
Has Settings : True
Has Crop : False
Already Applied : True
Tone Curve PV2012 : 0, 0, 255, 255
Tone Curve PV2012 Red : 0, 0, 255, 255
Tone Curve PV2012 Green : 0, 0, 255, 255
Tone Curve PV2012 Blue : 0, 0, 255, 255
Point Colors : -1.000000, -1.000000, -1.000000, -1.000000, -1.000000, -1.000000, -1.000000, -1.000000, -1.000000, -1.000000, -1.000000, -1.000000, -1.000000, -1.000000, -1.000000, -1.000000, -1.000000, -1.000000, -1.000000
Look Name : Adobe Color
Look Amount : 1
Look Supports Amount : false
Look Supports Monochrome : false
Look Supports Output Referred : false
Look Copyright : © 2018 Adobe Systems, Inc.
Look Group : Profiles
Look Parameters Version : 17.0
Look Parameters Process Version : 15.4
Look Parameters Convert To Grayscale : False
Look Parameters Camera Profile : Adobe Standard
Look Parameters Look Table : E1095149FDB39D7A057BAB208837E2E1
Look Parameters Tone Curve PV2012 : 0, 0, 22, 16, 40, 35, 127, 127, 224, 230, 240, 246, 255, 255
Look Parameters Tone Curve PV2012 Red : 0, 0, 255, 255
Look Parameters Tone Curve PV2012 Green : 0, 0, 255, 255
Look Parameters Tone Curve PV2012 Blue : 0, 0, 255, 255
Profile Description : Adobe RGB (1998)
Image Width : 400
Image Height : 279
Bits Per Sample : 8
Color Components : 3
Aperture : 16.0
Image Size : 400x279
Megapixels : 0.112
Scale Factor To 35 mm Equivalent : 1.0
Shutter Speed : 1/2500
Circle Of Confusion : 0.030 mm
Field Of View : 65.5 deg
Focal Length : 28.0 mm (35 mm equivalent: 28.0 mm)
Hyperfocal Distance : 1.63 m
Light Value : 15.3
Lens ID : 28.0mm f/1.7