Uber Exif Photo
Make : LEICA CAMERA AG
Camera Model Name : LEICA SL2-S
Software : Adobe Photoshop Lightroom Classic 14.3.1 (Windows)
Modify Date : 2025:06:16 15:44:41
Artist : Artist
Copyright : prabhakaran
Exposure Time : 1/640
F Number : 2.8
Exposure Program : Manual
ISO : 200
Sensitivity Type : Standard Output Sensitivity
Standard Output Sensitivity : 200
Date/Time Original : 2025:06:14 18:24:18
Create Date : 2025:06:14 18:24:18
Shutter Speed Value : 1/640
Aperture Value : 2.8
Exposure Compensation : 0
Max Aperture Value : 2.8
Metering Mode : Spot
Light Source : Unknown
Flash : Off, Did not fire
Focal Length : 28.0 mm
Color Space : sRGB
Sensing Method : One-chip color area
Custom Rendered : Normal
White Balance : Auto
Focal Length In 35mm Format : 28 mm
Scene Capture Type : Standard
Contrast : Normal
Saturation : Normal
Sharpness : Normal
Serial Number : 5629958
Lens Info : 24-70mm f/3
Lens Make : LEICA CAMERA AG
Lens Model : VARIO-ELMARIT-SL 1:2.8/24-70 ASPH.
Lens Serial Number : 4765221
By-line : Artist
Copyright Notice : prabhakaran
Profile Description : sRGB IEC61966-2.1
Creator Tool : Adobe Photoshop Lightroom Classic 14.3.1 (Windows)
Correction Already Applied : False
Pitch Angle : 1.1000000238
Roll Angle : 0.6999999881
Focal Length 35mm : 29.0000000000
Target Aspect Ratio : 1.5000000000
Scaling Factor Height : 0.9820065498
Valid Crop Corners : True
Apply Automatically : False
Format : image/jpeg
Lens : VARIO-ELMARIT-SL 1:2.8/24-70 ASPH.
Distortion Correction Already Applied : True
Lateral Chromatic Aberration Correction Already Applied:
True
Date Created : 2025:06:14 18:24:18+06:30
Preserved File Name : L1200474.DNG
Pick : 0
Raw File Name : L1200474.DNG
Version : 17.3.1
Compatible Version : 285212672
Process Version : 15.4
Color Temperature : 6600
Tint : -1
Exposure 2012 : -0.31
Contrast 2012 : +27
Highlights 2012 : -61
Shadows 2012 : +21
Whites 2012 : +38
Blacks 2012 : -60
Texture : 0
Clarity 2012 : 0
Dehaze : 0
Vibrance : 0
Parametric Shadows : 0
Parametric Darks : 0
Parametric Lights : 0
Parametric Highlights : 0
Parametric Shadow Split : 25
Parametric Midtone Split : 50
Parametric Highlight Split : 75
Sharpen Radius : +1.0
Sharpen Detail : 25
Sharpen Edge Masking : 0
Luminance Smoothing : 0
Color Noise Reduction : 25
Color Noise Reduction Detail : 50
Color Noise Reduction Smoothness : 50
Hue Adjustment Red : 0
Hue Adjustment Orange : 0
Hue Adjustment Yellow : 0
Hue Adjustment Green : 0
Hue Adjustment Aqua : 0
Hue Adjustment Blue : 0
Hue Adjustment Purple : 0
Hue Adjustment Magenta : 0
Saturation Adjustment Red : 0
Saturation Adjustment Orange : 0
Saturation Adjustment Yellow : 0
Saturation Adjustment Green : 0
Saturation Adjustment Aqua : 0
Saturation Adjustment Blue : 0
Saturation Adjustment Purple : 0
Saturation Adjustment Magenta : 0
Luminance Adjustment Red : 0
Luminance Adjustment Orange : 0
Luminance Adjustment Yellow : 0
Luminance Adjustment Green : 0
Luminance Adjustment Aqua : 0
Luminance Adjustment Blue : 0
Luminance Adjustment Purple : 0
Luminance Adjustment Magenta : 0
Split Toning Shadow Hue : 0
Split Toning Shadow Saturation : 0
Split Toning Highlight Hue : 0
Split Toning Highlight Saturation : 0
Split Toning Balance : 0
Color Grade Midtone Hue : 0
Color Grade Midtone Sat : 0
Color Grade Shadow Lum : 0
Color Grade Midtone Lum : 0
Color Grade Highlight Lum : 0
Color Grade Blending : 50
Color Grade Global Hue : 0
Color Grade Global Sat : 0
Color Grade Global Lum : 0
Auto Lateral CA : 1
Lens Profile Enable : 0
Lens Manual Distortion Amount : 0
Vignette Amount : 0
Defringe Purple Amount : 0
Defringe Purple Hue Lo : 30
Defringe Purple Hue Hi : 70
Defringe Green Amount : 0
Defringe Green Hue Lo : 40
Defringe Green Hue Hi : 60
Perspective Upright : Off
Perspective Vertical : 0
Perspective Horizontal : 0
Perspective Rotate : 0.0
Perspective Aspect : 0
Perspective Scale : 100
Perspective X : 0.00
Perspective Y : 0.00
Grain Amount : 0
Post Crop Vignette Amount : 0
Shadow Tint : 0
Red Hue : 0
Red Saturation : 0
Green Hue : 0
Green Saturation : 0
Blue Hue : 0
Blue Saturation : 0
HDR Edit Mode : 0
Override Look Vignette : False
Tone Curve Name 2012 : Linear
Camera Profile : Adobe Standard
Has Settings : True
Crop Top : 0
Crop Left : 0
Crop Bottom : 0.943273
Crop Right : 0.943273
Crop Angle : 0
Crop Constrain To Warp : 0
Crop Constrain To Unit Square : 1
Has Crop : True
Already Applied : True
Normalized Crop Corners : 0.0088650221, 0.0181644000, 0.9831401706, 0.0003089878, 0.9987958074, 0.9818638563, 0.0092017464, 1.0000000000
Creator : Artist
Rights : prabhakaran
Tone Curve PV2012 : 0, 0, 255, 255
Tone Curve PV2012 Red : 0, 0, 255, 255
Tone Curve PV2012 Green : 0, 0, 255, 255
Tone Curve PV2012 Blue : 0, 0, 255, 255
Point Colors : -1.000000, -1.000000, -1.000000, -1.000000, -1.000000, -1.000000, -1.000000, -1.000000, -1.000000, -1.000000, -1.000000, -1.000000, -1.000000, -1.000000, -1.000000, -1.000000, -1.000000, -1.000000, -1.000000
AI Look Version : 285212672
AI Look Model Version : 285409280
AI Look Active : true
AI Look AI Look Data : 3C876AF62BE76B39F48A8C6A470A088F
Look Name : Adaptive Color
Look Amount : 1
Look Cluster : Adobe
Look Supports Monochrome : false
Look Supports Output Referred : false
Look Copyright : © 2024 Adobe Systems, Inc.
Look Sort Name : Adaptive 1
Look Group : Adaptive
Look Parameters Version : 17.3.1
Look Parameters Process Version : 15.4
Look Parameters Profile Gain Table Map : 100
Look Parameters RGB Tables : 100
Look Parameters Convert To Grayscale : False
Look Parameters Look Table : E1095149FDB39D7A057BAB208837E2E1
Image Width : 400
Image Height : 267
Bits Per Sample : 8
Color Components : 3
Aperture : 2.8
Image Size : 400x267
Megapixels : 0.107
Scale Factor To 35 mm Equivalent : 1.0
Shutter Speed : 1/640
Create Date : 2025:06:14 18:24:18+06:30
Date/Time Original : 2025:06:14 18:24:18+06:30
Modify Date : 2025:06:16 15:44:41+05:30
Circle Of Confusion : 0.030 mm
Field Of View : 65.5 deg
Focal Length : 28.0 mm (35 mm equivalent: 28.0 mm)
Hyperfocal Distance : 9.32 m
Light Value : 11.3