Uber Exif Photo
Make : LEICA CAMERA AG
Camera Model Name : LEICA SL2-S
Software : Adobe Photoshop Lightroom Classic 14.3.1 (Windows)
Modify Date : 2025:06:16 15:05:48
Artist : Artist
Copyright : prabhakaran
Exposure Time : 15
F Number : 22.0
Exposure Program : Manual
ISO : 50
Sensitivity Type : Standard Output Sensitivity
Standard Output Sensitivity : 50
Date/Time Original : 2025:06:14 18:00:12
Create Date : 2025:06:14 18:00:12
Shutter Speed Value : 15
Aperture Value : 22.0
Exposure Compensation : 0
Max Aperture Value : 2.8
Metering Mode : Spot
Light Source : Unknown
Flash : Off, Did not fire
Focal Length : 24.0 mm
Color Space : sRGB
Sensing Method : One-chip color area
Custom Rendered : Normal
White Balance : Auto
Focal Length In 35mm Format : 24 mm
Scene Capture Type : Standard
Contrast : Normal
Saturation : Normal
Sharpness : Normal
Serial Number : 5629958
Lens Info : 24-70mm f/3
Lens Make : LEICA CAMERA AG
Lens Model : VARIO-ELMARIT-SL 1:2.8/24-70 ASPH.
Lens Serial Number : 4765221
By-line : Artist
Copyright Notice : prabhakaran
Profile Description : sRGB IEC61966-2.1
Creator Tool : Adobe Photoshop Lightroom Classic 14.3.1 (Windows)
Correction Already Applied : False
Pitch Angle : -4.6999998093
Roll Angle : 0.5000000000
Focal Length 35mm : 25.0000000000
Target Aspect Ratio : 1.5000000000
Scaling Factor Height : 0.9598962665
Valid Crop Corners : True
Apply Automatically : False
Format : image/jpeg
Lens : VARIO-ELMARIT-SL 1:2.8/24-70 ASPH.
Distortion Correction Already Applied : True
Lateral Chromatic Aberration Correction Already Applied:
True
Date Created : 2025:06:14 18:00:12+06:30
Preserved File Name : L1200461.DNG
Pick : 0
Raw File Name : L1200461.DNG
Version : 17.3.1
Compatible Version : 285212672
Process Version : 15.4
Color Temperature : 5900
Tint : +21
Exposure 2012 : 0.00
Contrast 2012 : 0
Highlights 2012 : 0
Shadows 2012 : 0
Whites 2012 : 0
Blacks 2012 : 0
Texture : 0
Clarity 2012 : 0
Dehaze : 0
Vibrance : 0
Parametric Shadows : 0
Parametric Darks : 0
Parametric Lights : 0
Parametric Highlights : 0
Parametric Shadow Split : 25
Parametric Midtone Split : 50
Parametric Highlight Split : 75
Sharpen Radius : +1.0
Sharpen Detail : 25
Sharpen Edge Masking : 0
Luminance Smoothing : 0
Color Noise Reduction : 25
Color Noise Reduction Detail : 50
Color Noise Reduction Smoothness : 50
Hue Adjustment Red : 0
Hue Adjustment Orange : 0
Hue Adjustment Yellow : 0
Hue Adjustment Green : 0
Hue Adjustment Aqua : 0
Hue Adjustment Blue : 0
Hue Adjustment Purple : 0
Hue Adjustment Magenta : 0
Saturation Adjustment Red : 0
Saturation Adjustment Orange : 0
Saturation Adjustment Yellow : 0
Saturation Adjustment Green : 0
Saturation Adjustment Aqua : 0
Saturation Adjustment Blue : 0
Saturation Adjustment Purple : 0
Saturation Adjustment Magenta : 0
Luminance Adjustment Red : 0
Luminance Adjustment Orange : 0
Luminance Adjustment Yellow : 0
Luminance Adjustment Green : 0
Luminance Adjustment Aqua : 0
Luminance Adjustment Blue : 0
Luminance Adjustment Purple : 0
Luminance Adjustment Magenta : 0
Split Toning Shadow Hue : 0
Split Toning Shadow Saturation : 0
Split Toning Highlight Hue : 0
Split Toning Highlight Saturation : 0
Split Toning Balance : 0
Color Grade Midtone Hue : 0
Color Grade Midtone Sat : 0
Color Grade Shadow Lum : 0
Color Grade Midtone Lum : 0
Color Grade Highlight Lum : 0
Color Grade Blending : 50
Color Grade Global Hue : 0
Color Grade Global Sat : 0
Color Grade Global Lum : 0
Auto Lateral CA : 1
Lens Profile Enable : 1
Lens Manual Distortion Amount : 0
Vignette Amount : 0
Defringe Purple Amount : 0
Defringe Purple Hue Lo : 30
Defringe Purple Hue Hi : 70
Defringe Green Amount : 0
Defringe Green Hue Lo : 40
Defringe Green Hue Hi : 60
Perspective Upright : Auto
Perspective Vertical : 0
Perspective Horizontal : 0
Perspective Rotate : 0.0
Perspective Aspect : 0
Perspective Scale : 100
Perspective X : 0.00
Perspective Y : 0.00
Grain Amount : 0
Post Crop Vignette Amount : 0
Shadow Tint : 0
Red Hue : 0
Red Saturation : 0
Green Hue : 0
Green Saturation : 0
Blue Hue : 0
Blue Saturation : 0
HDR Edit Mode : 0
Override Look Vignette : False
Tone Curve Name 2012 : Linear
Camera Profile : Adobe Standard
Lens Profile Setup : LensDefaults
Has Settings : True
Crop Top : 0.016727
Crop Left : 0.139636
Crop Bottom : 0.877091
Crop Right : 1
Crop Angle : 0
Crop Constrain To Warp : 0
Crop Constrain To Unit Square : 1
Has Crop : True
Already Applied : True
Normalized Crop Corners : 0.0000000000, 0.0472229943, 0.9946557879, 0.0342026502, 0.9641095996, 0.9873794913, 0.0416317284, 0.9994550347
Creator : Artist
Rights : prabhakaran
Tone Curve PV2012 : 0, 0, 255, 255
Tone Curve PV2012 Red : 0, 0, 255, 255
Tone Curve PV2012 Green : 0, 0, 255, 255
Tone Curve PV2012 Blue : 0, 0, 255, 255
Point Colors : -1.000000, -1.000000, -1.000000, -1.000000, -1.000000, -1.000000, -1.000000, -1.000000, -1.000000, -1.000000, -1.000000, -1.000000, -1.000000, -1.000000, -1.000000, -1.000000, -1.000000, -1.000000, -1.000000
AI Look Version : 285212672
AI Look Model Version : 285409280
AI Look Active : true
AI Look AI Look Data : 18761D18736A1980DB96CD21DC4A2912
Remove Areas Spot Type : heal_patchmatch
Remove Areas Source State : sourceAutoComputed
Remove Areas Opacity : 1
Remove Areas Seed : 2
Remove Areas Pm patch : BC933C25A767230EB9E71FF0A7407498
Remove Areas Pm remap info 0 : 0.164461732,0.179903865,0.000000000,1.000000000
Remove Areas Pm remap info 1 : 0.335912108,0.383169293,0.000000000,1.000000000
Remove Areas Pm remap info 2 : 0.254825652,0.280201405,0.000000000,1.000000000
Remove Areas Pm gamma type : 1
Remove Areas Pm whole image top : 24
Remove Areas Pm whole image left : 12
Remove Areas Pm whole image bottom : 4024
Remove Areas Pm whole image right : 6012
Remove Areas Pm full image top : 0
Remove Areas Pm full image left : 0
Remove Areas Pm full image bottom : 4048
Remove Areas Pm full image right : 6024
Remove Areas Pm target top : 195
Remove Areas Pm target left : 2166
Remove Areas Pm target bottom : 422
Remove Areas Pm target right : 2385
Remove Areas Pm search top : 0
Remove Areas Pm search left : 1829
Remove Areas Pm search bottom : 890
Remove Areas Pm search right : 2721
Remove Areas Pm source type : full
Remove Areas Pm version : 327680
Remove Areas Pm black level : 3721
Remove Areas Masks What : Mask/Image
Remove Areas Masks Mask Active : true
Remove Areas Masks Mask Blend Mode : 0
Remove Areas Masks Mask Inverted : false
Remove Areas Masks Mask Sync ID : 114D31DBEF0CC34F80B5AC42645137B7
Remove Areas Masks Mask Value : 1
Remove Areas Masks Mask Version : 1
Remove Areas Masks Mask Sub Type : 0
Remove Areas Masks Reference Point : 0.377110 0.073538
Remove Areas Masks Whole Image Area : 0/1,0/1,1920/1,2880/1
Remove Areas Masks Origin : 1034,82
Remove Areas Masks Full Mask Size : 2880,1920
Remove Areas Masks Model Version : 234881976
Remove Areas Masks Gesture What : Mask/Paint
Remove Areas Masks Gesture Mask Active : true
Remove Areas Masks Gesture Mask Blend Mode : 0
Remove Areas Masks Gesture Mask Inverted : false
Remove Areas Masks Gesture Mask Sync ID : 7BC1DE048C61D2498C1D542CF31FCC2D
Remove Areas Masks Gesture Mask Value : 1
Remove Areas Masks Gesture Radius : 0
Remove Areas Masks Gesture Flow : 1
Remove Areas Masks Gesture Center Weight : 0
Remove Areas Masks Gesture Brush Gesture Interpretation:
0
100
50004
2
true
false
93BB1666D1021B44A0D6C8673971ED75
Look Name : Adaptive Color
Look Amount : 1
Look Cluster : Adobe
Look Supports Monochrome : false
Look Supports Output Referred : false
Look Copyright : © 2024 Adobe Systems, Inc.
Look Sort Name : Adaptive 1
Look Group : Adaptive
Look Parameters Version : 17.3.1
Look Parameters Process Version : 15.4
Look Parameters Profile Gain Table Map : 100
Look Parameters RGB Tables : 100
Look Parameters Convert To Grayscale : False
Look Parameters Look Table : E1095149FDB39D7A057BAB208837E2E1
Image Width : 400
Image Height : 267
Bits Per Sample : 8
Color Components : 3
Aperture : 22.0
Image Size : 400x267
Megapixels : 0.107
Scale Factor To 35 mm Equivalent : 1.0
Shutter Speed : 15
Create Date : 2025:06:14 18:00:12+06:30
Date/Time Original : 2025:06:14 18:00:12+06:30
Modify Date : 2025:06:16 15:05:48+05:30
Circle Of Confusion : 0.030 mm
Field Of View : 73.7 deg
Focal Length : 24.0 mm (35 mm equivalent: 24.0 mm)
Hyperfocal Distance : 0.87 m
Light Value : 6.0