Uber Exif Photo
Photometric Interpretation : RGB
Make : LEICA CAMERA AG
Camera Model Name : LEICA X VARIO (Typ 107)
Orientation : Horizontal (normal)
Samples Per Pixel : 3
Software : Adobe Photoshop 26.7 (Windows)
Modify Date : 2025:05:22 02:50:45
Exposure Time : 1/800
F Number : 9.0
Exposure Program : Aperture-priority AE
ISO : 200
Date/Time Original : 2025:05:17 11:56:09
Create Date : 2025:05:17 11:56:09
Shutter Speed Value : 1/800
Aperture Value : 9.0
Exposure Compensation : -0.3
Max Aperture Value : 3.5
Metering Mode : Multi-segment
Light Source : Unknown
Flash : Off, Did not fire
Focal Length : 46.0 mm
Color Space : sRGB
Exif Image Width : 3000
Exif Image Height : 3307
Sensing Method : One-chip color area
Custom Rendered : Normal
White Balance : Auto
Digital Zoom Ratio : 1
Focal Length In 35mm Format : 70 mm
Scene Capture Type : Landscape
Contrast : High
Saturation : High
Sharpness : Soft
Serial Number : 000004704722
Lens Info : 18-46mm f/3.5-6.4
Lens Model : 18.0-46.0 mm f/3.5-6.4
Creator Tool : Adobe Photoshop Lightroom Classic 14.3.1 (Windows)
Lens : 18.0-46.0 mm f/3.5-6.4
Distortion Correction Already Applied : True
Lateral Chromatic Aberration Correction Already Applied:
True
Date Created : 2025:05:17 11:56:09
Color Mode : RGB
ICC Profile Name : sRGB IEC61966-2.1
Preserved File Name : L9612344.DNG
Format : image/jpeg
Pick : 0
Raw File Name : L9612344.DNG
Version : 17.3.1
Process Version : 15.4
Color Temperature : 5100
Tint : +20
Exposure 2012 : +0.61
Contrast 2012 : +6
Highlights 2012 : -73
Shadows 2012 : -21
Whites 2012 : +2
Blacks 2012 : -18
Texture : 0
Clarity 2012 : +11
Dehaze : 0
Vibrance : +37
Parametric Shadows : 0
Parametric Darks : 0
Parametric Lights : 0
Parametric Highlights : 0
Parametric Shadow Split : 25
Parametric Midtone Split : 50
Parametric Highlight Split : 75
Sharpen Radius : +3.0
Sharpen Detail : 100
Sharpen Edge Masking : 50
Luminance Smoothing : 24
Luminance Noise Reduction Detail : 50
Luminance Noise Reduction Contrast : 0
Color Noise Reduction : 25
Color Noise Reduction Detail : 50
Color Noise Reduction Smoothness : 50
Hue Adjustment Red : 0
Hue Adjustment Orange : +18
Hue Adjustment Yellow : -6
Hue Adjustment Green : 0
Hue Adjustment Aqua : +37
Hue Adjustment Blue : 0
Hue Adjustment Purple : -19
Hue Adjustment Magenta : -32
Saturation Adjustment Red : 0
Saturation Adjustment Orange : +28
Saturation Adjustment Yellow : +43
Saturation Adjustment Green : 0
Saturation Adjustment Aqua : +53
Saturation Adjustment Blue : 0
Saturation Adjustment Purple : -4
Saturation Adjustment Magenta : -15
Luminance Adjustment Red : 0
Luminance Adjustment Orange : +8
Luminance Adjustment Yellow : +16
Luminance Adjustment Green : 0
Luminance Adjustment Aqua : +12
Luminance Adjustment Blue : 0
Luminance Adjustment Purple : +12
Luminance Adjustment Magenta : +2
Split Toning Shadow Hue : 0
Split Toning Shadow Saturation : 0
Split Toning Highlight Hue : 0
Split Toning Highlight Saturation : 0
Split Toning Balance : 0
Color Grade Midtone Hue : 0
Color Grade Midtone Sat : 0
Color Grade Shadow Lum : 0
Color Grade Midtone Lum : 0
Color Grade Highlight Lum : 0
Color Grade Blending : 50
Color Grade Global Hue : 0
Color Grade Global Sat : 0
Color Grade Global Lum : 0
Auto Lateral CA : 1
Lens Profile Enable : 0
Lens Manual Distortion Amount : 0
Vignette Amount : 0
Defringe Purple Amount : 0
Defringe Purple Hue Lo : 30
Defringe Purple Hue Hi : 70
Defringe Green Amount : 0
Defringe Green Hue Lo : 40
Defringe Green Hue Hi : 60
Perspective Upright : Off
Perspective Vertical : 0
Perspective Horizontal : 0
Perspective Rotate : 0.0
Perspective Aspect : 0
Perspective Scale : 100
Perspective X : 0.00
Perspective Y : 0.00
Grain Amount : 0
Post Crop Vignette Amount : 0
Shadow Tint : 0
Red Hue : 0
Red Saturation : -26
Green Hue : +21
Green Saturation : +6
Blue Hue : 0
Blue Saturation : +11
HDR Edit Mode : 0
Curve Refine Saturation : 100
Override Look Vignette : False
Tone Curve Name 2012 : Custom
Camera Profile : Adobe Standard
Has Settings : True
Crop Top : 0
Crop Left : 0.237154
Crop Bottom : 1
Crop Right : 0.837945
Crop Angle : 0
Crop Constrain To Warp : 0
Crop Constrain To Unit Square : 1
Has Crop : True
Already Applied : True
Tone Curve PV2012 : 0, 0, 40, 16, 54, 31, 83, 67, 132, 128, 175, 173, 195, 197, 238, 241, 255, 255
Tone Curve PV2012 Red : 0, 0, 54, 54, 165, 153, 255, 255
Tone Curve PV2012 Green : 0, 0, 58, 58, 148, 139, 255, 255
Tone Curve PV2012 Blue : 0, 0, 57, 57, 170, 150, 255, 255
Point Colors : -1.000000, -1.000000, -1.000000, -1.000000, -1.000000, -1.000000, -1.000000, -1.000000, -1.000000, -1.000000, -1.000000, -1.000000, -1.000000, -1.000000, -1.000000, -1.000000, -1.000000, -1.000000, -1.000000
Look Name : Adobe Vivid
Look Amount : 1
Look Supports Amount : false
Look Supports Monochrome : false
Look Supports Output Referred : false
Look Copyright : © 2018 Adobe Systems, Inc.
Look Group : Profiles
Look Parameters Version : 17.3.1
Look Parameters Process Version : 15.4
Look Parameters Clarity 2012 : +10
Look Parameters Convert To Grayscale : False
Look Parameters Camera Profile : Adobe Standard
Look Parameters Look Table : 2FE663AB0D3CE5DA7B9F657BBCD66DFE
Look Parameters Tone Curve PV2012 : 0, 0, 32, 22, 64, 56, 128, 128, 224, 232, 240, 246, 255, 255
Profile Description : sRGB IEC61966-2.1
Image Width : 363
Image Height : 400
Bits Per Sample : 8
Color Components : 3
Aperture : 9.0
Image Size : 363x400
Megapixels : 0.145
Scale Factor To 35 mm Equivalent : 1.5
Shutter Speed : 1/800
Modify Date : 2025:05:22 02:50:45-04:00
Circle Of Confusion : 0.020 mm
Field Of View : 28.8 deg
Focal Length : 46.0 mm (35 mm equivalent: 70.0 mm)
Hyperfocal Distance : 11.91 m
Light Value : 15.0
Lens ID : 18.0-46.0mm f/3.5-6.4