Uber Exif Photo
Photometric Interpretation : RGB
Make : Leica Camera AG
Camera Model Name : LEICA M10-R
Orientation : Horizontal (normal)
Samples Per Pixel : 3
Planar Configuration : Chunky
Software : Adobe Photoshop 25.12 (Macintosh)
Modify Date : 2024:12:26 15:57:14
Exposure Time : 1/60
F Number : 4.0
Exposure Program : Manual
ISO : 6400
Date/Time Original : 2024:02:19 19:48:08
Create Date : 2024:02:19 19:48:08
Shutter Speed Value : 1/60
Aperture Value : 4.0
Exposure Compensation : +3
Max Aperture Value : 1.0
Metering Mode : Center-weighted average
Light Source : Unknown
Flash : No Flash
Color Space : sRGB
Exif Image Width : 2500
Exif Image Height : 1693
Scene Type : Directly photographed
Custom Rendered : Normal
Exposure Mode : Manual
White Balance : Auto
Digital Zoom Ratio : 0
Scene Capture Type : Standard
Contrast : Normal
Saturation : Normal
Sharpness : Normal
Serial Number : 5618162
Lens Make : Leica Camera AG
Lens Model : R-Adapter X1000
Creator Tool : Adobe Photoshop Lightroom Classic 13.1 (Macintosh)
Rating : 0
Label :
Format : image/jpeg
Correction Already Applied : False
Pitch Angle : -23.0189990997
Roll Angle : 17.9629993439
Focal Length 35mm : 0.0000000000
Target Aspect Ratio : 1.5000000000
Scaling Factor Height : 1.0000000000
Valid Crop Corners : False
Apply Automatically : False
Lens : R-Adapter X1000
Approximate Focus Distance : 6.64
Enhance Details Already Applied : True
Enhance Details Version : 218300416
Enhance Denoise Already Applied : True
Enhance Denoise Version : 251658240
Enhance Denoise Luma Amount : 70
Distortion Correction Already Applied : True
Lateral Chromatic Aberration Correction Already Applied:
True
Vignette Correction Already Applied : True
Date Created : 2024:02:19 19:48:08
Color Mode : RGB
ICC Profile Name : sRGB IEC61966-2.1
Preserved File Name : L1006028.DNG
Version : 16.1.1
Process Version : 15.4
Color Temperature : 4900
Tint : +6
Exposure 2012 : 0.00
Contrast 2012 : +24
Highlights 2012 : -61
Shadows 2012 : +51
Whites 2012 : 0
Blacks 2012 : -5
Texture : 0
Clarity 2012 : 0
Dehaze : -7
Vibrance : +17
Parametric Shadows : 0
Parametric Darks : 0
Parametric Lights : 0
Parametric Highlights : 0
Parametric Shadow Split : 25
Parametric Midtone Split : 50
Parametric Highlight Split : 75
Sharpen Radius : +1.0
Sharpen Detail : 25
Sharpen Edge Masking : 0
Luminance Smoothing : 0
Color Noise Reduction : 0
Gray Mixer Red : 0
Gray Mixer Orange : 0
Gray Mixer Yellow : +10
Gray Mixer Green : +20
Gray Mixer Aqua : 0
Gray Mixer Blue : -20
Gray Mixer Purple : -11
Gray Mixer Magenta : 0
Hue Adjustment Red : 0
Hue Adjustment Orange : 0
Hue Adjustment Yellow : 0
Hue Adjustment Green : 0
Hue Adjustment Aqua : 0
Hue Adjustment Blue : 0
Hue Adjustment Purple : 0
Hue Adjustment Magenta : 0
Saturation Adjustment Red : 0
Saturation Adjustment Orange : 0
Saturation Adjustment Yellow : 0
Saturation Adjustment Green : 0
Saturation Adjustment Aqua : 0
Saturation Adjustment Blue : 0
Saturation Adjustment Purple : 0
Saturation Adjustment Magenta : 0
Luminance Adjustment Red : 0
Luminance Adjustment Orange : 0
Luminance Adjustment Yellow : 0
Luminance Adjustment Green : 0
Luminance Adjustment Aqua : 0
Luminance Adjustment Blue : 0
Luminance Adjustment Purple : 0
Luminance Adjustment Magenta : 0
Split Toning Shadow Hue : 0
Split Toning Shadow Saturation : 0
Split Toning Highlight Hue : 0
Split Toning Highlight Saturation : 0
Split Toning Balance : 0
Color Grade Midtone Hue : 0
Color Grade Midtone Sat : 0
Color Grade Shadow Lum : 0
Color Grade Midtone Lum : 0
Color Grade Highlight Lum : 0
Color Grade Blending : 50
Color Grade Global Hue : 0
Color Grade Global Sat : 0
Color Grade Global Lum : 0
Auto Lateral CA : 1
Lens Profile Enable : 1
Lens Manual Distortion Amount : 0
Vignette Amount : 0
Defringe Purple Amount : 0
Defringe Purple Hue Lo : 30
Defringe Purple Hue Hi : 70
Defringe Green Amount : 0
Defringe Green Hue Lo : 40
Defringe Green Hue Hi : 60
Perspective Upright : Off
Perspective Vertical : 0
Perspective Horizontal : 0
Perspective Rotate : 0.0
Perspective Aspect : 0
Perspective Scale : 100
Perspective X : 0.00
Perspective Y : 0.00
Grain Amount : 0
Post Crop Vignette Amount : 0
Shadow Tint : 0
Red Hue : 0
Red Saturation : 0
Green Hue : 0
Green Saturation : 0
Blue Hue : 0
Blue Saturation : 0
HDR Edit Mode : 0
Override Look Vignette : False
Tone Curve Name 2012 : Linear
Camera Profile : Adobe Standard
Lens Profile Setup : Custom
Lens Profile Name : Adobe (Zeiss C Biogon T* 2,8/35 ZM)
Lens Profile Filename : Leica Camera AG (Zeiss C Biogon T 2.8_35 ZM) - RAW.lcp
Lens Profile Is Embedded : False
Lens Profile Distortion Scale : 100
Lens Profile Vignetting Scale : 100
Has Settings : True
Crop Top : 0
Crop Left : 0.003022
Crop Bottom : 1
Crop Right : 0.996978
Crop Angle : 0.16
Crop Constrain To Warp : 0
Has Crop : True
Already Applied : True
Normalized Crop Corners : 0.0000000000, 0.0000000000, 1.0000000000, 0.0000000000, 1.0000000000, 1.0000000000, 0.0000000000, 1.0000000000
Tone Curve PV2012 : 0, 0, 255, 255
Tone Curve PV2012 Red : 0, 0, 255, 255
Tone Curve PV2012 Green : 0, 0, 255, 255
Tone Curve PV2012 Blue : 0, 0, 255, 255
Point Colors : -1.000000, -1.000000, -1.000000, -1.000000, -1.000000, -1.000000, -1.000000, -1.000000, -1.000000, -1.000000, -1.000000, -1.000000, -1.000000, -1.000000, -1.000000, -1.000000, -1.000000, -1.000000, -1.000000
Look Name : B&W 04
Look Amount : 0.8
Look Cluster : Adobe
Look Supports Monochrome : false
Look Sort Name : B&W 04
Look Group : B&W
Look Parameters Version : 16.1.1
Look Parameters Process Version : 15.4
Look Parameters Contrast 2012 : +8
Look Parameters Clarity 2012 : +8
Look Parameters Convert To Grayscale : True
Look Parameters Look Table : AC0E24EFC658D3BD29B430044AE2FB7C
Look Parameters Tone Curve PV2012 : 0, 0, 17, 10, 34, 24, 51, 41, 68, 63, 85, 89, 102, 116, 119, 143, 136, 169, 153, 193, 170, 212, 187, 228, 204, 239, 221, 246, 238, 251, 255, 255
Look Parameters Tone Curve PV2012 Red : 0, 0, 255, 255
Look Parameters Tone Curve PV2012 Green : 0, 0, 255, 255
Look Parameters Tone Curve PV2012 Blue : 0, 0, 255, 255
Profile Description : sRGB IEC61966-2.1
Image Width : 400
Image Height : 271
Bits Per Sample : 8
Color Components : 3
Aperture : 4.0
Image Size : 400x271
Megapixels : 0.108
Scale Factor To 35 mm Equivalent : 3.1
Shutter Speed : 1/60
Modify Date : 2024:12:26 15:57:14-05:00
Circle Of Confusion : 0.010 mm
Light Value : 3.9