Uber Exif Photo
Make : Leica Camera AG
Camera Model Name : LEICA M11
Software : Adobe Photoshop Lightroom 6.14 (Windows)
Modify Date : 2024:09:09 18:06:43
Exposure Time : 1/350
F Number : 2.8
Exposure Program : Aperture-priority AE
ISO : 64
Sensitivity Type : Standard Output Sensitivity
Standard Output Sensitivity : 64
ISO Speed : 64
Date/Time Original : 2024:09:02 04:59:42
Create Date : 2024:09:02 04:59:42
Shutter Speed Value : 1/350
Aperture Value : 2.8
Exposure Compensation : 0
Max Aperture Value : 2.0
Metering Mode : Multi-segment
Light Source : Unknown
Flash : No Flash
Focal Length : 35.0 mm
Color Space : sRGB
Scene Type : Directly photographed
Custom Rendered : Normal
Exposure Mode : Auto
White Balance : Auto
Digital Zoom Ratio : 0
Scene Capture Type : Standard
Contrast : Normal
Saturation : Normal
Sharpness : Normal
Serial Number : 5587795
Lens Info : 35mm f/2
Lens Make : Leica Camera AG
Lens Model : Summicron-M 1:2/35 ASPH.
Profile Description : sRGB IEC61966-2.1
Version ID : 02.00
Creator Tool : Adobe Photoshop Lightroom 6.14 (Windows)
Format : image/jpeg
Correction Already Applied : False
Pitch Angle : -2.8780000209
Roll Angle : 1.1160000562
Focal Length 35mm : 35.0000000000
Target Aspect Ratio : 1.5000000000
Scaling Factor Height : 0.9713778495
Valid Crop Corners : True
Apply Automatically : False
Lens : Summicron-M 1:2/35 ASPH.
Date Created : 2024:09:02 04:59:42
Version : 10.1
Process Version : 6.7
Auto White Version : 134348800
Color Temperature : 5100
Tint : +18
Luminance Smoothing : 0
Color Noise Reduction : 25
Vignette Amount : 0
Shadow Tint : 0
Red Hue : 0
Red Saturation : 0
Green Hue : 0
Green Saturation : 0
Blue Hue : 0
Blue Saturation : 0
Gray Mixer Red : -10
Gray Mixer Orange : -19
Gray Mixer Yellow : -23
Gray Mixer Green : -27
Gray Mixer Aqua : -18
Gray Mixer Blue : +10
Gray Mixer Purple : +15
Gray Mixer Magenta : +4
Split Toning Shadow Hue : 0
Split Toning Shadow Saturation : 0
Split Toning Highlight Hue : 0
Split Toning Highlight Saturation : 0
Split Toning Balance : 0
Parametric Shadows : 0
Parametric Darks : 0
Parametric Lights : 0
Parametric Highlights : 0
Parametric Shadow Split : 25
Parametric Midtone Split : 50
Parametric Highlight Split : 75
Sharpen Radius : +1.0
Sharpen Detail : 25
Sharpen Edge Masking : 0
Post Crop Vignette Amount : -9
Post Crop Vignette Midpoint : 50
Post Crop Vignette Feather : 50
Post Crop Vignette Roundness : 0
Post Crop Vignette Style : Highlight Priority
Post Crop Vignette Highlight Contrast : 0
Grain Amount : 60
Grain Size : 25
Grain Frequency : 50
Color Noise Reduction Detail : 50
Color Noise Reduction Smoothness : 50
Lens Profile Enable : 0
Lens Manual Distortion Amount : 0
Perspective Vertical : 0
Perspective Horizontal : 0
Perspective Rotate : 0.0
Perspective Scale : 100
Perspective Aspect : 0
Perspective Upright : Off
Perspective X : 0.00
Perspective Y : 0.00
Auto Lateral CA : 0
Exposure 2012 : -0.78
Contrast 2012 : +15
Highlights 2012 : -100
Shadows 2012 : +45
Whites 2012 : 0
Blacks 2012 : +97
Clarity 2012 : +30
Dehaze : 0
Tone Map Strength : 0
Convert To Grayscale : True
Tone Curve Name : Linear
Tone Curve Name 2012 : Strong Contrast
Camera Profile : Adobe Standard
Lens Profile Setup : LensDefaults
Has Settings : True
Has Crop : False
Already Applied : True
Derived From Version ID : 02.00
Normalized Crop Corners : 0.0000000000, 0.0299591235, 0.9874165654, 0.0011063083, 0.9837743043, 0.9712536334, 0.0288283377, 0.9991576075
Tone Curve : 0, 0, 255, 255
Tone Curve Red : 0, 0, 255, 255
Tone Curve Green : 0, 0, 255, 255
Tone Curve Blue : 0, 0, 255, 255
Tone Curve PV2012 : 0, 0, 32, 16, 64, 50, 128, 128, 192, 202, 255, 255
Tone Curve PV2012 Red : 0, 0, 255, 255
Tone Curve PV2012 Green : 0, 0, 255, 255
Tone Curve PV2012 Blue : 0, 0, 255, 255
Paint Correction What : Correction
Paint Correction Amount : 1.000000
Paint Correction Active : true
Paint Correction Saturation : 0.000000
Paint Correction Sharpness : 0.000000
Paint Correction Brightness : 0.000000
Paint Correction Toning Hue : 0.000000
Paint Correction Toning Saturation : 0.000000
Paint Correction Exposure 2012 : 0.000000
Paint Correction Contrast 2012 : 0.000000
Paint Correction Highlights 2012 : -0.670730
Paint Correction Shadows 2012 : -0.323170
Paint Correction Whites 2012 : 0.000000
Paint Correction Blacks 2012 : 0.000000
Paint Correction Clarity 2012 : 0.000000
Paint Correction Dehaze : 0.000000
Paint Correction Luminance Noise : 0.000000
Paint Correction Moire : 0.000000
Paint Correction Defringe : 0.000000
Paint Correction Temperature : 0.000000
Paint Correction Tint : 0.000000
Paint Correction Mask What : Mask/Paint
Paint Correction Mask Value : 1.000000
Paint Correction Mask Radius : 0.250564
Paint Correction Mask Flow : 1.000000
Paint Correction Mask Center Weight : 0.000000
Image Width : 400
Image Height : 266
Bits Per Sample : 8
Color Components : 3
Aperture : 2.8
Image Size : 400x266
Megapixels : 0.106
Shutter Speed : 1/350
Light Value : 12.1
Lens ID : Summicron-M 1:2/35 ASPH.