Uber Exif Photo
Make : SONY
Camera Model Name : ILCE-7RM2
Software : Adobe Photoshop Lightroom 6.14 (Windows)
Modify Date : 2023:01:28 23:32:43
Exposure Time : 1/125
F Number : 3.2
Exposure Program : Aperture-priority AE
ISO : 250
Sensitivity Type : Recommended Exposure Index
Recommended Exposure Index : 250
Date/Time Original : 2016:09:16 12:29:29
Create Date : 2016:09:16 12:29:29
Shutter Speed Value : 1/125
Aperture Value : 3.2
Brightness Value : 3.76328125
Exposure Compensation : 0
Max Aperture Value : 1.8
Metering Mode : Multi-segment
Light Source : Unknown
Flash : Off, Did not fire
Focal Length : 135.0 mm
Color Space : sRGB
Scene Type : Directly photographed
Custom Rendered : Normal
Exposure Mode : Auto
White Balance : Auto
Digital Zoom Ratio : 1
Focal Length In 35mm Format : 135 mm
Scene Capture Type : Standard
Contrast : Normal
Saturation : Normal
Sharpness : Normal
Lens Info : 135mm f/1.8
Lens Model : 135mm F1.8 ZA
Profile Description : sRGB IEC61966-2.1
Creator Tool : Adobe Photoshop Lightroom 6.14 (Windows)
Lens : 135mm F1.8 ZA
Lateral Chromatic Aberration Correction Already Applied:
True
Lens Distort Info : 1068190622/1073741824 7215093/1073741824 -1785586/1073741824 89685/1073741824
Date Created : 2016:09:16 12:29:29
Format : image/jpeg
Version : 10.1
Process Version : 6.7
Auto White Version : 134348800
Color Temperature : 3800
Tint : -8
Luminance Smoothing : 0
Color Noise Reduction : 25
Vignette Amount : 0
Shadow Tint : 0
Red Hue : 0
Red Saturation : 0
Green Hue : 0
Green Saturation : 0
Blue Hue : 0
Blue Saturation : 0
Gray Mixer Red : +50
Gray Mixer Orange : +38
Gray Mixer Yellow : +36
Gray Mixer Green : -5
Gray Mixer Aqua : +25
Gray Mixer Blue : 0
Gray Mixer Purple : -30
Gray Mixer Magenta : -40
Split Toning Shadow Hue : 0
Split Toning Shadow Saturation : 0
Split Toning Highlight Hue : 0
Split Toning Highlight Saturation : 0
Split Toning Balance : 0
Parametric Shadows : 0
Parametric Darks : +18
Parametric Lights : +40
Parametric Highlights : +50
Parametric Shadow Split : 25
Parametric Midtone Split : 50
Parametric Highlight Split : 75
Sharpen Radius : +1.0
Sharpen Detail : 25
Sharpen Edge Masking : 0
Post Crop Vignette Amount : 0
Grain Amount : 0
Color Noise Reduction Detail : 50
Color Noise Reduction Smoothness : 50
Lens Profile Enable : 0
Lens Manual Distortion Amount : 0
Perspective Vertical : 0
Perspective Horizontal : 0
Perspective Rotate : 0.0
Perspective Scale : 100
Perspective Aspect : 0
Perspective Upright : Off
Perspective X : 0.00
Perspective Y : 0.00
Auto Lateral CA : 0
Exposure 2012 : -0.14
Contrast 2012 : 0
Highlights 2012 : -100
Shadows 2012 : -50
Whites 2012 : -100
Blacks 2012 : -53
Clarity 2012 : +41
Dehaze : 0
Tone Map Strength : 0
Convert To Grayscale : True
Tone Curve Name : Linear
Tone Curve Name 2012 : Strong Contrast
Camera Profile : Adobe Standard
Lens Profile Setup : LensDefaults
Has Settings : True
Has Crop : False
Already Applied : True
Tone Curve : 0, 0, 255, 255
Tone Curve Red : 0, 0, 255, 255
Tone Curve Green : 0, 0, 255, 255
Tone Curve Blue : 0, 0, 255, 255
Tone Curve PV2012 : 0, 0, 32, 16, 64, 50, 128, 128, 192, 202, 255, 255
Tone Curve PV2012 Red : 0, 0, 255, 255
Tone Curve PV2012 Green : 0, 0, 255, 255
Tone Curve PV2012 Blue : 0, 0, 255, 255
Image Width : 400
Image Height : 267
Bits Per Sample : 8
Color Components : 3
Aperture : 3.2
Image Size : 400x267
Megapixels : 0.107
Scale Factor To 35 mm Equivalent : 1.0
Shutter Speed : 1/125
Circle Of Confusion : 0.030 mm
Field Of View : 15.2 deg
Focal Length : 135.0 mm (35 mm equivalent: 135.0 mm)
Hyperfocal Distance : 189.55 m
Light Value : 9.0
Lens ID : Carl Zeiss Sonnar T* 135mm F1.8 ZA (SAL135F18Z)