Uber Exif Photo
Make : Leica Camera AG
Camera Model Name : LEICA M11
Software : Adobe Photoshop Lightroom 6.14 (Windows)
Modify Date : 2023:09:21 21:22:21
Exposure Time : 1/320
F Number : 4.0
Exposure Program : Aperture-priority AE
ISO : 800
Sensitivity Type : ISO Speed
ISO Speed : 800
Date/Time Original : 2023:08:21 10:52:06
Create Date : 2023:08:21 10:52:06
Shutter Speed Value : 1/320
Aperture Value : 4.0
Exposure Compensation : 0
Max Aperture Value : 1.0
Metering Mode : Multi-segment
Light Source : Unknown
Flash : No Flash
Color Space : sRGB
Scene Type : Directly photographed
Custom Rendered : Normal
Exposure Mode : Auto
White Balance : Auto
Digital Zoom Ratio : 0
Scene Capture Type : Standard
Contrast : Normal
Saturation : Normal
Sharpness : Normal
Serial Number : 5587795
Lens Make : Leica Camera AG
Lens Model : uncoded lens
Profile Description : sRGB IEC61966-2.1
Version ID : 02.00
Creator Tool : Adobe Photoshop Lightroom 6.14 (Windows)
Format : image/jpeg
Correction Already Applied : False
Pitch Angle : -3.3699998856
Roll Angle : 1.0529999733
Focal Length 35mm : 0.0000000000
Target Aspect Ratio : 1.5000000000
Scaling Factor Height : 1.0000000000
Valid Crop Corners : False
Apply Automatically : False
Lens : uncoded lens
Date Created : 2023:08:21 10:52:06
Version : 10.1
Process Version : 6.7
Auto White Version : 134348800
Color Temperature : 5689
Tint : +18
Luminance Smoothing : 0
Color Noise Reduction : 25
Vignette Amount : 0
Shadow Tint : 0
Red Hue : 0
Red Saturation : 0
Green Hue : 0
Green Saturation : 0
Blue Hue : 0
Blue Saturation : 0
Vibrance : +25
Hue Adjustment Red : 0
Hue Adjustment Orange : 0
Hue Adjustment Yellow : 0
Hue Adjustment Green : 0
Hue Adjustment Aqua : 0
Hue Adjustment Blue : 0
Hue Adjustment Purple : 0
Hue Adjustment Magenta : 0
Saturation Adjustment Red : 0
Saturation Adjustment Orange : +13
Saturation Adjustment Yellow : +23
Saturation Adjustment Green : +10
Saturation Adjustment Aqua : +50
Saturation Adjustment Blue : +58
Saturation Adjustment Purple : +23
Saturation Adjustment Magenta : 0
Luminance Adjustment Red : 0
Luminance Adjustment Orange : 0
Luminance Adjustment Yellow : 0
Luminance Adjustment Green : 0
Luminance Adjustment Aqua : 0
Luminance Adjustment Blue : 0
Luminance Adjustment Purple : 0
Luminance Adjustment Magenta : 0
Split Toning Shadow Hue : 0
Split Toning Shadow Saturation : 0
Split Toning Highlight Hue : 0
Split Toning Highlight Saturation : 0
Split Toning Balance : 0
Parametric Shadows : 0
Parametric Darks : 0
Parametric Lights : +10
Parametric Highlights : +60
Parametric Shadow Split : 25
Parametric Midtone Split : 50
Parametric Highlight Split : 75
Sharpen Radius : +1.0
Sharpen Detail : 25
Sharpen Edge Masking : 0
Post Crop Vignette Amount : 0
Grain Amount : 0
Color Noise Reduction Detail : 50
Color Noise Reduction Smoothness : 50
Lens Profile Enable : 0
Lens Manual Distortion Amount : 0
Perspective Vertical : 0
Perspective Horizontal : 0
Perspective Rotate : 0.0
Perspective Scale : 100
Perspective Aspect : 0
Perspective Upright : Off
Perspective X : 0.00
Perspective Y : 0.00
Auto Lateral CA : 0
Exposure 2012 : +0.26
Contrast 2012 : 0
Highlights 2012 : -100
Shadows 2012 : 0
Whites 2012 : -100
Blacks 2012 : -20
Clarity 2012 : +30
Defringe Purple Amount : 0
Defringe Purple Hue Lo : 30
Defringe Purple Hue Hi : 70
Defringe Green Amount : 0
Defringe Green Hue Lo : 40
Defringe Green Hue Hi : 60
Dehaze : 0
Tone Map Strength : 0
Convert To Grayscale : False
Tone Curve Name : Linear
Tone Curve Name 2012 : Linear
Camera Profile : Adobe Standard
Lens Profile Setup : LensDefaults
Has Settings : True
Crop Top : 0.273669
Crop Left : 0
Crop Bottom : 0.831331
Crop Right : 1
Crop Angle : 0
Crop Constrain To Warp : 0
Has Crop : True
Already Applied : True
Derived From Version ID : 02.00
Normalized Crop Corners : 0.0000000000, 0.0000000000, 1.0000000000, 0.0000000000, 1.0000000000, 1.0000000000, 0.0000000000, 1.0000000000
Tone Curve : 0, 0, 255, 255
Tone Curve Red : 0, 0, 255, 255
Tone Curve Green : 0, 0, 255, 255
Tone Curve Blue : 0, 0, 255, 255
Tone Curve PV2012 : 0, 0, 255, 255
Tone Curve PV2012 Red : 0, 0, 255, 255
Tone Curve PV2012 Green : 0, 0, 255, 255
Tone Curve PV2012 Blue : 0, 0, 255, 255
Image Width : 400
Image Height : 148
Bits Per Sample : 8
Color Components : 3
Aperture : 4.0
Image Size : 400x148
Megapixels : 0.059
Shutter Speed : 1/320
Light Value : 9.3