Uber Exif Photo
Photometric Interpretation : RGB
Make : LEICA CAMERA AG
Camera Model Name : LEICA X VARIO (Typ 107)
Orientation : Horizontal (normal)
Samples Per Pixel : 3
Software : Adobe Photoshop 26.8 (Windows)
Modify Date : 2025:07:31 03:14:26
Exposure Time : 1/80
F Number : 7.1
Exposure Program : Aperture-priority AE
ISO : 400
Date/Time Original : 2025:07:29 08:32:23
Create Date : 2025:07:29 08:32:23
Shutter Speed Value : 1/80
Aperture Value : 7.1
Exposure Compensation : -0.7
Max Aperture Value : 3.5
Metering Mode : Multi-segment
Light Source : Daylight
Flash : Off, Did not fire
Focal Length : 32.9 mm
Color Space : sRGB
Exif Image Width : 3340
Exif Image Height : 2212
Sensing Method : One-chip color area
Custom Rendered : Normal
White Balance : Manual
Digital Zoom Ratio : 1
Focal Length In 35mm Format : 50 mm
Scene Capture Type : Landscape
Contrast : High
Saturation : High
Sharpness : Soft
Creator Tool : Adobe Photoshop Lightroom Classic 14.4 (Windows)
Date Created : 2025:07:29 08:32:23
Color Mode : RGB
ICC Profile Name : sRGB IEC61966-2.1
Preserved File Name : L9612424.JPG
Format : image/jpeg
Pick : 0
Raw File Name : L9612424.JPG
Version : 17.4
Compatible Version : 268632064
Process Version : 15.4
Incremental Temperature : 0
Incremental Tint : 0
Exposure 2012 : 0.00
Contrast 2012 : 0
Highlights 2012 : -23
Shadows 2012 : 0
Whites 2012 : 0
Blacks 2012 : 0
Texture : 0
Clarity 2012 : +18
Dehaze : 0
Vibrance : +2
Parametric Shadows : 0
Parametric Darks : 0
Parametric Lights : 0
Parametric Highlights : 0
Parametric Shadow Split : 25
Parametric Midtone Split : 50
Parametric Highlight Split : 75
Luminance Smoothing : 0
Color Noise Reduction : 0
Hue Adjustment Red : 0
Hue Adjustment Orange : 0
Hue Adjustment Yellow : 0
Hue Adjustment Green : 0
Hue Adjustment Aqua : 0
Hue Adjustment Blue : 0
Hue Adjustment Purple : 0
Hue Adjustment Magenta : 0
Saturation Adjustment Red : 0
Saturation Adjustment Orange : 0
Saturation Adjustment Yellow : 0
Saturation Adjustment Green : 0
Saturation Adjustment Aqua : 0
Saturation Adjustment Blue : 0
Saturation Adjustment Purple : 0
Saturation Adjustment Magenta : 0
Luminance Adjustment Red : 0
Luminance Adjustment Orange : 0
Luminance Adjustment Yellow : 0
Luminance Adjustment Green : 0
Luminance Adjustment Aqua : 0
Luminance Adjustment Blue : 0
Luminance Adjustment Purple : 0
Luminance Adjustment Magenta : 0
Split Toning Shadow Hue : 0
Split Toning Shadow Saturation : 0
Split Toning Highlight Hue : 0
Split Toning Highlight Saturation : 0
Split Toning Balance : 0
Color Grade Midtone Hue : 0
Color Grade Midtone Sat : 0
Color Grade Shadow Lum : 0
Color Grade Midtone Lum : 0
Color Grade Highlight Lum : 0
Color Grade Blending : 50
Color Grade Global Hue : 0
Color Grade Global Sat : 0
Color Grade Global Lum : 0
Auto Lateral CA : 0
Lens Profile Enable : 0
Lens Manual Distortion Amount : 0
Vignette Amount : 0
Defringe Purple Amount : 0
Defringe Purple Hue Lo : 30
Defringe Purple Hue Hi : 70
Defringe Green Amount : 0
Defringe Green Hue Lo : 40
Defringe Green Hue Hi : 60
Perspective Upright : Off
Perspective Vertical : 0
Perspective Horizontal : 0
Perspective Rotate : 0.0
Perspective Aspect : 0
Perspective Scale : 100
Perspective X : 0.00
Perspective Y : 0.00
Grain Amount : 0
Post Crop Vignette Amount : 0
Shadow Tint : 0
Red Hue : 0
Red Saturation : 0
Green Hue : 0
Green Saturation : 0
Blue Hue : 0
Blue Saturation : 0
HDR Edit Mode : 0
Convert To Grayscale : False
Override Look Vignette : False
Tone Curve Name 2012 : Linear
Camera Profile : Embedded
Has Settings : True
Crop Top : 0.008893
Crop Left : 0
Crop Bottom : 0.991107
Crop Right : 0.982213
Crop Angle : 0
Crop Constrain To Warp : 0
Crop Constrain To Unit Square : 1
Has Crop : True
Already Applied : True
Tone Curve PV2012 : 0, 0, 255, 255
Tone Curve PV2012 Red : 0, 0, 255, 255
Tone Curve PV2012 Green : 0, 0, 255, 255
Tone Curve PV2012 Blue : 0, 0, 255, 255
Point Colors : -1.000000, -1.000000, -1.000000, -1.000000, -1.000000, -1.000000, -1.000000, -1.000000, -1.000000, -1.000000, -1.000000, -1.000000, -1.000000, -1.000000, -1.000000, -1.000000, -1.000000, -1.000000, -1.000000
Color Variance : -50.000000
Remove Areas Spot Type : heal_patchmatch
Remove Areas Source State : sourceAutoComputed
Remove Areas Opacity : 1
Remove Areas Seed : 2
Remove Areas Pm patch : EA1A8E6055650389D3A98D99F9BFCCBD
Remove Areas Pm remap info 0 : 0.001663233,0.011764706,0.000000000,1.000000000
Remove Areas Pm remap info 1 : 0.000259403,0.007080186,0.000000000,1.000000000
Remove Areas Pm remap info 2 : 0.000061036,0.005447471,0.000000000,1.000000000
Remove Areas Pm gamma type : 1
Remove Areas Pm whole image top : 0
Remove Areas Pm whole image left : 0
Remove Areas Pm whole image bottom : 3264
Remove Areas Pm whole image right : 4928
Remove Areas Pm full image top : 0
Remove Areas Pm full image left : 0
Remove Areas Pm full image bottom : 3264
Remove Areas Pm full image right : 4928
Remove Areas Pm target top : 2525
Remove Areas Pm target left : 4038
Remove Areas Pm target bottom : 2715
Remove Areas Pm target right : 4214
Remove Areas Pm search top : 2458
Remove Areas Pm search left : 3971
Remove Areas Pm search bottom : 2781
Remove Areas Pm search right : 4294
Remove Areas Pm source type : full
Remove Areas Pm version : 327680
Remove Areas Fill method : firefly
Remove Areas Pm black level : 0
Remove Areas Pm patch mask : 7123D030C00C3F0399B4C348E00E6B41
Remove Areas Pm mask remap info : 0.000000000,1.000000000,0.000000000,1.000000000
Remove Areas Pm clio model version : 1.0.5-beta.1-1.2_1.2-8c2cea4-0.1.27.1r16.2
Remove Areas Ingest Info : 30A19C1C834AC0AB0485205CD984A8D0
Remove Areas Pm remap info variation 0 0 : 0.001663233,0.011764706,0.000000000,1.000000000
Remove Areas Pm remap info variation 0 1 : 0.000244144,0.007080186,0.000000000,1.000000000
Remove Areas Pm remap info variation 0 2 : 0.000061036,0.005447471,0.000000000,1.000000000
Remove Areas Pm remap info variation 1 0 : 0.001907378,0.011764706,0.000000000,1.000000000
Remove Areas Pm remap info variation 1 1 : 0.000335698,0.007080186,0.000000000,1.000000000
Remove Areas Pm remap info variation 1 2 : 0.000061036,0.005447471,0.000000000,1.000000000
Remove Areas Pm patch variations Pm patch variation:
A6D7109A9EB804DB5C2883D866477C3F
Remove Areas Masks What : Mask/Image
Remove Areas Masks Mask Active : true
Remove Areas Masks Mask Blend Mode : 0
Remove Areas Masks Mask Inverted : false
Remove Areas Masks Mask Sync ID : 8BE9B1C1FC36D243A2749DA207634469
Remove Areas Masks Mask Value : 1
Remove Areas Masks Mask Version : 1
Remove Areas Masks Mask Sub Type : 0
Remove Areas Masks Reference Point : 0.837891 0.802360
Remove Areas Masks Whole Image Area : 0/1,0/1,1920/1,2899/1
Remove Areas Masks Origin : 2377,1487
Remove Areas Masks Full Mask Size : 2899,1920
Remove Areas Masks Model Version : 234881976
Remove Areas Masks Gesture What : Mask/Paint
Remove Areas Masks Gesture Mask Active : true
Remove Areas Masks Gesture Mask Blend Mode : 0
Remove Areas Masks Gesture Mask Inverted : false
Remove Areas Masks Gesture Mask Sync ID : 2F0E2F8C61E3534A976A3DE622304AE0
Remove Areas Masks Gesture Mask Value : 1
Remove Areas Masks Gesture Radius : 0
Remove Areas Masks Gesture Flow : 1
Remove Areas Masks Gesture Center Weight : 0
Remove Areas Masks Gesture Brush Gesture Interpretation:
0
Profile Description : sRGB IEC61966-2.1
Image Width : 400
Image Height : 265
Bits Per Sample : 8
Color Components : 3
Aperture : 7.1
Image Size : 400x265
Megapixels : 0.106
Scale Factor To 35 mm Equivalent : 1.5
Shutter Speed : 1/80
Modify Date : 2025:07:31 03:14:26-04:00
Circle Of Confusion : 0.020 mm
Field Of View : 39.6 deg
Focal Length : 32.9 mm (35 mm equivalent: 50.0 mm)
Hyperfocal Distance : 7.71 m
Light Value : 10.0